BEGIN:VCALENDAR
VERSION:2.0
PRODID:-//JCK 2026 Las Vegas — Local Booth Builder &amp; Rentals - ECPv6.15.20//NONSGML v1.0//EN
CALSCALE:GREGORIAN
METHOD:PUBLISH
X-WR-CALNAME:JCK 2026 Las Vegas — Local Booth Builder &amp; Rentals
X-ORIGINAL-URL:https://jck2026.com
X-WR-CALDESC:Events for JCK 2026 Las Vegas — Local Booth Builder &amp; Rentals
REFRESH-INTERVAL;VALUE=DURATION:PT1H
X-Robots-Tag:noindex
X-PUBLISHED-TTL:PT1H
BEGIN:VTIMEZONE
TZID:UTC
BEGIN:STANDARD
TZOFFSETFROM:+0000
TZOFFSETTO:+0000
TZNAME:UTC
DTSTART:20250101T000000
END:STANDARD
END:VTIMEZONE
BEGIN:VEVENT
DTSTART;TZID=UTC:20260226T090000
DTEND;TZID=UTC:20260228T235959
DTSTAMP:20260424T104150
CREATED:20251025T174535Z
LAST-MODIFIED:20251025T174535Z
UID:26200-1772096400-1772323199@jck2026.com
SUMMARY:NEW YORK FARM SHOW 2026
DESCRIPTION:NEW YORK FARM SHOW 2026 booth rental — Essential Exhibitor Guide & Custom Booth Options\nAbout NEW YORK FARM SHOW 2026\nVenue & Location\nSyracuse NY: Our Services\nCustom Booth Models\nFAQ\nAbout NEW YORK FARM SHOW 2026\nThe NEW YORK FARM SHOW 2026 booth rental is your gateway to engage with the leading agricultural exhibition in the Northeast. Taking place from **January 25–27\, 2026**\, at the **NYS Fairgrounds – Syracuse\, NY**\, this event showcases the latest technologies in agriculture\, including farm equipment\, tractors\, and crop protection products. Attendees will gain a wealth of knowledge about advancements in the industry while networking with key players. This year’s show will also focus on livestock and food processing industries\, making it a must-attend for anyone in the sector.\n**Key Details:**\n– **Dates:** January 25–27\, 9:00 AM–5:00 PM\n– **Location:** NYS Fairgrounds – Syracuse\, NY\n– **Country:** United States\nFor more information\, visit the official event website: [NEW YORK FARM SHOW 2026](http://www.newyorkfarmshow.com/en/home.html).\n**Industries & Audience:** This event caters to **Agriculture – Agricultural Machinery\, Livestock & Poultry\, Trucks and Utility Vehicles\, Water Management and Treatment\, Food Processing Industries\, Decision Helping Tools & Management Services**.   \nVenue & Location\nNYS Fairgrounds is located at **581 State Fair Blvd\, Syracuse\, NY**. This venue provides excellent logistics for exhibitors with convenient move-in windows and dock access facilities\, ensuring a smooth setup process.  \nSyracuse NY: Our Services\nIn Syracuse\, NY\, we DESIGN\, PRODUCE\, INSTALL\, & DISMANTLE turnkey **booth rentals**. Our offerings include everything from concept/design to modular frames\, branded SEG graphics\, and on-site installation and dismantling. Our team ensures your exhibition booth captures attention and maximizes engagement during the event.   \nCustom Booth Models\nAt Snap Exhibitions\, we provide a range of **booth models** to fit your needs perfectly. Explore our [Snap Exhibitions Custom Booth Models](https://snapexhibitions.com/works/las-vegas-custom-booth-models/) available in popular sizes like 10×10\, 10×20\, and 20×20. These footprints cater to various sectors present at the show\, allowing your booth to stand out. We also offer [full-service exhibit support](https://snapexhibitions.com/pages/services-snap-exhibitions/) to lighten your load.\nWhether you require a brushed aluminum structure or modular designs\, our solutions are tailored to ensure a memorable experience. To start planning\, [contact our team](https://snapexhibitions.com/contact-snap-exhibitions/).   \nFAQ\n**Q: What is NEW YORK FARM SHOW 2026 booth rental?**\nA: NEW YORK FARM SHOW 2026 booth rental provides a complete exhibition solution that includes design\, technology integration\, and support.\n**Q: What are the event hours and dates?**\nA: The event runs from January 25–27\, 2026\, from 9:00 AM to 5:00 PM each day.\n**Q: What booth sizes are recommended for Agriculture sectors?**\nA: We suggest sizes ranging from 10×10 for smaller showcases to 20×20 for more extensive engagements in the agriculture sector.\n**Q: Why is an aluminum booth better than wood?**\nA: Aluminum booths are lighter\, more durable\, and allow for easier customization compared to traditional wood booths\, making setup and transport simpler.\n**Q: What can I expect during the NEW YORK FARM SHOW 2026?**\nA: Expect to see innovations in farm technology\, engage with industry experts\, and explore networking opportunities at NYS Fairgrounds in Syracuse.\n**Q: How can Snap Exhibitions help make everything perfect about my booth?**\nA: Our team specializes in turnkey booth rentals to ensure every detail is taken care of\, allowing you to focus on engaging with your audience at the event.   \nIn conclusion\, the NEW YORK FARM SHOW 2026 booth rental offers an essential opportunity for exhibitors to market their products and services effectively. Connect with us at Snap Exhibitions to elevate your presence at this premier event! Explore your options and [contact our team](https://snapexhibitions.com/contact-snap-exhibitions/) today!
URL:https://jck2026.com/event/new-york-farm-show-2026/
CATEGORIES:Agriculture - Agricultural Machinery,Decision Helping Tools & Management Services,Food Processing Industries,Livestock & Poultry,Trucks and Utility Vehicles,Water Management and Treatment
END:VEVENT
BEGIN:VEVENT
DTSTART;TZID=UTC:20260226T090000
DTEND;TZID=UTC:20260228T235959
DTSTAMP:20260424T104151
CREATED:20251026T214844Z
LAST-MODIFIED:20251026T214844Z
UID:26350-1772096400-1772323199@jck2026.com
SUMMARY:NATIONAL MONEY SHOW 2026
DESCRIPTION:NATIONAL MONEY SHOW 2026 — Exhibitor Guide & Premium Booth Options\nAbout NATIONAL MONEY SHOW 2026\nNATIONAL MONEY SHOW 2026 booth rental is essential for collectors\, hobbyists\, and numismatics enthusiasts. This event showcases millions in rare coins and numismatic treasures\, giving exhibitors and visitors unparalleled opportunities to buy\, sell\, and trade with hundreds of coin dealers. Attendees can also attend insightful lectures and presentations from noted numismatists\, learning about the value of their old coins and more. \nKey Details:  Dates: Jan 25–27\, 2026\, 9:00 AM–5:00 PM  Location: Savannah\, GA  Address: USA  Country: United States \nIndustries & Audience: Collectors – Hobby. \nVenue & Location\nJoin us at the NATIONAL MONEY SHOW 2026 in Savannah\, GA\, USA. This venue is conveniently located with easy access for exhibitors and visitors. Although details on specific logistics are not provided\, exhibitors can expect typical move-in windows and dock access for setup and installation. \nIf you have questions\, you can reach out at: [Phone is not provided]. \nSavannah\, GA: Our Services\nWe DESIGN\, PRODUCE\, INSTALL & DISMANTLE turnkey booth rentals in Savannah\, GA. Our booth rentals encompass comprehensive services including concept/design\, modular frames\, branded SEG graphics\, reception/storage areas\, TV mounts\, and on-site installation and dismantling (I&D). \nCustom Booth Models\nWe offer several popular footprints that fit perfectly for nose-to-nose interactions at the NATIONAL MONEY SHOW 2026. Our 10×10 and 10×20 booths are great for exhibitors looking to create an impactful presence while remaining within budget. Additionally\, our larger 20×20 booths are ideal for those dedicated to showcasing extensive collections or those seeking larger audience engagement. Check out our Snap Exhibitions Custom Booth Models for ideas.\nFor comprehensive support\, we provide full-service exhibit support\, ensuring your success at every level. To learn more about how we can assist\, contact our team. \nFAQ\nWhat is involved in NATIONAL MONEY SHOW 2026 booth rental?\nNATIONAL MONEY SHOW 2026 booth rental involves creating an engaging space for showcasing numismatic treasures while providing services like setup and design for a seamless experience. \nWhat are the event dates and hours for NATIONAL MONEY SHOW 2026?\nIt will take place from January 25–27\, 2026\, from 9:00 AM to 5:00 PM each day. \nWhat recommended booth sizes are ideal for Collectors – Hobby sectors?\nFor the Collectors – Hobby sectors\, popular booth sizes include 10×10 and 10×20\, as they allow for effective display and interaction. \nWhy is an aluminum booth better than wood?\nAluminum booths are typically lighter\, more durable\, and easier to transport compared to wood\, making them a practical choice for exhibitors.\nWhat can you tell me about Savannah\, GA?\nSavannah\, GA is known for its scenic beauty and historical significance\, making it an excellent backdrop for events like the NATIONAL MONEY SHOW 2026. \nHow can SNAP EXHIBITIONS help ensure my booth is perfect?\nAt SNAP EXHIBITIONS\, we specialize in providing support from design inception to the final dismantle\, ensuring your booth is executed flawlessly. \nTo take your experience at the NATIONAL MONEY SHOW 2026 to the next level\, explore our NATIONAL MONEY SHOW 2026 booth rental options today. For personalized service\, contact our team for a consultation!
URL:https://jck2026.com/event/national-money-show-2026/
CATEGORIES:Collectors - Hobby
END:VEVENT
BEGIN:VEVENT
DTSTART;TZID=UTC:20260227T090000
DTEND;TZID=UTC:20260228T235959
DTSTAMP:20260424T104151
CREATED:20251026T205818Z
LAST-MODIFIED:20251026T205818Z
UID:26301-1772182800-1772323199@jck2026.com
SUMMARY:Mid-South Farm & Gin Show
DESCRIPTION:Mid-South Farm & Gin Show booth rental — Ultimate Exhibitor Guide & Custom Booth Options\nAbout Mid-South Farm & Gin Show\nVenue & Location\nRenasant Convention Center: Our Services\nCustom Booth Models\nFAQ\nMid-South Farm & Gin Show booth rental — Your Goals as an Exhibitor\nMid-South Farm & Gin Show booth rental provides exhibitors with a premier opportunity to showcase their products and connect with potential clients. This event attracts a diverse audience from the agriculture industry\, allowing businesses to establish valuable relationships and enhance their visibility. Attendees gain insights into the latest technologies and practices in farming and gin operations.   \n\nKey Details: Feb 24–25\, 9:00 AM–5:00 PM\nLocation: Renasant Convention Center\nUnited States\n\nIndustries & Audience: Agriculture\, Gin and Farming Machinery. \nVenue & Location\nThe Mid-South Farm & Gin Show will take place at the Renasant Convention Center\, a spacious venue that accommodates a wide range of events. With ample logistics for mov-in and dock access\, it serves as an ideal platform for exhibitors to display their displays effectively. If you have any questions\, please reach out at the provided phone number. \nRenasant Convention Center: Our Services\nWe DESIGN\, PRODUCE\, INSTALL & DISMANTLE turnkey booth rentals in this city\, ensuring a hassle-free experience for exhibitors at the Mid-South Farm & Gin Show. Our services encompass concept/design\, modular frames\, branded SEG graphics\, and essential reception/storage areas. Our offerings are tailored to meet the needs of each exhibitor. \nCustom Booth Models\nIn our Snap Exhibitions Custom Booth Models\, we offer popular footprints like 10×10\, 10×20\, and 20×20\, perfectly suited for attendees in the agriculture sector. Each model is designed to enhance visibility and engagement. \nFor those looking for comprehensive support\, our full-service exhibit support ensures you have everything you need for a successful show. If you’re interested\, feel free to contact our team for custom solutions tailored to your specifications. \nFAQ\n\nWhat is the Mid-South Farm & Gin Show booth rental?It provides a dedicated space for exhibitors to showcase their products and engage with event attendees.\nWhen does the event take place?The Mid-South Farm & Gin Show will be held from Feb 24–25\, 9:00 AM–5:00 PM.\nWhat booth size is recommended for agriculture sectors?Typically\, a 10×20 booth works well for brands wanting to maximize their visibility.\nWhy is an aluminum booth better than wood?Aluminum booths are lightweight\, durable\, and easier to transport\, minimizing set-up time; ideal for busy trade shows.\nWhat can you tell me about the Renasant Convention Center?This central location in Memphis provides excellent facilities and accessibility for exhibitors.\nWhat is the Mid-South Farm & Gin Show about?It’s a hub for the agriculture industry offering insights\, networking\, and showcasing innovation.\nHow can Snap Exhibitions help make everything perfect about their booth?We offer complete turnkey booth rental services\, ensuring every aspect from concept to dismantling is covered.\n\nMid-South Farm & Gin Show booth rental is your ultimate solution for creating an impactful display. To learn more about making your participation seamless\, contact our team today!
URL:https://jck2026.com/event/mid-south-farm-gin-show/
CATEGORIES:NULL
END:VEVENT
END:VCALENDAR