BEGIN:VCALENDAR
VERSION:2.0
PRODID:-//JCK 2026 Las Vegas — Local Booth Builder &amp; Rentals - ECPv6.15.13.1//NONSGML v1.0//EN
CALSCALE:GREGORIAN
METHOD:PUBLISH
X-ORIGINAL-URL:https://jck2026.com
X-WR-CALDESC:Events for JCK 2026 Las Vegas — Local Booth Builder &amp; Rentals
REFRESH-INTERVAL;VALUE=DURATION:PT1H
X-Robots-Tag:noindex
X-PUBLISHED-TTL:PT1H
BEGIN:VTIMEZONE
TZID:UTC
BEGIN:STANDARD
TZOFFSETFROM:+0000
TZOFFSETTO:+0000
TZNAME:UTC
DTSTART:20250101T000000
END:STANDARD
END:VTIMEZONE
BEGIN:VEVENT
DTSTART;TZID=UTC:20260417T000000
DTEND;TZID=UTC:20260419T235959
DTSTAMP:20260420T175619
CREATED:20250818T181825Z
LAST-MODIFIED:20250818T181825Z
UID:24929-1776384000-1776643199@jck2026.com
SUMMARY:YASIN 2026 — LAS VRGAS\, FL
DESCRIPTION:ALOHA The Kitchen & Bath Industry Show (KBIS) returns to Orlando…
URL:https://jck2026.com/event/yasin-2026-las-vrgas-fl/
CATEGORIES:Kitchen & Bath,Trade Show
ATTACH;FMTTYPE=image/png:https://jck2026.com/wp-content/uploads/2025/08/Zarqa-1.png
END:VEVENT
BEGIN:VEVENT
DTSTART;TZID=UTC:20260417T090000
DTEND;TZID=UTC:20260419T235959
DTSTAMP:20260420T175619
CREATED:20251023T230319Z
LAST-MODIFIED:20251023T230319Z
UID:25668-1776416400-1776643199@jck2026.com
SUMMARY:BAY BRIDGE BOAT SHOW 2026
DESCRIPTION:BAY BRIDGE BOAT SHOW 2026 booth rental — Ultimate Guide & Custom Booth Options\nAbout BAY BRIDGE BOAT SHOW 2026\nBAY BRIDGE BOAT SHOW 2026 booth rental is your essential resource for exhibitors looking to make an impact at this premier event. Located at Bay Bridge Marina in Stevensville\, MD\, this show brings together enthusiasts and professionals in the maritime industry. Attendees can explore new power boats\, sail boats\, yachts\, luxury boats\, and advanced boating technology\, making it a must-attend event for anyone passionate about boating and water sports. Key Details:  September 23–25\, 9:00 AM–5:00 PM  Bay Bridge Marina Stevensville  357 Marina Club Rd\, Stevensville\, MD 21666\, United States  Event Website. \nIndustries & Audience: Boating\, Sailing & Water Sports\, Sports\, Hunting & Fishing. \nVenue & Location\nThe event will be hosted at Bay Bridge Marina\, located at 357 Marina Club Rd\, Stevensville\, MD\, USA. The marina offers convenient access for exhibitors with ample space for set-up and logistics. This central location is ideal for showcasing your products to a large audience of boating enthusiasts. \nStevensville MD: Our Services\nWe DESIGN\, PRODUCE\, INSTALL & DISMANTLE turnkey booth rentals in Stevensville MD. Our comprehensive services include concept/design\, modular frames\, branded SEG graphics\, reception/storage areas\, TV mounts\, and on-site installation & dismantling. This ensures that your booth not only stands out but also provides a seamless experience for visitors. \nCustom Booth Models\nOur popular booth footprints\, including 10×10\, 10×20\, and 20×20 options\, are designed to cater to exhibitors in the boating categories. The 10×10 footprint is perfect for engaging one-on-one with attendees looking for bespoke information\, while the 10×20 allows for a more elaborate presentation to showcase multiple products. For larger exhibitions\, the 20×20 model provides extensive space for showcasing luxurious yachts and advanced technology. For more options\, visit our Snap Exhibitions Custom Booth Models. \nFor enhanced support throughout the show\, we offer full-service exhibit support. Our team is ready to take your visions to the next level\, ensuring every detail aligns with your brand goals. Contact our team today to learn more about how we can assist you in achieving an impactful presence at the BAY BRIDGE BOAT SHOW 2026. \nFAQ\nQ: What is BAY BRIDGE BOAT SHOW 2026 booth rental? A: BAY BRIDGE BOAT SHOW 2026 booth rental includes options to design and create custom booths specifically for exhibitors at the event\, ensuring maximum exposure. \nQ: What are the event hours/dates for BAY BRIDGE BOAT SHOW 2026? A: The event is scheduled for September 23–25\, 2026\, from 9:00 AM to 5:00 PM daily. \nQ: What booth sizes are recommended for the boating and water sports sectors? A: Popular booth sizes for this sector include 10×10 for small displays\, 10×20 for more extensive product showcases\, and 20×20 for large-scale presentations. \nQ: Why is an aluminum booth better than wood? A: Aluminum booths are generally lighter\, more durable\, and easier to transport\, making them ideal for trade shows where mobility is key. \nQ: What services does SNAP EXHIBITIONS provide in Stevensville? A: We offer a full range of turnkey booth rental services including design\, installation\, and dismantling in Stevensville MD. \nQ: How can SNAP EXHIBITIONS help make everything perfect for my booth? A: We partner with exhibitors to provide tailored design\, logistics planning\, and on-site support to ensure your booth stands out and meets all your exhibiting goals. \nDon’t miss out on the opportunity to make a memorable impact at the BAY BRIDGE BOAT SHOW 2026 booth rental. Let us help you achieve success and make sure your exhibition stands out. Contact us today to start planning your perfect booth!
URL:https://jck2026.com/event/bay-bridge-boat-show-2026/
CATEGORIES:Boating,Hunting & Fishing,Sailing & Water Sports,Sports
END:VEVENT
BEGIN:VEVENT
DTSTART;TZID=UTC:20260417T090000
DTEND;TZID=UTC:20260419T235959
DTSTAMP:20260420T175619
CREATED:20251025T081628Z
LAST-MODIFIED:20251025T081628Z
UID:26065-1776416400-1776643199@jck2026.com
SUMMARY:SUNCOAST BOAT SHOW 2026
DESCRIPTION:SUNCOAST BOAT SHOW 2026 booth rental — Ultimate Exhibitor Guide & Custom Booth Options\nAbout SUNCOAST BOAT SHOW 2026\nSUNCOAST BOAT SHOW 2026 booth rental is an essential opportunity for exhibitors looking to showcase their brands to thousands of boating enthusiasts in Sarasota. The event features hundreds of boats ranging from 8-foot inflatables to superyachts\, alongside a variety of marine electronics\, products\, and accessories. Exhibitors can engage directly with potential customers in a vibrant atmosphere\, gaining visibility and making connections that matter. Key Details include: Apr 20–22\, 2026 (10:00 AM–6:00 PM)\, Marina Jack’s\, 2 Marina Plaza Sarasota\, FL 34236\, United States. \nIndustries & Audience: This year’s event prominently features exhibitors from the Boating\, Sailing & Water Sports\, Sports\, Tourism – Travel sectors. \nVenue & Location\nSUNCOAST BOAT SHOW 2026 will take place at Marina Jack’s\, located at 2 Marina Plaza Sarasota\, FL 34236\, United States. Expect smooth logistics with easy move-in windows and dock access facilitating exhibitors. \nFor inquiries\, feel free to reach out via phone. \nSarasota FL: Our Services\nWe DESIGN\, PRODUCE\, INSTALL & DISMANTLE turnkey booth rentals in Sarasota FL. Our comprehensive approach includes concept/design\, modular frames\, branded SEG graphics\, reception/storage\, and TV mounts\, ensuring a seamless setup tailored to your needs. \nCustom Booth Models\nExplore our Snap Exhibitions Custom Booth Models\, perfect for multiple show layouts. Popular options include: \n\n10×10 booths: Ideal for startups showcasing key products.\n10×20 booths: A great fit for brands with a bit more to display.\n20×20 booths: Perfect for companies aiming for significant exposure.\n\nOur booths enhance attendee engagement\, aligning perfectly with the diverse audience present in this category\, driven by quality and creativity. \nFor full-service exhibit support\, we ensure every detail is accounted for to make your show presence impactful. \nFor any assistance with setup\, feel free to contact our team. \nFAQ\n\nWhat are the SUNCOAST BOAT SHOW 2026 booth rental options?\nWe offer a variety of customizable booth rentals suitable for any exhibitor needs.\nWhat are the dates and hours for the SUNCOAST BOAT SHOW 2026?\nThe event runs from Apr 20–22\, 2026\, from 10:00 AM to 6:00 PM.\nWhat booth sizes do you recommend for the boating sector?\nWe typically recommend 10×20 or 20×20 booths for brands wanting substantial display space.\nWhy is an aluminum booth better than wood?\nAluminum is lightweight\, durable\, and allows for more versatile designs\, making setup easier.\nWhat can you tell me about Sarasota and the SUNCOAST BOAT SHOW?\nSarasota is a vibrant boating community\, and the SUNCOAST BOAT SHOW 2026 is one of its key events\, drawing in many enthusiasts.\nHow can SNAP EXHIBITIONS help ensure my booth makes an impact?\nWe offer complete turnkey solutions that cover all aspects of your exhibition from design to dismantling\, ensuring everything is perfect.\n\nLet us assist you with our SUNCOAST BOAT SHOW 2026 booth rental. Contact our team today to elevate your exhibition experience!
URL:https://jck2026.com/event/suncoast-boat-show-2026/
CATEGORIES:Boating,Sailing & Water Sports,Sports,Tourism - Travel
END:VEVENT
BEGIN:VEVENT
DTSTART;TZID=UTC:20260418T090000
DTEND;TZID=UTC:20260422T235959
DTSTAMP:20260420T175619
CREATED:20251024T173926Z
LAST-MODIFIED:20251024T173926Z
UID:26007-1776502800-1776902399@jck2026.com
SUMMARY:NAB RADIO SHOW 2026
DESCRIPTION:NAB RADIO SHOW 2026 booth rental — Essential Guide & Custom Booth Options\nAbout NAB RADIO SHOW 2026\nNAB RADIO SHOW 2026 booth rental is essential for exhibitors looking to make a significant impact in the Broadcasting\, Television & Entertainment\, Sound & Image Technologies\, Multimedia Technologies sectors. This annual event\, taking place at the Las Vegas Convention Center\, is where industry leaders converge to experience innovation in action and harness the power of possibility. The show’s vibrant environment offers unparalleled networking opportunities\, showcasing the latest advancements and trends within the broadcasting and media landscape. \n\nKey Details: Apr 18–20\, 9:00 AM–5:00 PM\nLocation: Las Vegas Convention Center\nAddress: 3150 Paradise Road\, Las Vegas\, NV 89109\, USA\nCountry: United States\n\nVenue & Location\nThe event will be hosted at the Las Vegas Convention Center\, renowned for its spacious layout and excellent facilities. This venue provides efficient logistics for move-in windows and dock access\, making it ideal for exhibitors preparing for the show. For queries\, you can reach out at the provided phone number. \nLas Vegas NV: Our Services\nIn Las Vegas NV\, we DESIGN\, PRODUCE\, INSTALL & DISMANTLE turnkey booth rentals. Our services include concept and design development\, modular frames\, branded SEG graphics\, reception and storage solutions\, and TV mount installations—all tailored to your needs. We ensure that your exhibitor goals are met with excellence and creativity. \nCustom Booth Models\nExplore our Snap Exhibitions Custom Booth Models that perfectly cater to the NAB Radio Show audience. Popular footprints like 10×10\, 10×20\, and 20×20 are recommended for showcasing technological innovations and networking effectively in the broadcasting sector. Each design prioritizes visitor engagement and operational efficiency. \nFor comprehensive assistance\, check out our full-service exhibit support. Ready to elevate your presence? Contact our team for tailored solutions. \nFAQ\nQ1: What is NAB RADIO SHOW 2026 booth rental? \nA: NAB RADIO SHOW 2026 booth rental provides exhibitors with the opportunity to showcase their products and services in a dynamic environment focused on broadcasting innovation. \nQ2: What are the event hours for NAB RADIO SHOW 2026? \nA: The event will take place from April 18–20\, 2026\, with hours from 9:00 AM to 5:00 PM each day. \nQ3: What are the recommended booth sizes for broadcasting sectors? \nA: We recommend booth sizes of 10×10 for smaller displays\, and 10×20 or 20×20 for those needing additional space for demos and engagement. \nQ4: Why is an aluminum booth better than wood? \nA: Aluminum booths are lighter\, more durable\, and provide design flexibility compared to traditional wooden booths\, making them ideal for dynamic trade show environments. \nQ5: How does NAB RADIO SHOW connect with exhibitors? \nA: The NAB RADIO SHOW offers numerous networking opportunities\, enabling exhibitors to connect with key industry professionals and potential clients. \nQ6: How can SNAP EXHIBITIONS help make everything perfect about my booth? \nA: We specialize in turnkey booth rentals\, ensuring every detail is handled smoothly\, from design to installation\, providing you peace of mind at the trade show. \nWith NAB RADIO SHOW 2026 booth rental\, we guarantee a seamless experience tailored to your needs. Explore our offerings and visit us at the event for an impactful presence. For any inquiries\, contact us today!
URL:https://jck2026.com/event/nab-radio-show-2026/
CATEGORIES:Broadcasting,Multimedia Technologies,Sound & Image Technologies,Television & Entertainment
END:VEVENT
BEGIN:VEVENT
DTSTART;TZID=UTC:20260418T090000
DTEND;TZID=UTC:20260422T235959
DTSTAMP:20260420T175619
CREATED:20251024T173949Z
LAST-MODIFIED:20251024T173949Z
UID:26008-1776502800-1776902399@jck2026.com
SUMMARY:NAB SHOW 2026
DESCRIPTION:NAB Show 2026 Booth Rental — Essential Exhibitor Guide & Custom Booth Options\nAbout NAB Show 2026\nWe offer NAB Show 2026 booth rental services to make your presence impactful at this major event in Las Vegas. The NAB Show is the must-attend event for broadcasting\, media\, and entertainment professionals. Attendees can discover new innovations\, form valuable connections\, and see the brands delivering cutting-edge solutions. Key Details: April 24–27\, 9:00 AM–5:00 PM\, Las Vegas Convention Center\, 3150 Paradise Road\, Las Vegas\, NV 89109\, United States. Want to learn more? Check the official NAB Show website. \nIndustries & Audience: Broadcasting\, Television & Entertainment\, Multimedia Technologies\, Video Games – Interactive Entertainment. \nVenue & Location\nThe event will be hosted at the Las Vegas Convention Center\, located at 3150 Paradise Road\, Las Vegas\, NV 89109\, United States. The venue offers ample logistics capabilities\, including dock access for smooth move-in and move-out of exhibits. If you need assistance with logistics or have questions\, feel free to reach us at the contact number provided. \nLas Vegas NV: Our Services\nWe DESIGN\, PRODUCE\, INSTALL & DISMANTLE turnkey booth rentals in Las Vegas. Our full-service offerings include concept and design\, modular frames\, branded SEG graphics\, storage solutions\, and on-site installation & dismantling. \nCustom Booth Models\nAt NAB Show 2026\, we provide various booth footprints to cater to any exhibitor’s needs. Our popular options include: \n\n10×10: Ideal for small businesses wanting to make an impactful presentation in a compact space. Perfect for showcasing new tech or interactive installations.\n10×20: This footprint allows for more elaborate displays and is excellent for mid-sized sponsors needing a balance of space and engagement.\n20×20: Best suited for larger exhibitors with impressive setups designed to attract significant foot traffic and highlight multiple products or innovations.\n\nWith a focus on delivering quality\, we encourage you to explore our offerings: Snap Exhibitions Custom Booth Models\, and learn more about our full-service exhibit support. For questions or to initiate your project\, contact our team. \nFAQ\n1. What is NAB Show 2026 Booth Rental?It involves renting a booth specifically designed for exhibiting at the NAB Show 2026 event in Las Vegas\, ensuring you have all the necessary tools for an impactful presence. \n2. What are the event hours for NAB Show 2026?The event runs from April 24 to April 27\, 9:00 AM to 5:00 PM each day. \n3. What booth sizes are recommended for the Broadcasting\, Television & Entertainment sectors?We recommend starting with a 10×20 or 20×20 booth\, allowing for greater engagement and product showcase space. \n4. Why is an aluminum booth better than wood?Aluminum booths are generally more durable\, lightweight\, and can be designed to create a modern aesthetic compared to traditional wood booths. \n5. What tips do you have for exhibitors in Las Vegas?Being prepared with your logistics and having engaging content ready for potential clients can significantly boost your success. \n6. What should I expect at NAB Show 2026?The event will showcase the latest advancements in broadcasting\, multimedia\, and entertainment technologies. Networking opportunities abound! \n7. How can Snap Exhibitions help make everything perfect about my booth?We handle all aspects from design to installation\, ensuring a stress-free and successful exhibition experience. \nTo ensure your impact at NAB Show 2026\, explore our NAB Show 2026 booth rental options. Our team is ready to help you create a successful exhibit! Don’t hesitate to contact our team today!
URL:https://jck2026.com/event/nab-show-2026/
CATEGORIES:Broadcasting,Multimedia Technologies,Television & Entertainment,Video Games - Interactive Entertainment
END:VEVENT
END:VCALENDAR