BEGIN:VCALENDAR
VERSION:2.0
PRODID:-//JCK 2026 Las Vegas — Local Booth Builder &amp; Rentals - ECPv6.15.13.1//NONSGML v1.0//EN
CALSCALE:GREGORIAN
METHOD:PUBLISH
X-WR-CALNAME:JCK 2026 Las Vegas — Local Booth Builder &amp; Rentals
X-ORIGINAL-URL:https://jck2026.com
X-WR-CALDESC:Events for JCK 2026 Las Vegas — Local Booth Builder &amp; Rentals
REFRESH-INTERVAL;VALUE=DURATION:PT1H
X-Robots-Tag:noindex
X-PUBLISHED-TTL:PT1H
BEGIN:VTIMEZONE
TZID:UTC
BEGIN:STANDARD
TZOFFSETFROM:+0000
TZOFFSETTO:+0000
TZNAME:UTC
DTSTART:20250101T000000
END:STANDARD
END:VTIMEZONE
BEGIN:VEVENT
DTSTART;TZID=UTC:20260424T090000
DTEND;TZID=UTC:20260426T235959
DTSTAMP:20260420T192431
CREATED:20251023T225802Z
LAST-MODIFIED:20251023T225802Z
UID:25652-1777021200-1777247999@jck2026.com
SUMMARY:ANNAPOLIS SPRING SAILBOAT SHOW 2026
DESCRIPTION:Annapolis Spring Sailboat Show 2026 Booth Rental — Ultimate Guide\nAbout Annapolis Spring Sailboat Show 2026\nVenue & Location\nAnnapolis MD: Our Services\nCustom Booth Models\nFAQ\nAnnapolis Spring Sailboat Show 2026 — Exhibitor Guide & Custom Booth Options\nWelcome to the Annapolis Spring Sailboat Show 2026\, the premier event for the boating industry! This season\, exhibitors can explore endless opportunities to share their latest sailing equipment\, electronics\, and nautical education resources. Visitors can indulge in purchasing foul weather gear\, charters\, and everything every passionate boater needs. With an eager audience of boating enthusiasts\, this show stands as a critical platform for all those involved in the boating\, sailing\, and water sports sectors. \nKey Details: Apr 22–24\, 9:00 AM–5:00 PM\, Annapolis City Dock\, Dock St Annapolis\, MD 21401\, United States. For more information\, visit the official event page. \nIndustries & Audience: Boating\, Sailing & Water Sports\, Sports\, Hunting & Fishing. \nVenue & Location\nThe Annapolis City Dock\, located at Dock St Annapolis\, MD 21401\, provides a picturesque backdrop for the show. With easy access and ample logistics for exhibitors\, you can seamlessly move in your bespoke custom booth. \nAnnapolis MD: Our Services\nWe DESIGN\, PRODUCE\, INSTALL & DISMANTLE turnkey booth rentals in Annapolis MD. Our comprehensive offerings include concept/design\, modular frames\, branded SEG graphics\, reception/storage areas\, and TV mounts on-site. Your booth will embody a seamless experience for visitors and allow you to connect effectively with your target audience. \nCustom Booth Models\nAt our show\, we provide a range of popular booth sizes that suit various exhibitor needs. Our Snap Exhibitions Custom Booth Models cater to 10×10\, 10×20\, and 20×20 configurations\, ensuring you maximize your reach. Our offerings help attendees engage effectively with exhibitors across the boating and water sports category. For an all-inclusive experience\, explore our full-service exhibit support. \nFAQ\n\nWhat is Annapolis Spring Sailboat Show 2026 booth rental? Booth rental provides exhibitors with a professional space to showcase their products and services at the show. It is designed to enhance visibility and attract visitors.\nWhat are the event hours for the show? The show runs from Apr 22–24\, 9:00 AM–5:00 PM.\nWhat booth sizes are recommended for the Boating and Water Sports sectors? Popular sizes include the 10×10 and 10×20 layouts for optimal visibility and engagement with attendees.\nWhy is an aluminum booth better than wood? Aluminum booths are lighter\, more durable\, and often more stylish than traditional wooden displays\, making them an excellent choice for modern exhibitions.\nWhat services can I find in Annapolis during the show? Annapolis offers plenty of accommodations\, dining options\, and local attractions for exhibitors and attendees alike.\nHow can SNAP EXHIBITIONS help make everything perfect for my booth? We ensure a seamless process from design to dismantling\, focusing on creating a customizable and impactful booth that meets your needs.\n\nDon’t miss out on the Annapolis Spring Sailboat Show 2026 booth rental opportunities—contact us today at Snap Exhibitions for a custom booth experience that enhances your exhibit’s potential!
URL:https://jck2026.com/event/annapolis-spring-sailboat-show-2026/
CATEGORIES:Boating,Hunting & Fishing,Sailing & Water Sports,Sports
END:VEVENT
BEGIN:VEVENT
DTSTART;TZID=UTC:20260425T090000
DTEND;TZID=UTC:20260426T235959
DTSTAMP:20260420T192431
CREATED:20251025T172711Z
LAST-MODIFIED:20251025T172711Z
UID:26161-1777107600-1777247999@jck2026.com
SUMMARY:ROCK ‘N’ ROLL NASHVILLE 2026
DESCRIPTION:ROCK ‘N’ ROLL NASHVILLE 2026 booth rental — Ultimate Exhibitor Guide & Custom Booth Options\nAbout ROCK ‘N’ ROLL NASHVILLE 2026\nROCK ‘N’ ROLL NASHVILLE 2026 booth rental will give you access to one of the biggest running events in the country. With options for a Marathon\, Half Marathon\, and 10K\, participants of all levels can join this thrilling festival. This event not only promotes health and fitness but also fosters a vibrant community spirit\, making it a perfect opportunity for exhibitors to connect with a diverse audience. \nKey Details:October 4–8\, Nashville\, TN\, USA \nIndustries & Audience: Sports. \nVenue & Location\nThe event takes place in Nashville\, TN\, located in the USA. Attendees can expect general logistics that accommodate large crowds\, promoting a seamless experience for both exhibitors and visitors. \nIf you have any questions\, feel free to call us! \nNashville: Our Services\nWe DESIGN\, PRODUCE\, INSTALL & DISMANTLE turnkey booth rentals in this city. Our service scope includes concept/design\, modular frames\, branded SEG graphics\, reception/storage\, TV mount\, and on-site I&D. \nCustom Booth Models\nWe offer a range of popular footprints tailored to the Sports industry: \n\n10×10 — ideal for engaging visitors with minimal space\, perfect for product showcases.\n10×20 — benefits exhibitors looking to create a larger presence and engage deeply.\n20×20 — enhances visibility and interaction space significantly for major launches.\n\nExplore our Snap Exhibitions Custom Booth Models to see what we can create for your needs. \nFor comprehensive support\, check out our full-service exhibit support. If you’re ready to design your booth\, contact our team. \nFAQ\nQ: What is the ROCK ‘N’ ROLL NASHVILLE 2026 booth rental process?A: Our booth rental process is straightforward\, focusing on custom solutions tailored to your needs. \nQ: When is the event?A: The event runs from October 4–8. \nQ: What booth sizes are recommended for the Sports category?A: Popular choices include 10×10 for basic needs or more expansive spaces like 20×20 for brand visibility. \nQ: Why is aluminum a better choice than wood for booths?A: Aluminum is lighter\, more durable\, and offers superior design flexibility\, making it perfect for portable rentals. \nQ: What can I expect from Nashville as an event location?A: Nashville is vibrant\, filled with culture and excitement\, perfect for engaging attendees. \nQ: Can SNAP EXHIBITIONS ensure my booth’s success?A: Absolutely! We focus on creating standout booths to generate interest and engagement. \nDon’t miss out on a rewarding opportunity — secure your ROCK ‘N’ ROLL NASHVILLE 2026 booth rental today to ensure a successful experience. For any inquiries\, please contact our team.
URL:https://jck2026.com/event/rock-n-roll-nashville-2026/
CATEGORIES:Sports
END:VEVENT
BEGIN:VEVENT
DTSTART;TZID=UTC:20260425T090000
DTEND;TZID=UTC:20260426T235959
DTSTAMP:20260420T192431
CREATED:20251025T175939Z
LAST-MODIFIED:20251025T175939Z
UID:26220-1777107600-1777247999@jck2026.com
SUMMARY:THE FRANCHISE EXPO - ORLANDO 2026
DESCRIPTION:THE FRANCHISE EXPO – ORLANDO 2026 booth rental — Ultimate Guide\nAbout THE FRANCHISE EXPO – ORLANDO 2026\nWelcome to THE FRANCHISE EXPO – ORLANDO 2026 booth rental opportunities\, where exhibitors can connect with thousands of potential franchisees and business partners eager to invest. This premier event occurs from October 4–6\, 2026\, at the Orange County Convention Center in Orlando\, FL. Attendees can explore a wide range of exhibitors representing various sectors\, including Franchising\, Marketing & Selling\, Investors. Join us to discover innovative brands and business solutions! \n\nKey Details: October 4–6\, 2026\, 10:00 AM–5:00 PM\, Orange County Convention Center\, 9800 International Drive\, Orlando\, FL 32819-8199\, United States. Visit the website for more details.\n\nVenue & Location\nThe Orange County Convention Center is located at 9800 International Drive\, Orlando\, FL 32819-8199\, United States. This venue offers central access and is equipped to accommodate a variety of exhibitors. The logistics of the venue are efficient\, ensuring smooth move-in and setup for all participants. \nOrlando\, FL: Our Services\nIn Orlando\, FL\, we DESIGN\, PRODUCE\, INSTALL & DISMANTLE turnkey booth rentals. Our comprehensive services include concept design\, modular frames\, branded SEG graphics\, reception and storage areas\, TV mounts\, and on-site installation and dismantling. We’re dedicated to helping you achieve a seamless experience for your exhibition. \nCustom Booth Models\nDiscover our Snap Exhibitions Custom Booth Models\, tailored to meet the needs of exhibitors in sectors like Franchising\, Marketing & Selling\, and Investors. Popular footprints include 10×10\, 10×20\, and 20×20 options\, perfect for maximizing visibility and engagement. We also provide full-service exhibit support to ensure every detail is covered from concept to execution. For a personal approach\, contact our team to discuss your booth requirements. \nFAQ\nQ1: What are the hours for THE FRANCHISE EXPO – ORLANDO 2026?A1: The event takes place from October 4 to 6\, 2026\, from 10:00 AM to 5:00 PM each day. \nQ2: What is THE FRANCHISE EXPO – ORLANDO 2026 booth rental?A2: It’s a service we provide that allows exhibitors to rent fully operational booths designed to showcase franchises effectively during the expo. \nQ3: What booth sizes are recommended for Franchising exhibitors?A3: We recommend sizes like 10×10 and 10×20 for optimal interaction without overwhelming the floor space. \nQ4: Why choose aluminum booths over wooden ones?A4: Aluminum booths are lighter\, more durable\, and offer more design flexibility than traditional wooden booths\, making them ideal for temporary setups. \nQ5: How can we ensure a successful exhibit at this event?A5: Partnering with us allows for a well-planned exhibit that includes design\, setup\, and dismantling\, ensuring you can focus on your business goals. \nQ6: What is there to do in Orlando while attending the expo?A6: Orlando offers a variety of attractions\, from theme parks to dining experiences\, ideal for after-hours networking. \nQ7: How can SNAP EXHIBITIONS help with our booth?A7: We specialize in turnkey booth rentals\, handling everything from design to execution\, ensuring a perfect presentation at THE FRANCHISE EXPO – ORLANDO 2026 booth rental. \nFor custom solutions\, explore our offerings\, including THE FRANCHISE EXPO – ORLANDO 2026 booth rental. Reach out today at Snap Exhibitions for a seamless experience!
URL:https://jck2026.com/event/the-franchise-expo-orlando-2026/
CATEGORIES:Franchising,Investors,Marketing & Selling
END:VEVENT
BEGIN:VEVENT
DTSTART;TZID=UTC:20260426T090000
DTEND;TZID=UTC:20260430T235959
DTSTAMP:20260420T192431
CREATED:20251024T085109Z
LAST-MODIFIED:20251024T085109Z
UID:25825-1777194000-1777593599@jck2026.com
SUMMARY:SPIE DEFENSE + COMMERCIAL SENSING 2026
DESCRIPTION:SPIE DEFENSE + COMMERCIAL SENSING 2026 booth rental — Essential Guide\nAbout SPIE DEFENSE + COMMERCIAL SENSING 2026\nVenue & Location\nKissimmee FL: Our Services\nCustom Booth Models\nFAQ\nAbout SPIE DEFENSE + COMMERCIAL SENSING 2026\nThe SPIE DEFENSE + COMMERCIAL SENSING 2026 booth rental is a crucial opportunity for exhibitors in the defense\, security\, and sensing sectors. This premier exhibition and conference aims to gather the top contractors\, suppliers\, and integrators in these fields. Attendees will experience an engaging showcase where cutting-edge technologies and innovations are presented over the exhibition days.  \nKey Details:\n– **Dates:** Jan 24–26\, 2026\, 9:00 AM–5:00 PM\n– **Location:** Gaylord Palms Resort & Convention Center\n– **Address:** 6000 W Osceola Pkwy\, Kissimmee\, FL 34746\, USA   \nIndustries & Audience: **Defense – Armament\, Measurement\, Control & Testing\, Optoelectronics\, Micro & Nanotechnologies\, Security – Risk Management\, Environmental Protection**. \nVenue & Location\nThe exhibition will take place at the **Gaylord Palms Resort & Convention Center**\, conveniently situated at 6000 W Osceola Pkwy in Kissimmee\, FL\, USA. This venue provides accessible logistics for exhibitors\, including move-in options and dock access. While specific phone contact details are not provided\, the venue is well-connected for event needs. \nKissimmee FL: Our Services\nWe DESIGN\, PRODUCE\, INSTALL & DISMANTLE turnkey booth rentals in Kissimmee FL. Our services encompass a wide range of options\, including booth concept/design\, modular frames\, branded SEG graphics\, storage facilities\, TV mounts\, and comprehensive on-site installation and dismantling support. \nCustom Booth Models\nExplore our booth options tailored for the SPIE DEFENSE + COMMERCIAL SENSING 2026 event. We offer popular footprints like 10×10\, 10×20\, and 20×20 that suit various exhibitors in the defense and security sectors. Our [Snap Exhibitions Custom Booth Models](https://snapexhibitions.com/works/las-vegas-custom-booth-models/) are extensively designed to enhance visibility and engagement. Additionally\, our [full-service exhibit support](https://snapexhibitions.com/pages/services-snap-exhibitions/) ensures that every detail is taken care of from start to finish. For inquiries or to get started\, feel free to [contact our team](https://snapexhibitions.com/contact-snap-exhibitions/). \nFAQ\nQ: What is SPIE DEFENSE + COMMERCIAL SENSING 2026 booth rental?\nA: It’s an opportunity for exhibitors in the defense sector to feature their products and services prominently at a key exhibition. \nQ: What are the dates and hours for the event?\nA: The event runs from Jan 24 to 26\, 2026\, from 9:00 AM to 5:00 PM daily. \nQ: What booth sizes are recommended for the defense industries?\nA: Booths in sizes 10×20 or larger are often recommended for maximum visibility and engagement\, suitable for showcasing innovative technologies. \nQ: Why is an aluminum booth better than wood?\nA: Aluminum booths are lighter\, more durable\, and provide a modern aesthetic compared to traditional wood structures\, making them easier to transport and set up. \nQ: What is Kissimmee known for as a trade show location?\nA: Kissimmee is known for its excellent venues and accessibility\, making it a preferred location for many industry events. \nQ: What can we expect at the SPIE DEFENSE + COMMERCIAL SENSING 2026?\nA: Attendees can expect a showcase of the latest advancements in defense\, security\, and sensing technologies from top industry players. \nQ: How can SNAP EXHIBITIONS ensure everything is perfect about my booth?\nA: We offer comprehensive turnkey solutions\, from design to installation\, ensuring your booth reflects your brand and engages attendees effectively. \nIn conclusion\, SPIE DEFENSE + COMMERCIAL SENSING 2026 booth rental is an essential aspect of participation in this pivotal event. For a seamless experience\, don’t hesitate to [contact our team](https://snapexhibitions.com/contact-snap-exhibitions/) for your booth setup!
URL:https://jck2026.com/event/spie-defense-commercial-sensing-2026/
CATEGORIES:Control & Testing,Defense - Armament,Environmental Protection,Measurement,Micro & Nanotechnologies,Optoelectronics,Security - Risk Management
END:VEVENT
BEGIN:VEVENT
DTSTART;TZID=UTC:20260426T090000
DTEND;TZID=UTC:20260430T235959
DTSTAMP:20260420T192431
CREATED:20251024T085131Z
LAST-MODIFIED:20251024T085131Z
UID:25826-1777194000-1777593599@jck2026.com
SUMMARY:SPIE DEFENSE + COMMERCIAL SENSING EXPO 2026
DESCRIPTION:SPIE DEFENSE + COMMERCIAL SENSING EXPO 2026 Booth Rental — Essential Guide\nAbout SPIE DEFENSE + COMMERCIAL SENSING EXPO 2026\nSPIE DEFENSE + COMMERCIAL SENSING EXPO 2026 booth rental brings together world-class exhibitors focused on sensors\, optics\, imaging\, lasers\, and more. The event is dedicated to the defense\, security\, and industry sectors. Visitors can expect to gain invaluable insights and network with professionals in specialized fields related to the environment and defense technologies. \nKey Details: March 1–3\, 2026\, 9:00 AM–5:00 PM\, Gaylord Palms Resort & Convention Center\, 6000 W Osceola Pkwy\, Kissimmee\, FL 34746\, United States. \nIndustries & Audience: Measurement\, Control & Testing\, Optoelectronics\, Defense – Armament\, Sciences for Engineers – Research & Development. \nVenue & Location\nThe SPIE DEFENSE + COMMERCIAL SENSING EXPO 2026 will take place at the Gaylord Palms Resort & Convention Center\, located at 6000 W Osceola Pkwy\, Kissimmee\, FL\, USA. The venue is equipped with ample dock access and efficient logistics for smooth move-in. For inquiries\, you can reach the venue directly via phone. \nKissimmee FL: Our Services\nIn Kissimmee FL\, we DESIGN\, PRODUCE\, INSTALL & DISMANTLE turnkey booth rentals. Our comprehensive scope covers concept/design\, modular frames\, branded SEG graphics\, reception storage\, TV mounts and on-site installation & dismantlement services. This ensures a seamless experience for every exhibitor. \nCustom Booth Models\nOur Snap Exhibitions Custom Booth Models cater to diverse exhibitor needs. Popular footprints such as 10×10\, 10×20\, and 20×20 are tailored for sectors like measurement\, control\, and testing. Each model provides a platform for showcasing products effectively. To ensure a full support experience\, consider our full-service exhibit support for your participation. \nFor inquiries and assistance\, contact our team for tailored services that meet your specifications. \nFAQ\nQ: What is the SPIE DEFENSE + COMMERCIAL SENSING EXPO 2026 booth rental process? \nA: Our SPIE DEFENSE + COMMERCIAL SENSING EXPO 2026 booth rental process is simple; just contact us for assistance in designing your perfect booth. \nQ: When is the expo taking place? \nA: The expo will run from March 1–3\, 2026\, from 9:00 AM to 5:00 PM. \nQ: What booth sizes are recommended for businesses in the defense industry? \nA: Common recommended booth sizes for the defense sector typically include 10×20 and larger footprints to maximize visibility. \nQ: Why choose aluminum booths over wood? \nA: Aluminum booths are lighter\, durable\, and reusable\, making them a cost-effective choice compared to traditional wooden booths. \nQ: What should I know about Kissimmee for the expo? \nA: Kissimmee offers various accommodation and dining options for attendees and is centrally located for easy access to the venue. \nQ: How can SNAP EXHIBITIONS ensure my booth is perfect? \nA: SNAP EXHIBITIONS provides full support in booth design and installation\, ensuring your setup is worry-free. \nAs you prepare for SPIE DEFENSE + COMMERCIAL SENSING EXPO 2026 booth rental\, remember to explore your options with us! For more guidance\, please contact our team today for tailored solutions.
URL:https://jck2026.com/event/spie-defense-commercial-sensing-expo-2026/
CATEGORIES:Control & Testing,Defense - Armament,Measurement,Optoelectronics,Sciences for Engineers - Research & Development
END:VEVENT
END:VCALENDAR