BEGIN:VCALENDAR
VERSION:2.0
PRODID:-//JCK 2026 Las Vegas — Local Booth Builder &amp; Rentals - ECPv6.15.13.1//NONSGML v1.0//EN
CALSCALE:GREGORIAN
METHOD:PUBLISH
X-ORIGINAL-URL:https://jck2026.com
X-WR-CALDESC:Events for JCK 2026 Las Vegas — Local Booth Builder &amp; Rentals
REFRESH-INTERVAL;VALUE=DURATION:PT1H
X-Robots-Tag:noindex
X-PUBLISHED-TTL:PT1H
BEGIN:VTIMEZONE
TZID:UTC
BEGIN:STANDARD
TZOFFSETFROM:+0000
TZOFFSETTO:+0000
TZNAME:UTC
DTSTART:20250101T000000
END:STANDARD
END:VTIMEZONE
BEGIN:VEVENT
DTSTART;TZID=UTC:20260426T090000
DTEND;TZID=UTC:20260430T235959
DTSTAMP:20260420T175629
CREATED:20251024T085109Z
LAST-MODIFIED:20251024T085109Z
UID:25825-1777194000-1777593599@jck2026.com
SUMMARY:SPIE DEFENSE + COMMERCIAL SENSING 2026
DESCRIPTION:SPIE DEFENSE + COMMERCIAL SENSING 2026 booth rental — Essential Guide\nAbout SPIE DEFENSE + COMMERCIAL SENSING 2026\nVenue & Location\nKissimmee FL: Our Services\nCustom Booth Models\nFAQ\nAbout SPIE DEFENSE + COMMERCIAL SENSING 2026\nThe SPIE DEFENSE + COMMERCIAL SENSING 2026 booth rental is a crucial opportunity for exhibitors in the defense\, security\, and sensing sectors. This premier exhibition and conference aims to gather the top contractors\, suppliers\, and integrators in these fields. Attendees will experience an engaging showcase where cutting-edge technologies and innovations are presented over the exhibition days.  \nKey Details:\n– **Dates:** Jan 24–26\, 2026\, 9:00 AM–5:00 PM\n– **Location:** Gaylord Palms Resort & Convention Center\n– **Address:** 6000 W Osceola Pkwy\, Kissimmee\, FL 34746\, USA   \nIndustries & Audience: **Defense – Armament\, Measurement\, Control & Testing\, Optoelectronics\, Micro & Nanotechnologies\, Security – Risk Management\, Environmental Protection**. \nVenue & Location\nThe exhibition will take place at the **Gaylord Palms Resort & Convention Center**\, conveniently situated at 6000 W Osceola Pkwy in Kissimmee\, FL\, USA. This venue provides accessible logistics for exhibitors\, including move-in options and dock access. While specific phone contact details are not provided\, the venue is well-connected for event needs. \nKissimmee FL: Our Services\nWe DESIGN\, PRODUCE\, INSTALL & DISMANTLE turnkey booth rentals in Kissimmee FL. Our services encompass a wide range of options\, including booth concept/design\, modular frames\, branded SEG graphics\, storage facilities\, TV mounts\, and comprehensive on-site installation and dismantling support. \nCustom Booth Models\nExplore our booth options tailored for the SPIE DEFENSE + COMMERCIAL SENSING 2026 event. We offer popular footprints like 10×10\, 10×20\, and 20×20 that suit various exhibitors in the defense and security sectors. Our [Snap Exhibitions Custom Booth Models](https://snapexhibitions.com/works/las-vegas-custom-booth-models/) are extensively designed to enhance visibility and engagement. Additionally\, our [full-service exhibit support](https://snapexhibitions.com/pages/services-snap-exhibitions/) ensures that every detail is taken care of from start to finish. For inquiries or to get started\, feel free to [contact our team](https://snapexhibitions.com/contact-snap-exhibitions/). \nFAQ\nQ: What is SPIE DEFENSE + COMMERCIAL SENSING 2026 booth rental?\nA: It’s an opportunity for exhibitors in the defense sector to feature their products and services prominently at a key exhibition. \nQ: What are the dates and hours for the event?\nA: The event runs from Jan 24 to 26\, 2026\, from 9:00 AM to 5:00 PM daily. \nQ: What booth sizes are recommended for the defense industries?\nA: Booths in sizes 10×20 or larger are often recommended for maximum visibility and engagement\, suitable for showcasing innovative technologies. \nQ: Why is an aluminum booth better than wood?\nA: Aluminum booths are lighter\, more durable\, and provide a modern aesthetic compared to traditional wood structures\, making them easier to transport and set up. \nQ: What is Kissimmee known for as a trade show location?\nA: Kissimmee is known for its excellent venues and accessibility\, making it a preferred location for many industry events. \nQ: What can we expect at the SPIE DEFENSE + COMMERCIAL SENSING 2026?\nA: Attendees can expect a showcase of the latest advancements in defense\, security\, and sensing technologies from top industry players. \nQ: How can SNAP EXHIBITIONS ensure everything is perfect about my booth?\nA: We offer comprehensive turnkey solutions\, from design to installation\, ensuring your booth reflects your brand and engages attendees effectively. \nIn conclusion\, SPIE DEFENSE + COMMERCIAL SENSING 2026 booth rental is an essential aspect of participation in this pivotal event. For a seamless experience\, don’t hesitate to [contact our team](https://snapexhibitions.com/contact-snap-exhibitions/) for your booth setup!
URL:https://jck2026.com/event/spie-defense-commercial-sensing-2026/
CATEGORIES:Control & Testing,Defense - Armament,Environmental Protection,Measurement,Micro & Nanotechnologies,Optoelectronics,Security - Risk Management
END:VEVENT
BEGIN:VEVENT
DTSTART;TZID=UTC:20260426T090000
DTEND;TZID=UTC:20260430T235959
DTSTAMP:20260420T175629
CREATED:20251024T085131Z
LAST-MODIFIED:20251024T085131Z
UID:25826-1777194000-1777593599@jck2026.com
SUMMARY:SPIE DEFENSE + COMMERCIAL SENSING EXPO 2026
DESCRIPTION:SPIE DEFENSE + COMMERCIAL SENSING EXPO 2026 Booth Rental — Essential Guide\nAbout SPIE DEFENSE + COMMERCIAL SENSING EXPO 2026\nSPIE DEFENSE + COMMERCIAL SENSING EXPO 2026 booth rental brings together world-class exhibitors focused on sensors\, optics\, imaging\, lasers\, and more. The event is dedicated to the defense\, security\, and industry sectors. Visitors can expect to gain invaluable insights and network with professionals in specialized fields related to the environment and defense technologies. \nKey Details: March 1–3\, 2026\, 9:00 AM–5:00 PM\, Gaylord Palms Resort & Convention Center\, 6000 W Osceola Pkwy\, Kissimmee\, FL 34746\, United States. \nIndustries & Audience: Measurement\, Control & Testing\, Optoelectronics\, Defense – Armament\, Sciences for Engineers – Research & Development. \nVenue & Location\nThe SPIE DEFENSE + COMMERCIAL SENSING EXPO 2026 will take place at the Gaylord Palms Resort & Convention Center\, located at 6000 W Osceola Pkwy\, Kissimmee\, FL\, USA. The venue is equipped with ample dock access and efficient logistics for smooth move-in. For inquiries\, you can reach the venue directly via phone. \nKissimmee FL: Our Services\nIn Kissimmee FL\, we DESIGN\, PRODUCE\, INSTALL & DISMANTLE turnkey booth rentals. Our comprehensive scope covers concept/design\, modular frames\, branded SEG graphics\, reception storage\, TV mounts and on-site installation & dismantlement services. This ensures a seamless experience for every exhibitor. \nCustom Booth Models\nOur Snap Exhibitions Custom Booth Models cater to diverse exhibitor needs. Popular footprints such as 10×10\, 10×20\, and 20×20 are tailored for sectors like measurement\, control\, and testing. Each model provides a platform for showcasing products effectively. To ensure a full support experience\, consider our full-service exhibit support for your participation. \nFor inquiries and assistance\, contact our team for tailored services that meet your specifications. \nFAQ\nQ: What is the SPIE DEFENSE + COMMERCIAL SENSING EXPO 2026 booth rental process? \nA: Our SPIE DEFENSE + COMMERCIAL SENSING EXPO 2026 booth rental process is simple; just contact us for assistance in designing your perfect booth. \nQ: When is the expo taking place? \nA: The expo will run from March 1–3\, 2026\, from 9:00 AM to 5:00 PM. \nQ: What booth sizes are recommended for businesses in the defense industry? \nA: Common recommended booth sizes for the defense sector typically include 10×20 and larger footprints to maximize visibility. \nQ: Why choose aluminum booths over wood? \nA: Aluminum booths are lighter\, durable\, and reusable\, making them a cost-effective choice compared to traditional wooden booths. \nQ: What should I know about Kissimmee for the expo? \nA: Kissimmee offers various accommodation and dining options for attendees and is centrally located for easy access to the venue. \nQ: How can SNAP EXHIBITIONS ensure my booth is perfect? \nA: SNAP EXHIBITIONS provides full support in booth design and installation\, ensuring your setup is worry-free. \nAs you prepare for SPIE DEFENSE + COMMERCIAL SENSING EXPO 2026 booth rental\, remember to explore your options with us! For more guidance\, please contact our team today for tailored solutions.
URL:https://jck2026.com/event/spie-defense-commercial-sensing-expo-2026/
CATEGORIES:Control & Testing,Defense - Armament,Measurement,Optoelectronics,Sciences for Engineers - Research & Development
END:VEVENT
BEGIN:VEVENT
DTSTART;TZID=UTC:20260429T090000
DTEND;TZID=UTC:20260430T235959
DTSTAMP:20260420T175629
CREATED:20251025T163933Z
LAST-MODIFIED:20251025T163933Z
UID:26105-1777453200-1777593599@jck2026.com
SUMMARY:DRINKS AMERICA 2026
DESCRIPTION:Drinks America 2026 booth rental — Ultimate Exhibitor Guide & Custom Booth Options\nAbout Drinks America 2026\nDrinks America 2026 booth rental offers exhibitors the chance to showcase their products in a vibrant atmosphere\, attracting visitors from the Wine & Spirits\, Viticulture\, Beer\, Food Processing\, Catering & Hospitality industries. This event features spirits\, beer\, RTDs\, and sake from producers across the globe\, along with beverage alcohol accessories and services. \nKey Details:\nJan 28–30\, 2026\nMiami Beach Convention Center\n1901 Convention Center Drive\nUnited States \nVenue & Location\nThe event will take place at the Miami Beach Convention Center\, located at 1901 Convention Center Drive\, United States. This spacious venue provides convenient logistics for exhibitors with multiple move-in windows and accessible docking options. \nFor inquiries\, please contact us at the provided phone number. \nMiami Beach: Our Services\nWe DESIGN\, PRODUCE\, INSTALL & DISMANTLE turnkey booth rentals in Miami Beach. Our scope includes concept/design\, modular frames\, branded SEG graphics\, reception/storage areas\, TV mounts\, and on-site installation and dismantling. \nCustom Booth Models\nSome popular booth sizes include: \n\n10×10: Perfect for small brands entering the market or established businesses testing new products.\n10×20: Ideal for businesses looking to make a greater impact with a split design—ideal for product launches.\n20×20: Designed for high-traffic areas\, allowing for significant interaction and brand engagement.\n\nExplore our Snap Exhibitions Custom Booth Models. Learn more about our full-service exhibit support to ensure your booth stands out at Drinks America 2026. For assistance on making your booth perfect\, contact our team. \nFAQ\n\nWhat is Drinks America 2026 booth rental?\nDrinks America 2026 booth rental provides exhibitors with a professional space to display their products at the event.\nWhen are the event dates?\nThe event runs from Jan 28 to 30\, 2026.\nWhat are the recommended booth sizes for the food processing sectors?\nWe suggest a 10×20 or 20×20 booth for higher visibility and interaction.\nWhy is an aluminum booth better than wood?\nAluminum booths are lighter\, easier to transport\, and offer durability compared to traditional wood structures.\nWhat can I expect from the Miami Beach location?\nMiami Beach offers beautiful venues and a vibrant local culture\, making it an exciting location for events.\nHow can SNAP EXHIBITIONS help me make everything perfect about my booth?\nWe provide turnkey solutions\, ensuring everything from design to installation meets your needs for the perfect exhibition experience.\n\nFor a seamless and impactful exhibition\, remember that Drinks America 2026 booth rental is your go-to choice. Let us help you create an unforgettable booth at this premier event. Contact us today!
URL:https://jck2026.com/event/drinks-america-2026/
CATEGORIES:Catering & Hospitality Industries,Food Processing Industries,Wine & Spirits - Viticulture & Enology - Beer
END:VEVENT
BEGIN:VEVENT
DTSTART;TZID=UTC:20260429T090000
DTEND;TZID=UTC:20260430T235959
DTSTAMP:20260420T175629
CREATED:20251025T164002Z
LAST-MODIFIED:20251025T164002Z
UID:26106-1777453200-1777593599@jck2026.com
SUMMARY:VINEXPO AMERICA 2026
DESCRIPTION:VINEXPO AMERICA 2026 — Exhibitor Guide & Custom Booth Options\nAbout VINEXPO AMERICA 2026\nVINEXPO AMERICA 2026 booth rental is essential for anyone attending this premier trade show in Miami Beach. This event focuses exclusively on wines\, spotlighting representatives from the world’s top-producing regions. Exhibitors and visitors alike gain insights into the latest trends and opportunities in the Wine & Spirits\, Viticulture & Enology\, Beer\, Food Processing\, Catering & Hospitality Industries. The event showcases a diverse range of products\, offers extensive networking possibilities\, and allows attendees to establish valuable industry connections. \n\nKey Details:Feb 26–28\, 2026\, 10:00 AM–5:00 PMMiami Beach Convention Center1901 Convention Center Drive\, Miami Beach\, United States\n\nVenue & Location\nThe Miami Beach Convention Center is located at 1901 Convention Center Drive in the vibrant city of Miami Beach\, United States. The venue is well-equipped to handle large events\, with ample space for exhibitors and convenient logistics for move-in and move-out activities. \nFor more information\, feel free to reach out via phone or visit the official website. \nMiami Beach: Our Services\nIn Miami Beach\, we DESIGN\, PRODUCE\, INSTALL & DISMANTLE turnkey booth rentals. Our services encompass concept/design\, modular frames\, branded SEG graphics\, storage/reception areas\, and TV mounts. We ensure that your exhibit stands out and showcases your brand effectively. \nCustom Booth Models\nWe offer various popular booth footprints\, such as 10×10\, 10×20\, and 20×20 options\, which cater to attendees in the wine and spirits sectors. These models are designed to attract visitors and maximize engagement with the products showcased. \nFor more information on booth options\, check out our Snap Exhibitions Custom Booth Models and our full-service exhibit support. If you’re ready to start planning\, contact our team today! \nFAQ\n\nWhat is VINEXPO AMERICA 2026 booth rental?VINEXPO AMERICA 2026 booth rental offers exhibitors a chance to showcase their products effectively at this leading trade show.\nWhat are the event hours and dates?VINEXPO AMERICA 2026 runs from Feb 26–28\, 2026\, from 10:00 AM to 5:00 PM each day.\nWhat booth sizes do you recommend for the Wine & Spirits sectors?Popular sizes include 10×10 and 10×20\, accommodating various presentation needs and ensuring maximum outreach.\nWhy is an aluminum booth better than wood?Aluminum booths are lighter\, more durable\, and provide a modern aesthetic compared to traditional wood constructions.\nWhat can I expect at VINEXPO AMERICA 2026?This event will feature a range of exhibitors and products\, with networking events to connect industry professionals.\nWhat are the benefits of attending this event in Miami Beach?Miami Beach is a vibrant destination\, offering not only great event facilities but also a thriving cultural experience.\nHow can SNAP EXHIBITIONS help me make everything perfect about my booth?We provide comprehensive support throughout the entire process\, ensuring your booth meets every requirement for a successful event.\n\nFor your next successful exhibit\, consider VINEXPO AMERICA 2026 booth rental. Let’s make your exhibition a memorable one! Contact us today!
URL:https://jck2026.com/event/vinexpo-america-2026/
CATEGORIES:Catering & Hospitality Industries,Food Processing Industries,Wine & Spirits - Viticulture & Enology - Beer
END:VEVENT
BEGIN:VEVENT
DTSTART;TZID=UTC:20260429T090000
DTEND;TZID=UTC:20260430T235959
DTSTAMP:20260420T175629
CREATED:20251025T164746Z
LAST-MODIFIED:20251025T164746Z
UID:26120-1777453200-1777593599@jck2026.com
SUMMARY:THE BUSINESS SHOW - MIAMI 2026
DESCRIPTION:THE BUSINESS SHOW – MIAMI 2026 Booth Rental — Essential Guide\nAbout THE BUSINESS SHOW – MIAMI 2026\nVenue & Location\nMiami: Our Services\nCustom Booth Models\nFAQ\nAbout THE BUSINESS SHOW – MIAMI 2026\nTHE BUSINESS SHOW – MIAMI 2026 booth rental is a great opportunity for exhibitors to showcase their innovations and services effectively. This event attracts a vibrant community of businesses eager to learn and expand. Visitors can expect to gain crucial insights that will help their ventures thrive\, making this trade show an unmissable event. \nThe Business Show facilitates growth by providing a platform for small businesses to connect with industry leaders. You will hear from experts in various fields offering the best tips\, tricks\, and advice designed to elevate your business to the next level. \nKey Details:\nSep 26–27\, 9:00 AM–5:00 PM\nMiami Beach Convention Center\n1901 Convention Center Drive\, Miami Beach\, United States\nEvent Website \nIndustries & Audience: Marketing & Selling\, Subcontracting\, Suppliers & Partners\, Sciences for Engineers – Research & Development \nVenue & Location\nThe Business Show will take place at the Miami Beach Convention Center located at 1901 Convention Center Drive\, Miami Beach\, United States. Exhibitors should prepare accordingly to ensure smooth logistics\, including move-in windows and dock access. \nMiami: Our Services\nWe DESIGN\, PRODUCE\, INSTALL & DISMANTLE turnkey booth rentals in Miami. Our services cover concept/design\, modular frames\, branded SEG graphics\, as well as reception/storage and TV mounts. We ensure that your booth stands out while providing a cohesive experience to attendees and exhibitors alike. \nCustom Booth Models\nExplore our Snap Exhibitions Custom Booth Models to find the perfect fit for your display needs. Our popular booth sizes include: \n\n10×10: Ideal for freelancers or startups showcasing products or services.\n10×20: A great option for businesses wanting more space for interaction.\n20×20: Perfect for larger companies to present comprehensive offers and attract significant attention.\n\nCheck out our full-service exhibit support to ensure your booth delivers impact and clarity. \nFAQ\n\nWhat is the duration of THE BUSINESS SHOW – MIAMI 2026? The event runs from Sep 26–27\, 9:00 AM–5:00 PM.\nWhat does a THE BUSINESS SHOW – MIAMI 2026 booth rental include? Our rentals include setup\, dismantle\, and all essential amenities tailored to your needs.\nWhat are recommended booth sizes for Marketing & Selling? Typically\, we suggest 10×10 or 10×20 booths for adequate engagement and visibility.\nWhy is an aluminum booth better than wood? Aluminum is lighter\, more durable\, and offers greater customization options for displays.\nWhat can I expect from the Miami Business Show? Expect insightful workshops\, networking opportunities\, and face-to-face interactions with industry leaders.\nHow can SNAP EXHIBITIONS help me make everything perfect for my booth? We provide comprehensive services—from concept design to on-site installation—to ensure your booth stands out.\n\nIn conclusion\, THE BUSINESS SHOW – MIAMI 2026 booth rental is your chance to effectively present your brand and connect with potential clients. For an exceptional experience that ensures success at this impactful event\, don’t hesitate to contact our team today!
URL:https://jck2026.com/event/the-business-show-miami-2026/
CATEGORIES:Marketing & Selling,Sciences for Engineers - Research & Development,Subcontracting,Suppliers & Partners
END:VEVENT
END:VCALENDAR