BEGIN:VCALENDAR
VERSION:2.0
PRODID:-//JCK 2026 Las Vegas — Local Booth Builder &amp; Rentals - ECPv6.15.13.1//NONSGML v1.0//EN
CALSCALE:GREGORIAN
METHOD:PUBLISH
X-WR-CALNAME:JCK 2026 Las Vegas — Local Booth Builder &amp; Rentals
X-ORIGINAL-URL:https://jck2026.com
X-WR-CALDESC:Events for JCK 2026 Las Vegas — Local Booth Builder &amp; Rentals
REFRESH-INTERVAL;VALUE=DURATION:PT1H
X-Robots-Tag:noindex
X-PUBLISHED-TTL:PT1H
BEGIN:VTIMEZONE
TZID:UTC
BEGIN:STANDARD
TZOFFSETFROM:+0000
TZOFFSETTO:+0000
TZNAME:UTC
DTSTART:20250101T000000
END:STANDARD
END:VTIMEZONE
BEGIN:VEVENT
DTSTART;TZID=UTC:20260504T090000
DTEND;TZID=UTC:20260507T235959
DTSTAMP:20260420T192231
CREATED:20251025T174519Z
LAST-MODIFIED:20251025T174519Z
UID:26199-1777885200-1778198399@jck2026.com
SUMMARY:OTC (OFFSHORE TECHNOLOGY CONFERENCE) 2026
DESCRIPTION:OTC (OFFSHORE TECHNOLOGY CONFERENCE) 2026 Booth Rental — Ultimate Exhibitor Guide\n#show\nAbout OTC (OFFSHORE TECHNOLOGY CONFERENCE) 2026\nOTC (OFFSHORE TECHNOLOGY CONFERENCE) 2026 booth rental is an ideal opportunity for exhibitors in the oil and gas\, energy production\, spatial information systems\, and environmental protection sectors. This leading event provides immense value for visitors and exhibitors alike\, showcasing the latest innovations and technologies in offshore resource development. \nFrom May 2–5\, 2026\, at NRG Park\, located at One NRG Park\, Houston\, Texas 77054\, USA\, attendees will have the chance to explore advancements in drilling\, exploration\, production\, and environmental protection. For more information on the event\, visit the official website. \nKey Details: \n\nDate: May 2–5\, 2026\, 9:00 AM–5:00 PM\nLocation: NRG Park\, One NRG Park\, Houston\, Texas 77054\, USA\nCountry: United States\n\nIndustries & Audience: This event caters to professionals from the Oil & Gas\, Energy Production & Transportation\, Spatial Information Systems\, Environmental Protection sectors. \n#venue\nVenue & Location\nNRG Park is conveniently located at One NRG Park\, Houston\, Texas 77054\, USA. This venue offers excellent accessibility with ample move-in logistics and dock access to facilitate smooth operations for exhibitors. If you need assistance\, feel free to reach out via phone. \n#city-services\nHouston Texas: Our Services\nWe DESIGN\, PRODUCE\, INSTALL & DISMANTLE turnkey booth rentals in this city. Our comprehensive services include concept and design\, modular frames\, branded SEG graphics\, reception and storage\, TV mounts\, and on-site installation and dismantling. \n#booth-models\nCustom Booth Models\nExplore our Snap Exhibitions Custom Booth Models designed for the OTC audience. Our offerings include popular booth footprints such as 10×10\, 10×20\, and 20×20. Each design is curated to enhance engagement for attendees in the Oil & Gas and Environmental Protection industries. For additional support\, consider our full-service exhibit support that ensures a seamless experience from start to finish. For inquiries\, contact our team. \n#faq\nFAQ\n\nWhat is OTC (OFFSHORE TECHNOLOGY CONFERENCE) 2026 booth rental?\nOTC (OFFSHORE TECHNOLOGY CONFERENCE) 2026 booth rental provides exhibitors a platform to showcase their offerings at one of the premier events in offshore technology.\nWhat are the event hours for OTC (OFFSHORE TECHNOLOGY CONFERENCE) 2026?\nThe event runs from May 2–5\, 2026\, daily from 9:00 AM to 5:00 PM.\nWhat booth sizes are recommended for Oil & Gas sectors?\nBooth sizes like 10×20 and 20×20 are recommended to provide adequate space for demonstrations and engagement.\nWhy is an aluminum booth better than wood?\nAluminum is lightweight\, durable\, and offers a sleek finish\, making it easier to transport and set up while also being more environmentally friendly.\nWhat can I expect from OTC in Houston?\nExpect to engage with industry leaders\, discover cutting-edge technologies\, and network with professionals in the offshore sector.\nHow can SNAP EXHIBITIONS ensure everything about my booth is perfect?\nWe excel in providing comprehensive support and customizations tailored to meet your needs\, ensuring a flawless exhibition experience.\n\nFor your next exhibition at OTC (OFFSHORE TECHNOLOGY CONFERENCE) 2026\, consider our booth rental options to maximize your impact. Reach out to us at OTC (OFFSHORE TECHNOLOGY CONFERENCE) 2026 booth rental and let us help you succeed! Visit contact us today!
URL:https://jck2026.com/event/otc-offshore-technology-conference-2026/
CATEGORIES:Energy Production & Transportation,Environmental Protection,Oil & Gas,Spatial Information Systems
END:VEVENT
BEGIN:VEVENT
DTSTART;TZID=UTC:20260504T090000
DTEND;TZID=UTC:20260507T235959
DTSTAMP:20260420T192231
CREATED:20251026T210330Z
LAST-MODIFIED:20251026T210330Z
UID:26313-1777885200-1778198399@jck2026.com
SUMMARY:WATS ORLANDO (WORLD AVIATION TRAINING CONFERENCE AND TRADESHOW) 2026
DESCRIPTION:WATS ORLANDO booth rental — Exhibitor Guide & Premium Options\nAbout WATS ORLANDO\nWATS ORLANDO booth rental is your gateway to the World Aviation Training Conference and Tradeshow\, offering enhanced visibility and networking opportunities for exhibitors in the aeronautics and education sectors. From September 30 to October 2\, 2026\, this prestigious event will be held at the Rosen Shingle Creek Resort in Orlando\, Florida. This tradeshow connects industry leaders and innovators\, providing insights into the latest training technologies. \nKey Details: \n\nDate: Sep 30 – Oct 2\, 2026 (9:00 AM – 5:00 PM)\nLocation: Rosen Shingle Creek Resort\, 9939 Universal Blvd.\, Orlando\, FL\, USA\n\nThe event caters to the Aeronautics – Space\, Education & Training sectors\, making it a focal point for professionals looking to enhance their skills and knowledge. \nVenue & Location\nThe WATS ORLANDO will take place in the expansive halls of the Rosen Shingle Creek Resort\, conveniently located in Orlando. The venue offers excellent logistics for exhibitors\, including ample move-in and dock access\, ensuring a seamless setup experience. The resort’s amenities add a touch of luxury\, making it an ideal setting for networking. \nIf you have questions\, please reach out at the provided contact number. \nOrlando FL: Our Services\nIn Orlando\, we DESIGN\, PRODUCE\, INSTALL & DISMANTLE turnkey booth rentals. Our offerings include concept/design creation\, modular frames\, branded SEG graphics\, reception areas\, storage solutions\, TV mounts\, and on-site installation and dismantle services tailored to your needs. \nCustom Booth Models\nWe invite you to explore our Snap Exhibitions Custom Booth Models. Popular footprints include: \n\n10×10: Ideal for maximizing visibility in smaller spaces\, perfect for educational engagements.\n10×20: Provides an excellent balance of space and accessibility for engaging with attendees.\n20×20: Offers ample room for interactions\, designed for viewers in the aeronautics sector.\n\nThese sizes cater to the specific needs of the attendees in the aeronautics and training categories\, ensuring effective communication during the tradeshow. For full-service exhibit support\, we’re here for you from the planning stages to post-event dismantling. \nFAQ\n\nWhat is WATS ORLANDO booth rental?WATS ORLANDO booth rental provides exhibitors with a streamlined way to showcase their offerings at the World Aviation Training Conference and Tradeshow.\nWhat are the event hours and dates?The event will take place from Sep 30 to Oct 2\, 2026\, from 9:00 AM to 5:00 PM.\nWhat booth sizes do you recommend for the aeronautics sector?We recommend booth sizes of 10×10 for limited space\, 10×20 for moderate interactions\, and 20×20 for maximum engagement.\nWhy is an aluminum booth better than wood?Aluminum booths are lighter\, more durable\, and easier to transport\, significantly enhancing your setup experience.\nWhat services does Orlando offer to exhibitors?This city provides extensive exhibition services including logistics\, accommodation\, and post-event support.\nWhat can I expect from the WATS ORLANDO event?The event offers unique networking opportunities with industry leaders and showcases the latest in aviation training technologies.\nHow can SNAP EXHIBITIONS help make my booth perfect?We offer comprehensive turnkey booth rental solutions to ensure your exhibition experience is flawless\, from design to execution. You can contact our team for tailored support.\n\nWe look forward to supporting your success at WATS ORLANDO booth rental. For more information\, please contact our team today!
URL:https://jck2026.com/event/wats-orlando-world-aviation-training-conference-and-tradeshow-2026/
CATEGORIES:Aeronautics - Space,Education & Training
END:VEVENT
BEGIN:VEVENT
DTSTART;TZID=UTC:20260505T090000
DTEND;TZID=UTC:20260507T235959
DTSTAMP:20260420T192231
CREATED:20251024T094015Z
LAST-MODIFIED:20251024T094015Z
UID:25911-1777971600-1778198399@jck2026.com
SUMMARY:CONNECTIONS 2026
DESCRIPTION:CONNECTIONS 2026 booth rental — Exhibitor Guide & Custom Booth Options\nAbout CONNECTIONS 2026\nCONNECTIONS 2026 booth rental offers exhibitors a chance to delve into the latest innovations in digital home technologies. This international executive conference draws attendees passionate about the connected home\, evolving from a niche concept to a mass-market revolution with significant revenue opportunities. Key Details: 2026-01-01 – 2026-01-03\, Hyatt Regency\, 5101 Great America Pkwy\, Santa Clara\, CA 95054\, United States. For more details\, please visit the official website. \nIndustries & Audience: Household Appliances – Domestic Appliance Technology\, Consumers Electronics\, Sound & Image Technologies\, Multimedia Technologies\, Telecommunications\, Computers Networks\, Internet & Intranet\, Home Show\, Decision Helping Tools & Management Services. \nVenue & Location\nThe Hyatt Regency\, located at 5101 Great America Pkwy\, Santa Clara\, CA 95054\, United States\, will host CONNECTIONS 2026. It features an accessible venue with adequate move-in windows and dock access for a smooth setup experience. \nSanta Clara\, CA: Our Services\nIn Santa Clara\, we DESIGN\, PRODUCE\, INSTALL & DISMANTLE turnkey booth rentals. Our services cover every aspect\, including concept/design\, modular frames\, branded SEG graphics\, reception/storage solutions\, and TV mounts\, ensuring a hassle-free experience for exhibitors. \nCustom Booth Models\nOur Snap Exhibitions Custom Booth Models cater to various footprints\, such as 10×10\, 10×20\, and 20×20\, designed to fit attendees’ needs in the technology sectors listed. Each model focuses on ease of assembly and impactful display capabilities to engage your audience effectively. \nWe also provide full-service exhibit support\, offering support from the initial design to the final dismantle. \nIf you’re planning your exhibit\, please contact our team to discuss the best options available. \nFAQ\n1. What is CONNECTIONS 2026 booth rental?CONNECTIONS 2026 booth rental allows companies to showcase their cutting-edge technologies effectively during this innovative conference. \n2. When is the event?The event runs from January 1 to January 3\, 2026. \n3. What booth sizes do you recommend for technology sectors?We typically recommend 10×20 or 20×20 booths to maximize visibility and engagement in such sectors. \n4. Why are aluminum booths better than wood?Aluminum booths are lightweight\, durable\, and can be easily reconfigured\, unlike wood\, which is heavier and not as versatile. \n5. What are some highlights of Santa Clara?Santa Clara is known for its technological innovations and vibrant tech community\, making it the perfect backdrop for CONNECTIONS 2026. \n6. How can SNAP EXHIBITIONS help make my booth perfect?We specialize in turnkey booth rentals\, ensuring every detail is taken care of\, from design to execution\, allowing you to focus on connecting with your audience. \nIn summary\, CONNECTIONS 2026 booth rental provides an impactful platform for showcasing your innovations in a thriving technology hub. Don’t miss this opportunity—contact our team today at Snap Exhibitions!
URL:https://jck2026.com/event/connections-2026/
CATEGORIES:Computers Networks,Consumers Electronics,Decision Helping Tools & Management Services,Home Show,Household Appliances - Domestic Appliance Technology,Internet & Intranet,Multimedia Technologies,Sound & Image Technologies,Telecommunications
END:VEVENT
BEGIN:VEVENT
DTSTART;TZID=UTC:20260505T090000
DTEND;TZID=UTC:20260507T235959
DTSTAMP:20260420T192231
CREATED:20251024T180423Z
LAST-MODIFIED:20251024T180423Z
UID:26051-1777971600-1778198399@jck2026.com
SUMMARY:DISPLAY WEEK - SID 2026
DESCRIPTION:DISPLAY WEEK – SID 2026 booth rental — Ultimate Guide\nAbout DISPLAY WEEK – SID 2026\nVenue & Location\nLos Angeles CA: Our Services\nCustom Booth Models\nFAQ\n\nDISPLAY WEEK – SID 2026\nDISPLAY WEEK – SID 2026 booth rental is essential for those looking to make a significant impact at this prominent event. Taking place in Los Angeles\, CA\, this exhibition serves as a major hub for professionals in the Sound & Image Technologies and related fields. Visitors and exhibitors alike can gain insights into cutting-edge advancements such as OLED displays\, advanced LCDs\, and digital signage technologies. \n\nKey Details:\nDate: Dec 31\, 2026 – Jan 3\, 2027\nLocation: Los Angeles\, CA\nCountry: United States\n\nThe event promises a comprehensive experience with various exhibitors showcasing innovations in the electronic design and components sector. Attendees are encouraged to explore the vibrant environment and enrich their understanding of consumer electronics. \nIndustries & Audience: Sound & Image Technologies\, Optoelectronics\, Electronic Design & Components\, Consumers Electronics. \n\n\nVenue & Location\nThe DISPLAY WEEK – SID 2026 will be held at the prestigious venue in Los Angeles\, CA. Nearby transportation options provide easy access for exhibitors and visitors alike. While specific logistics such as move-in windows will be communicated closer to the event date\, the venue typically accommodates a variety of booth setups to enhance exhibitor experiences. \nFor inquiries\, feel free to call our team. \n\n\nLos Angeles CA: Our Services\nWe are proud to offer turnkey booth rentals in Los Angeles CA\, where we DESIGN\, PRODUCE\, INSTALL & DISMANTLE all aspects of booth setup. Our services include concept/design\, modular frames\, branded SEG graphics\, reception/storage solutions\, and TV mount installations\, ensuring a seamless experience for exhibitors. \n\n\nCustom Booth Models\nOur popular booth footprints\, such as 10×10\, 10×20\, and 20×20\, cater to the various needs of exhibitors within the Sound & Image Technologies category. Whether it’s a bustling 10×10 booth for networking or a more expansive 20×20 area for product demonstrations\, we ensure the optimal setup for prospective clients. Our Snap Exhibitions Custom Booth Models offer versatility and style\, tailored to your unique branding. \nOur commitment extends to providing full-service exhibit support\, allowing you to focus on connecting with visitors while we handle the logistics. For more details\, contact our team today. \n\n\nFAQ\nWhat is DISPLAY WEEK – SID 2026 booth rental?\nDISPLAY WEEK – SID 2026 booth rental provides exhibitors with a professionally designed space to showcase their products and connect with visitors. \nWhen does the event take place?\nDISPLAY WEEK – SID 2026 occurs from Dec 31\, 2026\, to Jan 3\, 2027. \nWhat are the recommended booth sizes for exhibitors?\nPopular booth sizes include 10×10 for individual demos\, or larger models like 10×20 for more comprehensive showcases. \nWhy is an aluminum booth better than a wood booth?\nAn aluminum booth is lighter\, more durable\, and can be designed more flexibly compared to traditional wood options. \nWhat can I expect in Los Angeles during DISPLAY WEEK – SID 2026?\nLos Angeles offers a vibrant atmosphere for networking and exploring new technologies\, providing ample opportunities for exhibitors. \nHow can SNAP EXHIBITIONS help perfect my booth?\nWe ensure that every detail of your booth is seamlessly managed\, from concept to dismantling\, allowing you to focus on making impactful connections. \n\nDon’t miss out on securing your DISPLAY WEEK – SID 2026 booth rental—contact us today at Snap Exhibitions!
URL:https://jck2026.com/event/display-week-sid-2026/
CATEGORIES:Consumers Electronics,Electronic Design & Components,Optoelectronics,Sound & Image Technologies
END:VEVENT
BEGIN:VEVENT
DTSTART;TZID=UTC:20260505T090000
DTEND;TZID=UTC:20260507T235959
DTSTAMP:20260420T192231
CREATED:20251025T081458Z
LAST-MODIFIED:20251025T081458Z
UID:26061-1777971600-1778198399@jck2026.com
SUMMARY:HD EXPO + CONFERENCE 2026
DESCRIPTION:HD EXPO + CONFERENCE 2026 — Exhibitor Guide & Ultimate Booth Options\nAbout HD EXPO + CONFERENCE 2026\nHD EXPO + CONFERENCE 2026 booth rental offers opportunities for exhibitors in the hospitality design industry. This show is more than a showcase; it creates longstanding business relationships\, inspires new concepts\, and drives product innovation. Held from Jan 29–31\, 2026\, 10:00 AM–6:00 PM at the Mandalay Bay Convention Center\, 3950 Las Vegas Blvd. South\, Las Vegas\, United States\, this event is essential for those in Catering & Hospitality Industries\, Retail & Shop Fitting Equipment & Service\, Architecture\, Decoration\, Home & Office Design\, Furniture\, Lighting. Visit the official site for more details: HD Expo. \nVenue & Location\nThe Mandalay Bay Convention Center\, located at 3950 Las Vegas Blvd. South\, Las Vegas\, United States\, is a premier venue that provides robust logistics for exhibitors including ample dock access and convenient move-in windows. \nLas Vegas: Our Services\nIn Las Vegas\, we DESIGN\, PRODUCE\, INSTALL & DISMANTLE turnkey booth rentals. Our services ensure that your exhibit stands out. We offer concept/design services with modular frames\, branded SEG graphics\, and detailed functionality including reception/storage and TV mounts\, making your booth appealing and effective. \nCustom Booth Models\nConsider our popular booth footprints\, such as Snap Exhibitions Custom Booth Models. A 10×10 booth is great for smaller displays\, while a 10×20 setup allows for more interactive engagement without overwhelming visitors. Our 20×20 layouts offer maximum visibility and space for larger presentations. Each model is designed to resonate with the catering\, retail\, and design sectors. We provide full-service exhibit support to ensure a seamless experience and impact on your target audience. For personalized options\, contact our team. \nFAQ\nQ1: What is HD EXPO + CONFERENCE 2026 booth rental?A: HD EXPO + CONFERENCE 2026 booth rental offers exhibitors essential space and services to showcase products in the hospitality design industry. \nQ2: What are the event hours for HD EXPO + CONFERENCE 2026?A: The event runs from Jan 29–31\, 2026\, from 10:00 AM to 6:00 PM. \nQ3: What booth sizes are recommended for the Catering and Hospitality Industries?A: For catering and hospitality sectors\, a 10×20 booth size provides the right balance of space and engagement without overcrowding. \nQ4: Why is an aluminum booth better than a wood booth?A: Aluminum booths offer superior durability\, flexibility in design\, and lightweight benefits\, making them easier to transport and assemble while maintaining a polished look. \nQ5: What unique features can we expect at HD Expo in Las Vegas?A: HD Expo showcases the latest in hospitality design\, innovation\, and networking opportunities that can transform business relationships in unique ways. \nQ6: Why choose the Mandalay Bay Convention Center for HD Expo?A: Mandalay Bay offers prime access to hotel amenities\, restaurants\, and leisure activities\, enhancing the overall experience for exhibitors and attendees alike. \nQ7: How can Snap Exhibitions help me create the perfect booth for HD Expo?A: We provide full turnkey solutions for booth rentals in Las Vegas\, from design to dismantle\, ensuring your presence at HD EXPO + CONFERENCE 2026 is impactful and seamless. \nConsider the HD EXPO + CONFERENCE 2026 booth rental for your exhibiting needs this January. We are committed to delivering impactful and effective booth experiences in Las Vegas. For more details on how we can assist\, contact our team.
URL:https://jck2026.com/event/hd-expo-conference-2026/
CATEGORIES:Architecture,Catering & Hospitality Industries,Decoration,Furniture,Home & Office Design,Lighting,Retail & Shop Fitting Equipment & Service
END:VEVENT
BEGIN:VEVENT
DTSTART;TZID=UTC:20260505T090000
DTEND;TZID=UTC:20260507T235959
DTSTAMP:20260420T192231
CREATED:20251025T174044Z
LAST-MODIFIED:20251025T174044Z
UID:26188-1777971600-1778198399@jck2026.com
SUMMARY:NBAA MAINTENANCE CONFERENCE 2026
DESCRIPTION:NBAA MAINTENANCE CONFERENCE 2026 booth rental — Essential Guide\nTable of Contents\n\nAbout NBAA MAINTENANCE CONFERENCE 2026\nVenue & Location\nNew Orleans\, LA: Our Services\nCustom Booth Models\nFAQ\n\nAbout NBAA MAINTENANCE CONFERENCE 2026\nNBAA MAINTENANCE CONFERENCE 2026 booth rental is perfect for professionals seeking growth in the business aviation sector. This conference brings together a diverse audience involved in business aircraft maintenance\, creating an essential networking platform. Attendees\, ranging from technicians to directors\, will gain vital education and insights that contribute to industry advancements. \nKey Details: September 1–3\, 2026\, New Orleans\, LA\, USA. \nIndustries & Audience: Aeronautics – Space\, Quality & Maintenance\, Security – Risk Management\, Subcontracting\, Suppliers & Partners. \nVenue & Location\nThe NBAA MAINTENANCE CONFERENCE 2026 will take place at New Orleans\, LA\, a prime location for business networking. The venue is equipped with essential logistics such as move-in windows and dock access for seamless logistics. \nFor inquiries\, please contact us at {Phone}. \nNew Orleans\, LA: Our Services\nWe DESIGN\, PRODUCE\, INSTALL & DISMANTLE turnkey booth rentals in New Orleans\, LA. Our scope includes concept/design\, modular frames\, branded SEG graphics\, reception/storage\, and TV mount setups—tailored for exhibitors in the aeronautics sector. \nCustom Booth Models\nAt the NBAA MAINTENANCE CONFERENCE 2026\, we offer various popular booth footprints such as 10×10\, 10×20\, and 20×20. Each design caters to the needs of exhibitors\, providing ample space and visibility to connect with attendees in the aeronautics industry. For models exploring innovative designs\, check our Snap Exhibitions Custom Booth Models. \nTo ensure full engagement and support for your booth\, explore our full-service exhibit support options tailored to your specific needs. For any custom requests\, feel free to contact our team. \nFAQ\nQ: What is the NBAA MAINTENANCE CONFERENCE 2026 booth rental? A: This service provides exhibitors with comprehensive booth design and construction for the NBAA MAINTENANCE CONFERENCE 2026. \nQ: When does the conference take place? A: The conference runs from September 1 to September 3\, 2026. \nQ: What booth sizes are recommended for aeronautics sectors? A: Popular options include 10×10 for smaller displays\, and 20×20 for larger engagements. \nQ: Why is an aluminum booth better than wood? A: Aluminum is lighter\, more durable\, and allows for more intricate designs\, making it a preferred choice for modern exhibits. \nQ: What can you tell me about New Orleans? A: New Orleans is known for its vibrant culture\, making it an excellent location for networking and event hosting. \nQ: How can SNAP EXHIBITIONS help make everything perfect about the booth? A: We provide tailored solutions for design\, production\, installation\, and dismantling to meet your specific exhibit needs efficiently. \nNBAA MAINTENANCE CONFERENCE 2026 booth rental is your gateway to impactful connections and essential exposure in the industry. Don’t hesitate to contact our team to get started with your booth rental today!
URL:https://jck2026.com/event/nbaa-maintenance-conference-2026/
CATEGORIES:Aeronautics - Space,Quality & Maintenance,Security - Risk Management,Subcontracting,Suppliers & Partners
END:VEVENT
BEGIN:VEVENT
DTSTART;TZID=UTC:20260507T090000
DTEND;TZID=UTC:20260509T235959
DTSTAMP:20260420T192231
CREATED:20251026T214912Z
LAST-MODIFIED:20251026T214912Z
UID:26351-1778144400-1778371199@jck2026.com
SUMMARY:ALSMS ANNUAL CONFERENCE ON ENERGY-BASED MEDICINE & SCIENCE 2026
DESCRIPTION:ALSMS ANNUAL CONFERENCE ON ENERGY-BASED MEDICINE & SCIENCE 2026 booth rental — Essential Guide!\nAbout ALSMS ANNUAL CONFERENCE ON ENERGY-BASED MEDICINE & SCIENCE 2026\nALSMS ANNUAL CONFERENCE ON ENERGY-BASED MEDICINE & SCIENCE 2026 booth rental is perfect for exhibitors looking to showcase innovative equipment and technologies within the medical and surgical industries. This conference promises to provide unparalleled insights into the advancements in energy-based technologies. Exhibitors will have the chance to network with health professionals and unveil their latest products and solutions. \nKey Details: \n\nDates: Jan 3–4\, 2026\nLocation: Savannah\, GA\nCountry: United States\n\nIndustries & Audience: Companies focusing on Equipments & Technologies for Medical and Surgery\, Laboratory Equipment & Technologies\, Health Professionals\, Optoelectronics should prioritize this event for maximum exposure. \nVenue & Location\nThe conference will take place in Savannah\, GA\, USA. Attendees should prepare for accessible logistics\, including convenient move-in windows and easy dock access for booth assembly. \nSavannah\, GA: Our Services\nIn Savannah\, GA\, we DESIGN\, PRODUCE\, INSTALL & DISMANTLE turnkey booth rentals. Our services encompass concept/design\, modular frames\, branded SEG graphics\, and on-site installation and dismantle support. \nCustom Booth Models\nWe offer various popular booth footprints including: \n\n10×10 – Ideal for showcasing innovative medical equipment.\n10×20 – Provides more space for detailed presentations and demonstrations.\n20×20 – Excellent for larger displays and attracting more foot traffic.\n\nFor more examples\, check out our Snap Exhibitions Custom Booth Models. \nIn addition\, we ensure that every aspect of your booth aligns with the needs of your sector through our full-service exhibit support. Our commitment is to help you make an impact. \nFAQ\nQ: What kind of booths can I rent for the ALSMS ANNUAL CONFERENCE ON ENERGY-BASED MEDICINE & SCIENCE 2026?A: You can choose from various styles\, including our popular 10×10\, 10×20\, and 20×20 booth designs tailored for showcasing medical and surgical equipment. \nQ: When is the ALSMS ANNUAL CONFERENCE ON ENERGY-BASED MEDICINE & SCIENCE 2026?A: The event takes place from January 3–4\, 2026. \nQ: Why should I choose aluminum booths over wood?A: Aluminum booths are lighter\, more durable\, and can be easily modified\, making them more versatile for trade shows. \nQ: What’s Savannah known for in the trade show industry?A: Savannah is known for its historic charm and vibrant trade show scene\, attracting various industries. \nQ: How can SNAP EXHIBITIONS ensure everything runs smoothly for my booth?A: Our team handles all aspects\, from design to dismantle\, ensuring a seamless experience for exhibitors. \nIn conclusion\, ALSMS ANNUAL CONFERENCE ON ENERGY-BASED MEDICINE & SCIENCE 2026 booth rental is your chance to connect with professionals and promote your latest innovations. For more information on how we can help make your exhibit impactful\, contact our team today!
URL:https://jck2026.com/event/alsms-annual-conference-on-energy-based-medicine-science-2026/
CATEGORIES:Equipments & Technologies for Medical and Surgery,Health Professionals,Laboratory Equipment & Technologies,Optoelectronics
END:VEVENT
END:VCALENDAR