BEGIN:VCALENDAR
VERSION:2.0
PRODID:-//JCK 2026 Las Vegas — Local Booth Builder &amp; Rentals - ECPv6.15.13.1//NONSGML v1.0//EN
CALSCALE:GREGORIAN
METHOD:PUBLISH
X-WR-CALNAME:JCK 2026 Las Vegas — Local Booth Builder &amp; Rentals
X-ORIGINAL-URL:https://jck2026.com
X-WR-CALDESC:Events for JCK 2026 Las Vegas — Local Booth Builder &amp; Rentals
REFRESH-INTERVAL;VALUE=DURATION:PT1H
X-Robots-Tag:noindex
X-PUBLISHED-TTL:PT1H
BEGIN:VTIMEZONE
TZID:UTC
BEGIN:STANDARD
TZOFFSETFROM:+0000
TZOFFSETTO:+0000
TZNAME:UTC
DTSTART:20250101T000000
END:STANDARD
END:VTIMEZONE
BEGIN:VEVENT
DTSTART;TZID=UTC:20260507T090000
DTEND;TZID=UTC:20260509T235959
DTSTAMP:20260420T192248
CREATED:20251026T214912Z
LAST-MODIFIED:20251026T214912Z
UID:26351-1778144400-1778371199@jck2026.com
SUMMARY:ALSMS ANNUAL CONFERENCE ON ENERGY-BASED MEDICINE & SCIENCE 2026
DESCRIPTION:ALSMS ANNUAL CONFERENCE ON ENERGY-BASED MEDICINE & SCIENCE 2026 booth rental — Essential Guide!\nAbout ALSMS ANNUAL CONFERENCE ON ENERGY-BASED MEDICINE & SCIENCE 2026\nALSMS ANNUAL CONFERENCE ON ENERGY-BASED MEDICINE & SCIENCE 2026 booth rental is perfect for exhibitors looking to showcase innovative equipment and technologies within the medical and surgical industries. This conference promises to provide unparalleled insights into the advancements in energy-based technologies. Exhibitors will have the chance to network with health professionals and unveil their latest products and solutions. \nKey Details: \n\nDates: Jan 3–4\, 2026\nLocation: Savannah\, GA\nCountry: United States\n\nIndustries & Audience: Companies focusing on Equipments & Technologies for Medical and Surgery\, Laboratory Equipment & Technologies\, Health Professionals\, Optoelectronics should prioritize this event for maximum exposure. \nVenue & Location\nThe conference will take place in Savannah\, GA\, USA. Attendees should prepare for accessible logistics\, including convenient move-in windows and easy dock access for booth assembly. \nSavannah\, GA: Our Services\nIn Savannah\, GA\, we DESIGN\, PRODUCE\, INSTALL & DISMANTLE turnkey booth rentals. Our services encompass concept/design\, modular frames\, branded SEG graphics\, and on-site installation and dismantle support. \nCustom Booth Models\nWe offer various popular booth footprints including: \n\n10×10 – Ideal for showcasing innovative medical equipment.\n10×20 – Provides more space for detailed presentations and demonstrations.\n20×20 – Excellent for larger displays and attracting more foot traffic.\n\nFor more examples\, check out our Snap Exhibitions Custom Booth Models. \nIn addition\, we ensure that every aspect of your booth aligns with the needs of your sector through our full-service exhibit support. Our commitment is to help you make an impact. \nFAQ\nQ: What kind of booths can I rent for the ALSMS ANNUAL CONFERENCE ON ENERGY-BASED MEDICINE & SCIENCE 2026?A: You can choose from various styles\, including our popular 10×10\, 10×20\, and 20×20 booth designs tailored for showcasing medical and surgical equipment. \nQ: When is the ALSMS ANNUAL CONFERENCE ON ENERGY-BASED MEDICINE & SCIENCE 2026?A: The event takes place from January 3–4\, 2026. \nQ: Why should I choose aluminum booths over wood?A: Aluminum booths are lighter\, more durable\, and can be easily modified\, making them more versatile for trade shows. \nQ: What’s Savannah known for in the trade show industry?A: Savannah is known for its historic charm and vibrant trade show scene\, attracting various industries. \nQ: How can SNAP EXHIBITIONS ensure everything runs smoothly for my booth?A: Our team handles all aspects\, from design to dismantle\, ensuring a seamless experience for exhibitors. \nIn conclusion\, ALSMS ANNUAL CONFERENCE ON ENERGY-BASED MEDICINE & SCIENCE 2026 booth rental is your chance to connect with professionals and promote your latest innovations. For more information on how we can help make your exhibit impactful\, contact our team today!
URL:https://jck2026.com/event/alsms-annual-conference-on-energy-based-medicine-science-2026/
CATEGORIES:Equipments & Technologies for Medical and Surgery,Health Professionals,Laboratory Equipment & Technologies,Optoelectronics
END:VEVENT
BEGIN:VEVENT
DTSTART;TZID=UTC:20260508T090000
DTEND;TZID=UTC:20260510T235959
DTSTAMP:20260420T192248
CREATED:20251024T094229Z
LAST-MODIFIED:20251024T094229Z
UID:25916-1778230800-1778457599@jck2026.com
SUMMARY:INDY POP CON 2026
DESCRIPTION:INDY POP CON 2026 Booth Rental — Essential Exhibitor Guide\nAbout INDY POP CON 2026\nINDY POP CON 2026 is an exciting event focusing on Video Games – Interactive Entertainment\, comics\, cosplay\, and much more. Attendees can enjoy a range of activities\, including gaming\, animation\, music performances\, and themed merchandise. This vibrant gathering allows both visitors and exhibitors to engage deeply within a diverse entertainment landscape. Some highlights include eSports competitions\, podcasting panels\, and horror & sci-fi movie screenings. \n\nKey Details: Jun 30 – Jul 2\, 10:00 AM – 6:00 PM\, Indiana Convention Center\, 100 S Capitol Ave. Indianapolis\, IN 46225\, United States\, Official Event Page.\n\nThe Industries & Audience at this event span various areas\, including Broadcasting\, Television & Entertainment\, Music\, Toys & Games. \nVenue & Location\nThe INDY POP CON 2026 will be held at the Indiana Convention Center\, located at 100 S Capitol Ave. Indianapolis\, IN 46225\, United States. This venue provides ample space for exhibiting and comes equipped with logistics for move-in\, including dock access. \nINDY POP CON 2026 City Services\nWe DESIGN\, PRODUCE\, INSTALL & DISMANTLE turnkey booth rentals in this city. Our services encompass concept and design\, modular frames\, branded SEG graphics\, reception and storage options\, TV mounts\, and more—all tailored to make your exhibitor experience seamless and impactful. \nCustom Booth Models\nAt INDY POP CON\, we offer a variety of booth footprints\, including: \n\n10×10 Booths: Ideal for showcasing key products or brands in a compact space.\n10×20 Booths: Providing more visibility with the ability to present multiple offerings effectively.\n20×20 Booths: Excellent for larger exhibits\, accommodating elaborate displays and interactive zones.\n\nCheck out our Snap Exhibitions Custom Booth Models for tailored solutions fitted perfectly for sectors like Interactive Entertainment and Music\, along with our full-service exhibit support to ensure everything goes smoothly. For any inquiries or to begin your booth design\, contact our team. \nFAQ\n1. What is the focus of the INDY POP CON 2026 booth rental?\nINDY POP CON 2026 booth rental allows exhibitors to engage with audiences interested in Video Games – Interactive Entertainment\, Broadcasting\, and more. \n2. When will INDY POP CON 2026 be held?\nINDY POP CON 2026 is scheduled from Jun 30 to Jul 2\, with doors open from 10:00 AM to 6:00 PM each day. \n3. What booth sizes are recommended for the Video Games category?\nA 10×20 booth or larger is recommended to attract the right audience effectively\, giving space for interactive displays. \n4. Why choose an aluminum booth over wood?\nAluminum booths are lighter\, more durable\, and offer better design flexibility compared to wooden structures. \n5. What can you tell me about the services in Indianapolis?\nIndianapolis offers a vibrant atmosphere for events like INDY POP CON\, with diverse attractions for attendees. \n6. Why is INDY POP CON worth attending?\nAttending INDY POP CON provides access to networking opportunities and entertainment activities that cater to your interests.\n7. How can SNAP EXHIBITIONS help create the perfect booth?\nWe ensure a seamless and effective design\, installation\, and support process for your booth needs\, making sure everything is perfect. \nIn conclusion\, INDY POP CON 2026 booth rental allows you to create an engaging experience for visitors. Get in touch with us for an impactful setup at this exciting event! Contact our team to get started today!
URL:https://jck2026.com/event/indy-pop-con-2026/
CATEGORIES:Broadcasting,Music,Television & Entertainment,Toys & Games,Video Games - Interactive Entertainment
END:VEVENT
END:VCALENDAR