BEGIN:VCALENDAR
VERSION:2.0
PRODID:-//JCK 2026 Las Vegas — Local Booth Builder &amp; Rentals - ECPv6.15.20//NONSGML v1.0//EN
CALSCALE:GREGORIAN
METHOD:PUBLISH
X-WR-CALNAME:JCK 2026 Las Vegas — Local Booth Builder &amp; Rentals
X-ORIGINAL-URL:https://jck2026.com
X-WR-CALDESC:Events for JCK 2026 Las Vegas — Local Booth Builder &amp; Rentals
REFRESH-INTERVAL;VALUE=DURATION:PT1H
X-Robots-Tag:noindex
X-PUBLISHED-TTL:PT1H
BEGIN:VTIMEZONE
TZID:UTC
BEGIN:STANDARD
TZOFFSETFROM:+0000
TZOFFSETTO:+0000
TZNAME:UTC
DTSTART:20250101T000000
END:STANDARD
END:VTIMEZONE
BEGIN:VEVENT
DTSTART;TZID=UTC:20260511T090000
DTEND;TZID=UTC:20260514T235959
DTSTAMP:20260424T105152
CREATED:20251025T164304Z
LAST-MODIFIED:20251025T164304Z
UID:26112-1778490000-1778803199@jck2026.com
SUMMARY:AUVSI'S XPONENTIAL 2026
DESCRIPTION:AUVSI’S XPONENTIAL 2026 booth rental — Essential Exhibitor Guide\nAbout AUVSI’S XPONENTIAL 2026\nVenue & Location\nMiami Beach: Our Services\nCustom Booth Models\nFAQ\nAUVSI’S XPONENTIAL 2026 — Discover the Future of Unmanned Technologies\nAUVSI’S XPONENTIAL 2026 booth rental is key for exhibitors aiming to showcase their innovations in unmanned systems. This premier exhibition and conference\, scheduled for March 2026\, focuses on the latest advancements in technologies for air\, land\, and sea. Visitors and exhibitors will gain insights into cutting-edge solutions and establish valuable connections within the aeronautics and defense industries. \nKey Details: March 12–14\, 9:00 AM–5:00 PM Miami Beach Convention Center 1901 Convention Center Drive\, Miami Beach\, United States \nIndustries & Audience: Aeronautics – Space\, Defense – Armament\, Robotics\, Automotive Engineering – Systems & Components \nVenue & Location\nThe Miami Beach Convention Center is centrally located at 1901 Convention Center Drive\, Miami Beach\, United States. The venue offers excellent logistics for exhibitors\, including ample dock access and efficient move-in windows to facilitate a smooth setup process. If you need more information\, feel free to reach out to us. \nMiami Beach: Our Services\nIn Miami Beach\, we DESIGN\, PRODUCE\, INSTALL & DISMANTLE turnkey booth rentals. Our services include concept/design\, modular frames\, branded SEG graphics\, reception/storage options\, and TV mounts. Our skilled team is dedicated to creating an impactful experience for your exhibition. \nCustom Booth Models\nWe offer a variety of popular booth footprints perfect for your audience\, notably: \n\n10×10 ft — Ideal for startup companies or businesses testing the waters.\n10×20 ft — A popular choice providing a balance between visibility and cost-effectiveness.\n20×20 ft — Excellent for larger exhibitors needing more space to showcase multiple products.\n\nFor more options\, check out our Snap Exhibitions Custom Booth Models that cater directly to your sector. \nWe also offer full-service exhibit support to ensure your event experience is seamless. \nFAQ\nQ: What is AUVSI’S XPONENTIAL 2026 booth rental?A: AUVSI’S XPONENTIAL 2026 booth rental is designed for exhibitors participating in the leading unmanned systems exhibition. \nQ: What are the event hours for AUVSI’S XPONENTIAL 2026?A: The event runs from March 12 to 14\, with hours from 9:00 AM to 5:00 PM each day. \nQ: What recommended booth sizes are ideal for the aeronautics and defense sectors?A: Common sizes include 10×10\, 10×20\, and 20×20 ft footprints\, accommodating varied display needs. \nQ: Why is an aluminum booth better than wood?A: Aluminum booths are lighter\, more durable\, and allow for versatile design options compared to traditional wood. \nQ: What services does Snap Exhibitions provide in Miami Beach?A: We provide comprehensive booth rental solutions\, including design\, installation\, and support to ensure your display stands out effectively. \nQ: How can we contact Snap Exhibitions for assistance?A: You can contact our team for any inquiries about booth rentals and services. \nQ: What can we expect from AUVSI’S XPONENTIAL 2026 in terms of networking opportunities?A: Expect numerous opportunities to network with other exhibitors\, industry leaders\, and potential clients. \nIn conclusion\, securing your AUVSI’S XPONENTIAL 2026 booth rental now will position you for success at this pivotal event. Ensure your exhibition is a memorable one and contact our team today!
URL:https://jck2026.com/event/auvsis-xponential-2026/
CATEGORIES:Aeronautics - Space,Automotive Engineering - Systems & Components,Defense - Armament,Robotics
END:VEVENT
BEGIN:VEVENT
DTSTART;TZID=UTC:20260511T090000
DTEND;TZID=UTC:20260515T235959
DTSTAMP:20260424T105152
CREATED:20251026T215026Z
LAST-MODIFIED:20251026T215026Z
UID:26354-1778490000-1778889599@jck2026.com
SUMMARY:PEGS BOSTON 2026
DESCRIPTION:PEGS BOSTON 2026 booth rental — Essential Exhibitor Guide & Custom Booth Options\nAbout PEGS BOSTON 2026\nPEGS BOSTON 2026 booth rental is perfect for exhibitors at the Protein Engineering Summit\, an essential event in the Biotechnology\, Pharmaceuticals & Cosmetology\, and Health Professionals sectors. This impressive gathering aims to accelerate biotherapeutic protein drug development\, allowing exhibitors to connect with relevant industry stakeholders\, share innovative ideas\, and stand out. \nKey Details: Sep 4–6\, 2026\, 9:00 AM–5:00 PM Seaport World Trade Center 200 Seaport Boulevard\, Boston\, MA 02210\, United States \nJoin us at PEGS BOSTON 2026\, a hub for industry professionals seeking cutting-edge advancements in protein engineering. \nIndustries & Audience: Biotechnology\, Pharmaceuticals & Cosmetology\, Health Professionals \nVenue & Location\nPEGS BOSTON 2026 will be held at the Seaport World Trade Center\, located at 200 Seaport Boulevard in Boston\, MA. This venue offers convenient logistics for exhibitors\, enhancing the experience with central access points.  \nBoston MA: Our Services\nIn Boston MA\, we DESIGN\, PRODUCE\, INSTALL & DISMANTLE turnkey booth rentals. Our services include concept/design\, modular frames\, branded SEG graphics\, reception/storage\, and TV mounts. We ensure your booth captures the essence of PEGS BOSTON 2026\, reflecting the innovative spirit of the event. \nCustom Booth Models\nLooking for popular booth footprints? We offer tailored designs that cater to various space requirements for PEGS BOSTON 2026. Choose from 10×10\, 10×20\, or 20×20 layouts. Each size is optimized to maximize your visibility\, whether you’re introducing a new product or showcasing existing innovations. For custom solutions\, check out our Snap Exhibitions Custom Booth Models. Our full-service exhibit support ensures a seamless experience from concept to breakdown. \nFAQ\n\nWhat does “PEGS BOSTON 2026 booth rental” include?\nOur booth rental includes design\, installation\, and dismantling services\, ensuring a hassle-free experience.\nWhat are the event hours and dates for PEGS BOSTON 2026?\nThe event runs from September 4–6\, 2026\, from 9:00 AM to 5:00 PM.\nWhat booth sizes do you recommend for exhibitors in Biotechnology?\nWe recommend a 10×20 footprint for maximum engagement\, allowing space for branding and interaction.\nWhy is an aluminum booth better than wood?\nAluminum booths are lighter\, more durable\, and offer a modern look\, making them easier to transport and set up.\nWhat services does Snap Exhibitions offer in Boston?\nWe offer end-to-end services including booth design\, construction\, and support for events like PEGS BOSTON 2026.\nHow can Snap Exhibitions help make everything perfect for my booth?\nWe provide expert consultation\, ensuring your booth resonates with your target audience while maintaining high quality and visual appeal. Contact our team to learn more!\n\nIn conclusion\, PEGS BOSTON 2026 booth rental is your gateway to a successful exhibit at this impactful summit. Make a statement among the leaders in the Biotechnology and Health Professional fields with our tailored solutions. For a flawless exhibit experience\, contact our team today!
URL:https://jck2026.com/event/pegs-boston-2026/
CATEGORIES:Biotechnology,Health Professionals,Pharmaceuticals & Cosmetology
END:VEVENT
END:VCALENDAR