BEGIN:VCALENDAR
VERSION:2.0
PRODID:-//JCK 2026 Las Vegas — Local Booth Builder &amp; Rentals - ECPv6.15.13.1//NONSGML v1.0//EN
CALSCALE:GREGORIAN
METHOD:PUBLISH
X-ORIGINAL-URL:https://jck2026.com
X-WR-CALDESC:Events for JCK 2026 Las Vegas — Local Booth Builder &amp; Rentals
REFRESH-INTERVAL;VALUE=DURATION:PT1H
X-Robots-Tag:noindex
X-PUBLISHED-TTL:PT1H
BEGIN:VTIMEZONE
TZID:UTC
BEGIN:STANDARD
TZOFFSETFROM:+0000
TZOFFSETTO:+0000
TZNAME:UTC
DTSTART:20250101T000000
END:STANDARD
END:VTIMEZONE
BEGIN:VEVENT
DTSTART;TZID=UTC:20260518T090000
DTEND;TZID=UTC:20260521T235959
DTSTAMP:20260420T192946
CREATED:20251024T092743Z
LAST-MODIFIED:20251024T092743Z
UID:25902-1779094800-1779407999@jck2026.com
SUMMARY:WOW - WORLD OF WIPES 2026
DESCRIPTION:WOW – WORLD OF WIPES 2026 Booth Rental — Ultimate Exhibitor Guide & Custom Booth Options\nAbout WOW – WORLD OF WIPES 2026\nWOW – WORLD OF WIPES 2026 booth rental will ensure you make an impactful presence in Indianapolis. This premier event focuses on the wipes industry\, presenting exhibitors and attendees with valuable networking opportunities. Expect to engage with key companies as topics range from healthcare-acquired infections to groundbreaking consumer insights and innovative packaging solutions. Benefit from the discussions surrounding airlaid wipes and various additives prepared to enhance your business strategy and create connections. Key Details: Sep 18–20\, 9:00 AM–5:00 PM\, Hyatt Regency Indianapolis\, One South Capitol Avenue\, USA. For more information\, visit World of Wipes. \nIndustries & Audience: Beauty & Personal Care\, Paper Industry\, Consumer Goods\, Advanced Materials. \nVenue & Location\nThe event will take place at the Hyatt Regency Indianapolis\, located at One South Capitol Avenue\, USA. This venue offers convenient access for exhibitors\, including essential logistics such as docking facilities for easy move-in and dismantling before and after the event. \nIndianapolis IN: Our Services\nWe DESIGN\, PRODUCE\, INSTALL & DISMANTLE turnkey booth rentals in Indianapolis IN\, ensuring a seamless experience for our clients. From concept to execution\, our scope includes modular frames\, branded SEG graphics\, reception/storage areas\, and accommodating TV mounts\, all tailored to your unique specifications. \nCustom Booth Models\nOur popular booth footprints include Snap Exhibitions Custom Booth Models that are perfect for various exhibitors. Typical sizes such as 10×10\, 10×20\, and 20×20 maximize visibility for attendees involved in Beauty & Personal Care and Consumer Goods. Ensure your display draws attention with effective use of space. We also provide full-service exhibit support and expertise to make your experience exceptional. For personalized assistance\, contact our team. \nFAQ\n\nWhat is WOW – WORLD OF WIPES 2026 booth rental?WOW – WORLD OF WIPES 2026 booth rental involves designing and providing customized booths tailored to exhibitors’ needs\, maximizing their presence and engagement.\nWhen will the event take place?The event is scheduled for Sep 18–20\, 9:00 AM–5:00 PM.\nWhat booth sizes are recommended for exhibitors in the Beauty & Personal Care sector?We suggest options like 10×10 for smaller displays\, while 10×20 or 20×20 allow for more elaborate setups to showcase extensive product lines.\nWhy is an aluminum booth better than wood?Aluminum booths are lighter and more sturdy compared to wood. They are easier to assemble and dismantle\, while also providing a modern aesthetic.\nWhat features will be available at Hyatt Regency Indianapolis?Hyatt Regency offers facilities that enhance exhibitor experience\, including spacious areas and convenience in transporting materials.\nWhat is the focus of WOW – WORLD OF WIPES 2026?This event centers around networking in the wipes industry\, offering insights into trends\, innovations\, and consumer preferences.\nHow can SNAP EXHIBITIONS help me make everything perfect about my booth?We provide comprehensive services from design to setup\, ensuring your booth reflects your brand while meeting all logistical requirements.\n\nWOW – WORLD OF WIPES 2026 booth rental services are designed to make your exhibit a standout experience. For seamless booth solutions tailored to your needs\, contact us today!
URL:https://jck2026.com/event/wow-world-of-wipes-2026/
CATEGORIES:Advanced Materials,Beauty & Personal Care,Consumer Goods,Paper Industry
END:VEVENT
BEGIN:VEVENT
DTSTART;TZID=UTC:20260519T090000
DTEND;TZID=UTC:20260521T235959
DTSTAMP:20260420T192946
CREATED:20251023T230618Z
LAST-MODIFIED:20251023T230618Z
UID:25678-1779181200-1779407999@jck2026.com
SUMMARY:WORLD ORPHAN DRUG CONGRESS - USA 2026
DESCRIPTION:WORLD ORPHAN DRUG CONGRESS – USA 2026 Booth Rental — Essential Options\nAbout WORLD ORPHAN DRUG CONGRESS – USA 2026\nVenue & Location\nBoston MA: Our Services\nCustom Booth Models\nFAQ\n\nWORLD ORPHAN DRUG CONGRESS – USA 2026\nWORLD ORPHAN DRUG CONGRESS – USA 2026 booth rental presents an invaluable opportunity for exhibitors in the biopharmaceutical sector. This renowned event is designed for professionals in **Pharmaceuticals & Cosmetology**\, **Health Professionals**\, and **Sciences for Engineers – Research & Development**. With its focus on orphan drug development\, it attracts a dedicated audience eager to share insights and strategies for advancing life-saving therapies. \nThis biopharma conference will serve as a collaborative platform where stakeholders can brainstorm innovative solutions to enhance orphan drug development and improve access to critical therapies. Attendees will not only glean insights from leading experts but also network with others committed to this significant cause. \n\nKey Details: Apr 18–20\, 2026\, 9:00 AM–5:00 PM\nBoston Convention & Exhibition Center\n415 Summer Street\, Boston\, MA 02210\, USA\nEvent Website\n\nIndustries & Audience: Pharmaceuticals & Cosmetology\, Health Professionals\, Sciences for Engineers – Research & Development \n\n\nVenue & Location\nThe venue for the event is the Boston Convention & Exhibition Center\, located at 415 Summer Street\, Boston\, MA 02210\, USA. This venue is well-equipped to handle large-scale events with ample space for both exhibitors and attendees. Attendees will benefit from convenient access to various logistics\, including dock access for move-in and set-up. \nIf you need assistance\, feel free to contact us at +1 (212) 379-6320. \n\n\nBoston MA: Our Services\nIn Boston MA\, we DESIGN\, PRODUCE\, INSTALL & DISMANTLE turnkey booth rentals. Our services encompass everything from concept and design to modular frame construction and on-site installation. Our booth rentals come complete with branded SEG graphics\, reception desks\, storage areas\, and TV mounts\, making them perfect for attracting the right audience at the WORLD ORPHAN DRUG CONGRESS – USA 2026. \n\n\nCustom Booth Models\nAt [Snap Exhibitions Custom Booth Models](https://snapexhibitions.com/works/las-vegas-custom-booth-models/)\, we offer a range of booth sizes suitable for exhibitors\, including: \n\n10×10: Ideal for startups or small brands looking to make a focused impact.\n10×20: Perfect for companies wanting more display space for interactive product demos.\n20×20: Great for larger brands seeking to showcase multiple offerings and engage larger audiences.\n\nAll our booths are designed to enhance the overall experience at the event for those in the pharmaceuticals and healthcare sectors. Our full-service exhibit support ensures that every aspect of your exhibit experience is tailored to your needs. \nTo get started on creating your perfect booth experience\, contact our team today! \n\n\nFAQ\nWhat is the schedule for WORLD ORPHAN DRUG CONGRESS – USA 2026?\nThe event will take place from April 18–20\, 2026\, from 9:00 AM to 5:00 PM. \nHow can I prepare for my booth rental at the event?\nPreparing for your booth rental involves ensuring proper branding and layout to attract your target audience. We can help design your booth to fit your goals. \nWhat is a recommended booth size for participants in pharmaceuticals?\nA 10×20 booth size is typically recommended as it provides enough space for displays and interaction without overwhelming visitors. \nWhy is an aluminum booth better than wood?\nAluminum booths are lighter\, more durable\, and offer a modern aesthetic compared to traditional wood booths. This makes them easier to transport and assemble. \nWhat can we expect in Boston during the conference?\nBoston offers a vibrant atmosphere with rich history and modern amenities\, making it a great place for networking and collaboration during the event. \nHow can SNAP EXHIBITIONS help us make everything perfect for our booth?\nWith our expertise in turnkey booth rentals\, we ensure every detail is managed efficiently\, from design and logistics to installation and dismantle. \nWhat services do you offer in Boston for exhibitions?\nWe provide comprehensive exhibition services\, including booth design\, setup\, and logistical support to ensure a smooth experience. \n\nDon’t miss this vital opportunity—book your WORLD ORPHAN DRUG CONGRESS – USA 2026 booth rental today. Visit our contact page for more information!
URL:https://jck2026.com/event/world-orphan-drug-congress-usa-2026/
CATEGORIES:Health Professionals,Pharmaceuticals & Cosmetology,Sciences for Engineers - Research & Development
END:VEVENT
BEGIN:VEVENT
DTSTART;TZID=UTC:20260519T090000
DTEND;TZID=UTC:20260521T235959
DTSTAMP:20260420T192946
CREATED:20251024T174223Z
LAST-MODIFIED:20251024T174223Z
UID:26014-1779181200-1779407999@jck2026.com
SUMMARY:SWEETS & SNACKS EXPO 2026
DESCRIPTION:Sweets & Snacks Expo 2026 Booth Rental — Essential Guide\nAbout Sweets & Snacks Expo\nVenue & Location\nLas Vegas NV: Our Services\nCustom Booth Models\nFAQ\nSweets & Snacks Expo 2026 — About\nSweets & Snacks Expo 2026 booth rental provides an essential platform for exhibitors in the catering and hospitality industries to connect with their audience. This exciting event blends the sweetness of candies\, chocolates\, and cookies with savory flavors from chips\, popcorn\, and meat snacks. Attendees gain insights into the latest trends in the food processing industries and have the opportunity to showcase their innovations.\nKey Details:\n– **Dates:** Mar 23–25\, 9:00 AM–5:00 PM\n– **Location:** Las Vegas Convention Center\n– **Address:** 3150 Paradise Road\, Las Vegas\, NV 89109\, United States\n– **Website:** Please check back for the official event link! \n***Industries & Audience:*** Catering & Hospitality Industries\, Food Processing Industries.
URL:https://jck2026.com/event/sweets-snacks-expo-2026/
CATEGORIES:Catering & Hospitality Industries,Food Processing Industries
END:VEVENT
BEGIN:VEVENT
DTSTART;TZID=UTC:20260519T090000
DTEND;TZID=UTC:20260521T235959
DTSTAMP:20260420T192946
CREATED:20251025T081310Z
LAST-MODIFIED:20251025T081310Z
UID:26057-1779181200-1779407999@jck2026.com
SUMMARY:LAS VEGAS LICENSING EXPO 2026
DESCRIPTION:LAS VEGAS LICENSING EXPO 2026 — Exhibitor Guide & Custom Booth Options\nAbout LAS VEGAS LICENSING EXPO 2026\nLAS VEGAS LICENSING EXPO 2026 offers an ultimate chance for exhibitors to connect\, innovate\, and showcase branding options. The event is known as the world’s largest licensing show\, bringing together thousands of brands under one roof. By attending this event\, you will have the chance to speak directly with brand decision-makers and enhance your network. \n\nKey Details:\nDates: Dec 19–21\, 9:00 AM–5:00 PM\nLocation: Mandalay Bay Convention Center\, 3950 Las Vegas Blvd. South\, Las Vegas\, Nevada\, United States\n\nIndustries & Audience: Marketing & Selling\, Franchising \nVenue & Location\nJoin us at Mandalay Bay Convention Center\, located at 3950 Las Vegas Blvd. South\, Las Vegas\, Nevada\, United States. The venue provides various logistics for exhibitors\, including convenient move-in windows and dock access\, ensuring a smooth setup for your booth. \nIf you have any inquiries\, you can reach us at our phone number. \nLAS VEGAS: Our Services\nWe DESIGN\, PRODUCE\, INSTALL & DISMANTLE turnkey booth rentals in Las Vegas\, Nevada. Our services include concept and design\, modular frames\, branded SEG graphics\, reception areas\, storage\, and TV mounts\, ensuring everything is executed seamlessly for your exhibit. \nCustom Booth Models\nWe offer a range of booth sizes that cater to your needs\, including popular footprints like 10×10\, 10×20\, and 20×20. These configurations are ideal for sectors such as Marketing & Selling and Franchising. For more on our offerings\, check our Snap Exhibitions Custom Booth Models\, or for a deeper dive into our full-service exhibit support. \nInterested in elevating your presence? Contact our team today! \nFAQ\nQ1: What is LAS VEGAS LICENSING EXPO 2026 booth rental? \nA1: LAS VEGAS LICENSING EXPO 2026 booth rental provides exhibitors with customizable spaces to showcase their brands and connect with potential partners. \nQ2: When is the event occurring? \nA2: The event is scheduled for Dec 19–21\, from 9:00 AM to 5:00 PM each day. \nQ3: What booth sizes are recommended for the Marketing & Selling sector? \nA3: We recommend considering sizes like 10×10 or 10×20 to maximize exposure in the Marketing & Selling sector. \nQ4: Why are aluminum booths better than wood? \nA4: Aluminum booths are lightweight\, durable\, and easier to assemble compared to wooden structures\, offering a more efficient setup for events. \nQ5: How can SNAP EXHIBITIONS help make everything perfect about their booth? \nA5: We specialize in providing comprehensive support\, from booth design to breakdown\, ensuring every detail is executed flawlessly at LAS VEGAS LICENSING EXPO 2026. \nQ6: What services does SNAP EXHIBITIONS offer in Las Vegas? \nA6: We offer turnkey booth rentals\, full support for custom designs\, and logistics handling at major exhibitions. \nQ7: Where can I learn more about LAS VEGAS LICENSING EXPO 2026? \nA7: You can visit the official website for details and updates regarding the event. \nIn summary\, our booth rentals at LAS VEGAS LICENSING EXPO 2026 offer an ultimate chance to exhibit confidently and effectively. We invite you to contact us today for an impactful presence!
URL:https://jck2026.com/event/las-vegas-licensing-expo-2026/
CATEGORIES:Franchising,Marketing & Selling
END:VEVENT
BEGIN:VEVENT
DTSTART;TZID=UTC:20260520T090000
DTEND;TZID=UTC:20260521T235959
DTSTAMP:20260420T192946
CREATED:20251025T170343Z
LAST-MODIFIED:20251025T170343Z
UID:26152-1779267600-1779407999@jck2026.com
SUMMARY:HOME DELIVERY WORLD 2026
DESCRIPTION:HOME DELIVERY WORLD 2026 booth rental — Premium Exhibitor Guide & Custom Booth Options\nAbout HOME DELIVERY WORLD 2026\nHOME DELIVERY WORLD 2026 booth rental is an important resource for exhibitors aiming to thrive in the logistics and transportation sector. This premier event features every aspect of the retail logistics and supply chain process\, from inventory management and fulfillment in the warehouse to delivery and the customer experience at the final destination. Visitors and exhibitors alike gain invaluable insights into best practices and emerging trends within the industry. \n\nKey Details:\nDates: Oct 9–11\, 2026\nLocation: Music City Center\, 201 Fifth Avenue South\, Nashville\, TN\, United States\nWebsite: HOME DELIVERY WORLD 2026\n\nIndustries & Audience: Logistics & Transportation Engineering – Handling Operations – Storage\, Trucks and Utility Vehicles\, Internet & Intranet\, Marketing & Selling. \nVenue & Location\nThe event will be held at Music City Center\, located at 201 Fifth Avenue South in Nashville\, TN. This central location provides convenient access to various amenities and services for exhibitors and attendees. If you need any assistance\, feel free to contact us at +1 (646) 619 1797. \nNashville\, TN: Our Services\nIn Nashville\, we DESIGN\, PRODUCE\, INSTALL & DISMANTLE turnkey booth rentals for HOME DELIVERY WORLD 2026. Our comprehensive services include concept/design development\, modular frames\, branded SEG graphics\, reception/storage areas\, and TV mounts to ensure your exhibition stands out. We are committed to providing exceptional support from start to finish. \nCustom Booth Models\nWe offer various popular footprints\, including 10×10\, 10×20\, and 20×20 booths\, each catering to the specific needs of different sectors within logistics and transportation. Our Snap Exhibitions Custom Booth Models are designed to enhance visibility while optimizing space. For a complete range of services\, check out our full-service exhibit support. Contact our team for tailored solutions. \nFAQ\nQ1: What is HOME DELIVERY WORLD 2026 booth rental?A: HOME DELIVERY WORLD 2026 booth rental provides exhibitors with customized space to showcase their offerings effectively. \nQ2: When does HOME DELIVERY WORLD 2026 take place?A: The event runs from Oct 9 to 11\, 2026. \nQ3: What are the recommended booth sizes for logistics and transportation sectors?A: Popular booth sizes include 10×10 for smaller displays\, 10×20 for medium interaction\, and 20×20 for larger presentations. \nQ4: Why is an aluminum booth better than wood?A: Aluminum booths are lighter\, more durable\, and easier to transport\, making them a superior choice for trade shows. \nQ5: What can I expect at HOME DELIVERY WORLD 2026?A: Expect to connect with industry leaders\, see innovative products\, and gain insights into the logistics and transportation sector. \nQ6: How can SNAP EXHIBITIONS help with my booth at the event?A: We provide complete support\, from design to installation\, ensuring everything is perfect for your exhibit. \nIn conclusion\, for your HOME DELIVERY WORLD 2026 booth rental needs\, we invite you to contact our team today to ensure a seamless and successful event experience.
URL:https://jck2026.com/event/home-delivery-world-2026/
CATEGORIES:Internet & Intranet,Logistics & Transportation Engineering - Handling Operations - Storage,Marketing & Selling,Trucks and Utility Vehicles
END:VEVENT
BEGIN:VEVENT
DTSTART;TZID=UTC:20260520T090000
DTEND;TZID=UTC:20260521T235959
DTSTAMP:20260420T192946
CREATED:20251025T170417Z
LAST-MODIFIED:20251025T170417Z
UID:26153-1779267600-1779407999@jck2026.com
SUMMARY:HOME DELIVERY WORLD WEST 2026
DESCRIPTION:HOME DELIVERY WORLD WEST 2026 booth rental — Essential Exhibitor Guide & Custom Booth Options\nAbout HOME DELIVERY WORLD WEST 2026\nVenue & Location\nNashville TN: Our Services\nCustom Booth Models\nFAQ\nHOME DELIVERY WORLD WEST 2026 — Exhibitor Guide & Custom Booth Options\nHOME DELIVERY WORLD WEST 2026 booth rental offers a fantastic opportunity for businesses looking to showcase their innovations in logistics and transportation. This prominent event\, held at the Music City Center\, is where big retailers\, SMEs\, and cutting-edge solutions providers gather for two days of learning and networking. \nJoin industry leaders and fellow exhibitors from Logistics & Transportation Engineering\, Handling Operations\, Storage\, Internet & Intranet\, and Marketing & Selling sectors. Attendees can expect to gain invaluable insights into the home delivery landscape\, explore trending topics\, and engage in meaningful discussions that drive progress. \n\nKey Details:\nDates: Feb 20–21\, 2026\, 9:00 AM–5:00 PM\nLocation: Music City Center\, 201 Fifth Avenue South\, Nashville\, TN 37203\, USA\nEvent Website\n\nVenue & Location\nThe venue for HOME DELIVERY WORLD WEST 2026 is the Music City Center\, situated at 201 Fifth Avenue South\, Nashville\, TN\, United States. This centrally located facility offers excellent logistics options\, with ample space for exhibitors to set up their booths and connect with attendees. Although move-in schedules and dock access specifics are not detailed here\, the venue provides a conducive environment for engaging with prospective clients and partners. \nNashville TN: Our Services\nIn Nashville TN\, we DESIGN\, PRODUCE\, INSTALL & DISMANTLE turnkey booth rentals\, offering you a comprehensive service from concept to execution. Our booth offerings include modular frames\, branded SEG graphics\, reception areas\, storage\, and TV mounts\, ensuring a seamless experience for exhibitors in this vibrant city. \nCustom Booth Models\nWe offer a variety of popular booth sizes to cater to all exhibitors: \n\n10×10: Ideal for small businesses looking to make a bold statement.\n10×20: Perfect for mid-sized exhibitors aiming to maximize their presence.\n20×20: Best for larger companies wanting to showcase multiple products.\n\nEach layout is designed with our clients in mind\, ensuring they fit seamlessly into the Snap Exhibitions Custom Booth Models\, enhancing their visibility within the categories of the audience attending. \nWe provide full-service exhibit support tailored to your needs\, ensuring everything runs smoothly. For assistance\, don’t hesitate to contact our team. \nFAQ\n\nWhat is HOME DELIVERY WORLD WEST 2026 booth rental?HOME DELIVERY WORLD WEST 2026 booth rental provides exhibitors with the chance to showcase their products and services at one of the premier logistics events.\nWhat are the event hours and dates?The event is scheduled for February 20–21\, 2026\, from 9:00 AM to 5:00 PM.\nWhat booth sizes do you recommend for the Logistics sector?For the logistics sector\, a 10×20 or 20×20 booth is often recommended to capture attention effectively.\nWhy is an aluminum booth better than wood?Aluminum booths provide lightweight\, durable structures that are often easier to transport and set up compared to traditional wood booths.\nWhat attractions are found in Nashville for attendees?Nashville is known for its vibrant music scene\, local cuisine\, and rich history\, making it a great city for visitors.\nWhat are the best aspects of HOME DELIVERY WORLD WEST 2026?Attendees can expect high-quality networking opportunities and engaging discussions that are directly relevant to their businesses.\nHow can Snap Exhibitions make everything perfect about my booth?We assist with every aspect of your exhibit\, from design to installation\, ensuring a flawless experience at the event.\n\nDon’t miss the chance to enhance your visibility at this strategic event. Choose HOME DELIVERY WORLD WEST 2026 booth rental for a seamless experience. For more details\, contact our team today!
URL:https://jck2026.com/event/home-delivery-world-west-2026/
CATEGORIES:Internet & Intranet,Logistics & Transportation Engineering - Handling Operations - Storage,Marketing & Selling,Trucks and Utility Vehicles
END:VEVENT
END:VCALENDAR