BEGIN:VCALENDAR
VERSION:2.0
PRODID:-//JCK 2026 Las Vegas — Local Booth Builder &amp; Rentals - ECPv6.15.13.1//NONSGML v1.0//EN
CALSCALE:GREGORIAN
METHOD:PUBLISH
X-ORIGINAL-URL:https://jck2026.com
X-WR-CALDESC:Events for JCK 2026 Las Vegas — Local Booth Builder &amp; Rentals
REFRESH-INTERVAL;VALUE=DURATION:PT1H
X-Robots-Tag:noindex
X-PUBLISHED-TTL:PT1H
BEGIN:VTIMEZONE
TZID:UTC
BEGIN:STANDARD
TZOFFSETFROM:+0000
TZOFFSETTO:+0000
TZNAME:UTC
DTSTART:20250101T000000
END:STANDARD
END:VTIMEZONE
BEGIN:VEVENT
DTSTART;TZID=UTC:20260522T090000
DTEND;TZID=UTC:20260524T235959
DTSTAMP:20260420T192750
CREATED:20251024T083348Z
LAST-MODIFIED:20251024T083348Z
UID:25778-1779440400-1779667199@jck2026.com
SUMMARY:EAGLE RIVER GUN SHOW 2026
DESCRIPTION:EAGLE RIVER GUN SHOW 2026 Booth Rental — Premium Opportunities\nAbout EAGLE RIVER GUN SHOW 2026\nVenue & Location\nEagle River WI: Our Services\nCustom Booth Models\nFAQ\n\nEAGLE RIVER GUN SHOW 2026 — Exhibitor Guide & Custom Booth Options\nJoin us at the EAGLE RIVER GUN SHOW 2026\, where exhibitors can showcase their products to an enthusiastic audience of collectors and hunters. This vibrant trade show is an excellent opportunity for exhibitors to connect with potential customers and engage with fellow enthusiasts. Typical offerings include hunting knives\, shooting rifles\, and various outdoor gear that cater to the Guns & Knives – Collectibles sector\, making it a must-attend event. \n\nKey Details: Jan 20–21\, 2026\, from 9:00 AM–5:00 PM\nLocation: Eagle River Stadium\nAddress: 4149 WI-70\, Eagle River\, WI 54521\, USA\n\nThe EAGLE RIVER GUN SHOW features a vast array of products\, including reloading supplies\, hunting equipment\, and camouflage items\, appealing to a wide audience interested in firearms\, hunting\, and collecting. \nIndustries & Audience: Guns & Knives – Collectibles\, Hunting & Fishing\, Defense – Armament\, Collectors – Hobby \n\n\nVenue & Location\nThe event will take place at the Eagle River Stadium\, 4149 WI-70\, Eagle River\, WI 54521\, USA. This venue offers convenient access for exhibitors with ample space for move-in and logistics. \n\n\nEagle River WI: Our Services\nIn this city\, we DESIGN\, PRODUCE\, INSTALL & DISMANTLE turnkey booth rentals. Our services include concept/design\, modular frames\, branded SEG graphics\, reception/storage\, TV mount\, and on-site I&D\, ensuring your exhibit is both impactful and functional. \n\n\nCustom Booth Models\nExplore our Snap Exhibitions Custom Booth Models which suit various spaces—popular footprints such as 10×10\, 10×20\, and 20×20 are designed to give exhibitors the flexibility needed for the audience attending the EAGLE RIVER GUN SHOW 2026. \nOur booth designs are suitable for the firearms and outdoor sectors. Whether you need more engaging displays or functional exhibition spaces\, our full-service exhibit support is tailored to make your participation seamless. \nFor further inquiries about how we can enhance your exhibit\, contact our team. \n\n\nFAQ\nWhat is the EAGLE RIVER GUN SHOW 2026 booth rental?\nOur booth rental options offer a complete package for exhibiting at the EAGLE RIVER GUN SHOW\, including design\, fabrication\, and support. \nWhat are the event hours and dates for the EAGLE RIVER GUN SHOW 2026?\nThe event will run from January 20 to 21\, 2026\, from 9:00 AM to 5:00 PM each day. \nWhat booth sizes do you recommend for the Guns & Knives sectors?\nTypically\, sizes like 10×10 for smaller displays\, up to 20×20 for larger exhibits\, are ideal. \nWhy are aluminum booths better than wood?\nAluminum booths are lightweight\, durable\, and easier to transport and set up compared to traditional wood options. \nWhat do I need to know about Eagle River Stadium?\nEagle River Stadium is equipped with ample space for exhibitors and audience accessibility. \nHow can SNAP EXHIBITIONS ensure my booth is perfect?\nWe manage every detail from design to installation\, guaranteeing a flawless presentation at the exhibition. \n\nJoin us for the EAGLE RIVER GUN SHOW 2026 booth rental\, and elevate your presence at this landmark event! Discover more by contacting us today.
URL:https://jck2026.com/event/eagle-river-gun-show-2026/
CATEGORIES:Collectors - Hobby,Defense - Armament,Guns & Knives - Collectibles,Hunting & Fishing
END:VEVENT
END:VCALENDAR