BEGIN:VCALENDAR
VERSION:2.0
PRODID:-//JCK 2026 Las Vegas — Local Booth Builder &amp; Rentals - ECPv6.15.13.1//NONSGML v1.0//EN
CALSCALE:GREGORIAN
METHOD:PUBLISH
X-ORIGINAL-URL:https://jck2026.com
X-WR-CALDESC:Events for JCK 2026 Las Vegas — Local Booth Builder &amp; Rentals
REFRESH-INTERVAL;VALUE=DURATION:PT1H
X-Robots-Tag:noindex
X-PUBLISHED-TTL:PT1H
BEGIN:VTIMEZONE
TZID:UTC
BEGIN:STANDARD
TZOFFSETFROM:+0000
TZOFFSETTO:+0000
TZNAME:UTC
DTSTART:20250101T000000
END:STANDARD
END:VTIMEZONE
BEGIN:VEVENT
DTSTART;TZID=UTC:20260601T090000
DTEND;TZID=UTC:20260604T235959
DTSTAMP:20260420T210919
CREATED:20251024T143123Z
LAST-MODIFIED:20251024T143123Z
UID:25933-1780304400-1780617599@jck2026.com
SUMMARY:ESX - ELECTRONIC SECURITY EXPO 2026
DESCRIPTION:ESX – ELECTRONIC SECURITY EXPO 2026 booth rental — Premium Exhibitor Guide & Custom Booth Options\nAbout ESX – ELECTRONIC SECURITY EXPO 2026\nVenue & Location\nIrving TX: Our Services\nCustom Booth Models\nFAQ\nESX – ELECTRONIC SECURITY EXPO 2026\nESX – ELECTRONIC SECURITY EXPO 2026 booth rental provides a unique opportunity for exhibitors to engage with the vibrant audience attending this event. This expo is dedicated to electronic security\, offering attendees and exhibitors insights into the latest technologies and solutions in the industry. Visitors will find an expansive product showcase while exhibitors will benefit from a prime sales & marketing opportunity to connect with installing\, integrating\, and monitoring companies to effectively bring their products to market. \nKey Details: March 1–3\, 2026\, 9:00 AM–5:00 PM\, Irving Convention Center\, 500 West Las Colinas Boulevard\, Irving\, TX 75039\, United States. Visit the official ESX website for more information. \nIndustries & Audience: Security – Risk Management\, Electronic Design & Components\, Building & Construction\, Industrial Building\, Home Show\, Subcontracting\, Suppliers & Partners. \nVenue & Location\nThe event will take place at Irving Convention Center\, located at 500 West Las Colinas Boulevard\, Irving\, TX 75039\, United States. This facility offers ample access for logistics\, including convenient move-in windows and adequate docks for loading and unloading. For any inquiries\, please reach us via phone provided. \nIrving TX: Our Services\nIn Irving\, TX\, we DESIGN\, PRODUCE\, INSTALL & DISMANTLE turnkey booth rentals. Our services encompass concept design\, modular frames\, branded SEG graphics\, reception/storage solutions\, TV mounts\, and on-site installation and dismantling. We ensure your booth meets all the needs of the diverse audience attending ESX. \nCustom Booth Models\nAt Snap Exhibitions\, we offer Snap Exhibitions Custom Booth Models for various layouts such as: \n\n10×10—Perfect for small exhibits looking to maximize visibility with essential product displays.\n10×20—Ideal for businesses ready to make a bold statement with more elaborate product presentations.\n20×20—Designed for companies desiring spacious engagement areas that cater to large audiences.\n\nThese popular footprints are tailored to fit the needs of industry sectors represented at ESX\, ensuring dynamic interaction with attendees. \nAdditionally\, we provide full-service exhibit support throughout the event\, ensuring your experience is seamless. \nFAQ\nQ: What is included in ESX – ELECTRONIC SECURITY EXPO 2026 booth rental? \nA: Our ESX – ELECTRONIC SECURITY EXPO 2026 booth rental offers a fully equipped space tailored to your needs\, including design and on-site support. \nQ: When does ESX take place? \nA: ESX will run from March 1–3\, 2026\, from 9:00 AM to 5:00 PM each day. \nQ: What booth sizes are recommended for the Security – Risk Management sector? \nA: Booth sizes such as 10×10\, 10×20\, and 20×20 work well\, depending on your product display needs and audience engagement goals. \nQ: Why is an aluminum booth better than wood? \nA: Aluminum booths are typically lighter\, more durable\, and offer more flexibility in design compared to traditional wood booths. \nQ: What should I know about Irving\, TX? \nA: Irving offers a vibrant hosting environment with great logistical support\, making it ideal for events like ESX. \nQ: How can SNAP EXHIBITIONS ensure my booth is perfect? \nA: We manage every aspect of your booth\, from initial design to installation and support\, ensuring everything runs smoothly. \nFor a successful exhibition\, consider our ESX – ELECTRONIC SECURITY EXPO 2026 booth rental. For further inquiries and to get started\, contact our team today!
URL:https://jck2026.com/event/esx-electronic-security-expo-2026/
CATEGORIES:Building & Construction,Electronic Design & Components,Home Show,Industrial Building,Security - Risk Management,Subcontracting,Suppliers & Partners
END:VEVENT
BEGIN:VEVENT
DTSTART;TZID=UTC:20260602T090000
DTEND;TZID=UTC:20260604T235959
DTSTAMP:20260420T210919
CREATED:20251025T191508Z
LAST-MODIFIED:20251025T191508Z
UID:26261-1780390800-1780617599@jck2026.com
SUMMARY:INFORMEX USA 2026
DESCRIPTION:INFORMEX USA 2026 booth rental — Essential Exhibitor Guide & Custom Booth Options\nAbout INFORMEX USA 2026\nINFORMEX USA 2026 booth rental can provide exhibitors with a platform to showcase their innovation and connect directly with a targeted audience. This event serves buyers and sellers of high-value chemistry\, fostering partnerships that lead to growth and opportunity. Attendees can expect a convergence of professionals from the Chemical Process\, Pharmaceuticals & Cosmetology\, Sciences for Engineers – Research & Development sectors\, making it an ideal venue for those looking to engage in meaningful dialogues. \nKey Details: Jan 30–Feb 1\, 2026\, Pennsylvania Convention Center\, 1101 Arch Street\, Philadelphia\, PA 19107\, USA. \nVenue & Location\nThe event will take place at the Pennsylvania Convention Center\, located at 1101 Arch Street\, Philadelphia\, PA 19107\, USA. This venue is designed to accommodate a variety of logistical needs\, including move-in schedules and dock access for exhibitors. \nPhiladelphia\, PA: Our Services\nWe DESIGN\, PRODUCE\, INSTALL & DISMANTLE turnkey booth rentals in Philadelphia\, PA. Our offerings include concept development\, modular frames\, branded SEG graphics\, reception and storage areas\, TV mounts\, and on-site installation and dismantling services. We understand what it takes to create a booth that resonates with the audience and portrays your brand effectively. \nCustom Booth Models\nAt Snap Exhibitions\, we offer a variety of popular booth sizes that cater to the needs of exhibitors in the sectors represented at INFORMEX USA 2026. \n\n10×10 booths are perfect for smaller organizations looking to maximize their presence with impactful designs.\n10×20 booths offer more space to showcase products while allowing for an engaging visitor experience.\n20×20 booths are ideal for larger companies or those needing a comprehensive space that can include meeting areas.\n\nTo explore our offerings\, check out Snap Exhibitions Custom Booth Models and our full-service exhibit support. For inquiries\, please contact our team. \nFAQ\nQ: What are the dates and hours for INFORMEX USA 2026?A: The event is scheduled for Jan 30–Feb 1\, 2026. Specific hours will be confirmed closer to the event date. \nQ: How can INFORMEX USA 2026 booth rental benefit my company?A: INFORMEX USA 2026 booth rental offers a unique opportunity to connect with industry leaders and enhance your brand visibility at a premier event. \nQ: What booth sizes are recommended for the Chemical Process sector?A: Depending on your objectives\, a 10×20 or larger space is generally effective for companies in the Chemical Process sector due to the need for product layout and engagement areas. \nQ: Why are aluminum booths better than wood?A: Aluminum booths are typically lighter\, easier to transport\, and more durable than wood\, making them a great investment for multiple trade shows. \nQ: What can I expect from the exhibitors at INFORMEX USA 2026?A: You will encounter various professionals from the Chemical Process\, Pharmaceuticals\, and R&D sectors\, showcasing innovative solutions and products. \nQ: How can SNAP EXHIBITIONS help make everything perfect for my booth?A: We provide comprehensive services from design to installation\, ensuring your booth stands out and meets all your exhibition needs. \nWe invite you to explore how INFORMEX USA 2026 booth rental can elevate your exhibiting experience and invite you to contact our team today for more details!
URL:https://jck2026.com/event/informex-usa-2026/
CATEGORIES:Chemical Process,Pharmaceuticals & Cosmetology,Sciences for Engineers - Research & Development
END:VEVENT
END:VCALENDAR