BEGIN:VCALENDAR
VERSION:2.0
PRODID:-//JCK 2026 Las Vegas — Local Booth Builder &amp; Rentals - ECPv6.15.13.1//NONSGML v1.0//EN
CALSCALE:GREGORIAN
METHOD:PUBLISH
X-WR-CALNAME:JCK 2026 Las Vegas — Local Booth Builder &amp; Rentals
X-ORIGINAL-URL:https://jck2026.com
X-WR-CALDESC:Events for JCK 2026 Las Vegas — Local Booth Builder &amp; Rentals
REFRESH-INTERVAL;VALUE=DURATION:PT1H
X-Robots-Tag:noindex
X-PUBLISHED-TTL:PT1H
BEGIN:VTIMEZONE
TZID:UTC
BEGIN:STANDARD
TZOFFSETFROM:+0000
TZOFFSETTO:+0000
TZNAME:UTC
DTSTART:20250101T000000
END:STANDARD
END:VTIMEZONE
BEGIN:VEVENT
DTSTART;TZID=UTC:20260607T090000
DTEND;TZID=UTC:20260609T235959
DTSTAMP:20260420T210104
CREATED:20251025T190434Z
LAST-MODIFIED:20251025T190434Z
UID:26241-1780822800-1781049599@jck2026.com
SUMMARY:IDDBA (INTERNATIONAL DAIRY-DELI-BAKERY ASSOCIATION) 2026
DESCRIPTION:IDDBA (INTERNATIONAL DAIRY-DELI-BAKERY ASSOCIATION) 2026 booth rental — Premium Exhibitor Guide & Custom Booth Options\nAbout IDDBA (INTERNATIONAL DAIRY-DELI-BAKERY ASSOCIATION) 2026\nIDDBA (INTERNATIONAL DAIRY-DELI-BAKERY ASSOCIATION) 2026 booth rental provides an excellent opportunity for exhibitors in the catering\, hospitality\, and food processing industries. This esteemed event showcases the best in Dairy\, Deli\, Bakery\, Wine\, and Foodservice products\, offering invaluable networking opportunities and knowledge sharing. The seminar and expo is not only a platform for exhibitors to display their innovations but also a premier venue for learning about the latest trends and demands in these crucial sectors. \nKey Details: May 8-10\, 2026\, Orlando\, FL\, USA. For more information\, visit IDDBA Conference. \nIndustries & Audience: Catering & Hospitality Industries\, Food Processing Industries\, Retail & Shop Fitting Equipment & Service. \nVenue & Location\nOrlando\, FL\, USA offers a bustling venue for the IDDBA event. With ample accommodation and transport options\, exhibitors can capitalize on efficient logistics for move-in and setup. Centrally located\, the venue facilitates easy access to all parts of Orlando\, strengthening overall participation. \nOrlando FL: Our Services\nWe DESIGN\, PRODUCE\, INSTALL & DISMANTLE turnkey booth rentals in this city. Our comprehensive services include concept/design\, modular frames\, branded SEG graphics\, reception/storage\, TV mounts\, and on-site installation and dismantling. We ensure your exhibition presence is seamless and impactful. \nCustom Booth Models\nWe understand that different exhibitors have unique needs; thus\, we offer Snap Exhibitions Custom Booth Models to cater to your specifications. Popular footprints include: \n\n10×10: Perfect for startups aiming to make a bold statement.\n10×20: Ideal for medium-sized brands seeking to create an engaging space.\n20×20: Great for larger companies looking to showcase extensive ranges.\n\nThese footprints fit the Catering & Hospitality sectors\, allowing you to effectively engage with event attendees and present your products professionally. \nFor more information about our full-service exhibit support\, don’t hesitate to contact our team. \nFAQ\nWhat is an IDDBA booth rental?Finding the right IDDBA (INTERNATIONAL DAIRY-DELI-BAKERY ASSOCIATION) 2026 booth rental can significantly elevate your presence at the event. \nWhen is IDDBA 2026?IDDBA will take place from May 8-10\, 2026. \nWhat booth sizes do you recommend for Catering & Hospitality industries?For this category\, we suggest using 10×20 or 20×20 booth sizes as they allow for more interaction space. \nWhy is an aluminum booth better than wood?Aluminum booths are lighter\, more durable\, and often easier to assemble compared to traditional wooden ones. \nWhat is the location like in Orlando for the IDDBA?Orlando is a vibrant city with great accessibility and provides excellent facilities for exhibitors and visitors alike. \nHow can SNAP EXHIBITIONS help me make everything perfect about my booth?We focus on turnkey booth rentals tailored to meet your exact needs ensuring that every detail is covered. \nIn conclusion\, IDDBA (INTERNATIONAL DAIRY-DELI-BAKERY ASSOCIATION) 2026 booth rental — an essential opportunity for all exhibitors in these sectors. Don’t miss the chance to elevate your presence with our high-quality exhibits! For inquiries\, please contact our team.
URL:https://jck2026.com/event/iddba-international-dairy-deli-bakery-association-2026/
CATEGORIES:Catering & Hospitality Industries,Food Processing Industries,Retail & Shop Fitting Equipment & Service
END:VEVENT
BEGIN:VEVENT
DTSTART;TZID=UTC:20260608T090000
DTEND;TZID=UTC:20260610T235959
DTSTAMP:20260420T210104
CREATED:20251025T165926Z
LAST-MODIFIED:20251025T165926Z
UID:26142-1780909200-1781135999@jck2026.com
SUMMARY:WORLD PROCESSING TOMATO CONGRESS 2026
DESCRIPTION:WORLD PROCESSING TOMATO CONGRESS 2026 Booth Rental — Essential Guide\nAbout WORLD PROCESSING TOMATO CONGRESS 2026\nWORLD PROCESSING TOMATO CONGRESS 2026 booth rental in Monterey — a vital event for industry leaders in food processing and agriculture sectors. Join us to connect\, collaborate\, and shape the future of the processing tomato industry. This congress will serve as a platform where exhibitors and visitors can exchange innovative ideas\, explore new technologies\, and network with key players.  \nKey Details:Jan 18–20\, 2026\, 9:00 AM–5:00 PMMonterey Conference Center\, One Portola Plaza\, Monterey\, CA 93940\, United States \nIndustries & Audience: Food Processing Industries\, Agriculture – Agricultural Machinery \nVenue & Location\nThe event will be held at the Monterey Conference Center\, located at One Portola Plaza\, Monterey\, CA 93940\, United States. This venue features great logistics for exhibitors\, including access points for move-in and out. \nMonterey: Our Services\nWe DESIGN\, PRODUCE\, INSTALL & DISMANTLE turnkey booth rentals in Monterey. Our offerings include conceptual design\, modular frames\, branded SEG graphics\, & on-site installation/dismantling. Everything you need for a successful trade show experience! \nCustom Booth Models\nExplore our Snap Exhibitions Custom Booth Models. Whether a 10×10\, 10×20\, or 20×20\, we offer popular footprints that cater to *Food Processing Industries* and *Agricultural Machinery*. Our designs ensure maximum engagement and visibility for your brand. \nFor complete support\, rely on our full-service exhibit support. Our booth solutions are ideal for creating a memorable presence. \nReady to get started? Don’t hesitate to contact our team. \nFAQ\n1. What is WORLD PROCESSING TOMATO CONGRESS 2026?It’s a gathering for professionals in the food processing and agriculture sectors to connect and innovate. \n2. When is the event?The congress is scheduled for January 18–20\, 2026\, from 9:00 AM to 5:00 PM. \n3. What booth sizes are recommended for the Food Processing Industries?We recommend booth sizes like 10×20 for effective engagement and visibility at this trade show. \n4. Why is an aluminium booth better than wood?Aluminium is more durable\, lighter\, and offers better design flexibility compared to wood. \n5. What can I expect in Monterey during the congress?Monterey is a beautiful city with various attractions to explore during your stay for the event. \n6. How can SNAP EXHIBITIONS help make everything perfect about my booth?We ensure a seamless experience by handling every detail of your booth rental from concept to installation. \nIn conclusion\, our WORLD PROCESSING TOMATO CONGRESS 2026 booth rental is your best choice for making an impactful impression. For inquiries\, please contact our team today!
URL:https://jck2026.com/event/world-processing-tomato-congress-2026/
CATEGORIES:Agriculture - Agricultural Machinery,Food Processing Industries
END:VEVENT
BEGIN:VEVENT
DTSTART;TZID=UTC:20260608T090000
DTEND;TZID=UTC:20260612T235959
DTSTAMP:20260420T210104
CREATED:20251026T214328Z
LAST-MODIFIED:20251026T214328Z
UID:26338-1780909200-1781308799@jck2026.com
SUMMARY:AIAA AVIATION AND AERONAUTICS FORUM 2026
DESCRIPTION:AIAA AVIATION AND AERONAUTICS FORUM 2026 booth rental — Ultimate Guide\nAbout AIAA AVIATION AND AERONAUTICS FORUM 2026\nVenue & Location\nSan Diego CA: Our Services\nCustom Booth Models\nFAQ\nAIAA AVIATION AND AERONAUTICS FORUM 2026 — Exhibitor Guide & Custom Booth Options\nThe AIAA AVIATION AND AERONAUTICS FORUM 2026 booth rental offers a strategic advantage for exhibitors looking to make an impact in the aeronautics industry. This premier forum\, held from Dec 7–10\, 2026\, at the San Diego Convention Center\, will connect industry professionals\, engineers\, and researchers with the latest innovations and solutions in the field. \nJoin us for invaluable B2B networking opportunities\, discover cutting-edge aircraft designs\, and engage in discussions on new technologies and engineering solutions. Don’t miss out on the chance to showcase your business alongside leading organizations within the sectors of Aeronautics – Space\, Sciences for Engineers – Research & Development\, Defense – Armament\, Subcontracting\, Suppliers & Partners. \nKey Details:\nDate: Dec 7–10\, 2026 (9:00 AM–5:00 PM)\nLocation: San Diego Convention Center\, 111 W. Harbor Drive\, San Diego\, CA 92101\, USA\nWebsite: AIAA Event Page \nVenue & Location\nThe San Diego Convention Center is an ideal venue for the AIAA AVIATION AND AERONAUTICS FORUM 2026. Located at 111 W. Harbor Drive\, it offers convenient logistics for exhibitors\, including smooth move-in windows and dock access for easy setup of your booth. \nSan Diego CA: Our Services\nWe DESIGN\, PRODUCE\, INSTALL & DISMANTLE turnkey booth rentals in San Diego\, CA. Our comprehensive service includes concept and design\, modular frames\, branded SEG graphics\, reception and storage solutions\, TV mounts\, and on-site installation and dismantling. Our goal is to ensure your booth stands out at the AIAA AVIATION AND AERONAUTICS FORUM 2026\, capturing the attention of attendees and maximizing your impact. \nCustom Booth Models\nOur popular booth footprints\, such as 10×10\, 10×20\, and 20×20\, are crafted to cater to the diverse needs of exhibitors across the aviation sectors. Each model is designed to optimize visitor engagement\, ensuring your message is delivered effectively. For stunning examples\, explore our Snap Exhibitions Custom Booth Models. \nAdditionally\, we provide full-service exhibit support to streamline the planning and execution of your trade show experience. Our expert team is here to help you achieve an impactful presence. \nFAQ\nWhat is the AIAA AVIATION AND AERONAUTICS FORUM 2026 booth rental?\nThe AIAA AVIATION AND AERONAUTICS FORUM 2026 booth rental provides a dedicated space for exhibitors to showcase their innovations and network with industry leaders in the aeronautics field. \nWhat are the event hours and dates?\nThe forum will take place from Dec 7–10\, 2026\, with event hours from 9:00 AM to 5:00 PM. \nWhat booth sizes are recommended for the aeronautics categories?\nWe recommend booth sizes of 10×20 or 20×20 for exhibitors focusing on comprehensive displays\, while 10×10 booths are suitable for startups or smaller organizations aiming for a concise presentation. \nWhy is an aluminum booth better than wood?\nAluminum booths offer durability and lightweight advantages over wooden constructions\, ensuring easier transport and assembly while providing modern aesthetics that attract potential clients. \nWhat are some highlights of San Diego?\nSan Diego is renowned for its beautiful coastlines and vibrant culture\, making it an ideal setting for business and networking events like AIAA AVIATION AND AERONAUTICS FORUM 2026. \nHow can SNAP EXHIBITIONS help make everything perfect for my booth?\nWe specialize in delivering tailored solutions that create standout booths\, ensuring your brand resonates while optimizing your space’s functionality and aesthetic appeal. Contact our team for assistance! \nDon’t miss this opportunity! AIAA AVIATION AND AERONAUTICS FORUM 2026 booth rental is your path to success. Secure your presence and contact our team today!
URL:https://jck2026.com/event/aiaa-aviation-and-aeronautics-forum-2026/
CATEGORIES:Aeronautics - Space,Defense - Armament,Sciences for Engineers - Research & Development,Subcontracting,Suppliers & Partners
END:VEVENT
END:VCALENDAR