BEGIN:VCALENDAR
VERSION:2.0
PRODID:-//JCK 2026 Las Vegas — Local Booth Builder &amp; Rentals - ECPv6.15.13.1//NONSGML v1.0//EN
CALSCALE:GREGORIAN
METHOD:PUBLISH
X-WR-CALNAME:JCK 2026 Las Vegas — Local Booth Builder &amp; Rentals
X-ORIGINAL-URL:https://jck2026.com
X-WR-CALDESC:Events for JCK 2026 Las Vegas — Local Booth Builder &amp; Rentals
REFRESH-INTERVAL;VALUE=DURATION:PT1H
X-Robots-Tag:noindex
X-PUBLISHED-TTL:PT1H
BEGIN:VTIMEZONE
TZID:UTC
BEGIN:STANDARD
TZOFFSETFROM:+0000
TZOFFSETTO:+0000
TZNAME:UTC
DTSTART:20250101T000000
END:STANDARD
END:VTIMEZONE
BEGIN:VEVENT
DTSTART;TZID=UTC:20260608T090000
DTEND;TZID=UTC:20260610T235959
DTSTAMP:20260420T210252
CREATED:20251025T165926Z
LAST-MODIFIED:20251025T165926Z
UID:26142-1780909200-1781135999@jck2026.com
SUMMARY:WORLD PROCESSING TOMATO CONGRESS 2026
DESCRIPTION:WORLD PROCESSING TOMATO CONGRESS 2026 Booth Rental — Essential Guide\nAbout WORLD PROCESSING TOMATO CONGRESS 2026\nWORLD PROCESSING TOMATO CONGRESS 2026 booth rental in Monterey — a vital event for industry leaders in food processing and agriculture sectors. Join us to connect\, collaborate\, and shape the future of the processing tomato industry. This congress will serve as a platform where exhibitors and visitors can exchange innovative ideas\, explore new technologies\, and network with key players.  \nKey Details:Jan 18–20\, 2026\, 9:00 AM–5:00 PMMonterey Conference Center\, One Portola Plaza\, Monterey\, CA 93940\, United States \nIndustries & Audience: Food Processing Industries\, Agriculture – Agricultural Machinery \nVenue & Location\nThe event will be held at the Monterey Conference Center\, located at One Portola Plaza\, Monterey\, CA 93940\, United States. This venue features great logistics for exhibitors\, including access points for move-in and out. \nMonterey: Our Services\nWe DESIGN\, PRODUCE\, INSTALL & DISMANTLE turnkey booth rentals in Monterey. Our offerings include conceptual design\, modular frames\, branded SEG graphics\, & on-site installation/dismantling. Everything you need for a successful trade show experience! \nCustom Booth Models\nExplore our Snap Exhibitions Custom Booth Models. Whether a 10×10\, 10×20\, or 20×20\, we offer popular footprints that cater to *Food Processing Industries* and *Agricultural Machinery*. Our designs ensure maximum engagement and visibility for your brand. \nFor complete support\, rely on our full-service exhibit support. Our booth solutions are ideal for creating a memorable presence. \nReady to get started? Don’t hesitate to contact our team. \nFAQ\n1. What is WORLD PROCESSING TOMATO CONGRESS 2026?It’s a gathering for professionals in the food processing and agriculture sectors to connect and innovate. \n2. When is the event?The congress is scheduled for January 18–20\, 2026\, from 9:00 AM to 5:00 PM. \n3. What booth sizes are recommended for the Food Processing Industries?We recommend booth sizes like 10×20 for effective engagement and visibility at this trade show. \n4. Why is an aluminium booth better than wood?Aluminium is more durable\, lighter\, and offers better design flexibility compared to wood. \n5. What can I expect in Monterey during the congress?Monterey is a beautiful city with various attractions to explore during your stay for the event. \n6. How can SNAP EXHIBITIONS help make everything perfect about my booth?We ensure a seamless experience by handling every detail of your booth rental from concept to installation. \nIn conclusion\, our WORLD PROCESSING TOMATO CONGRESS 2026 booth rental is your best choice for making an impactful impression. For inquiries\, please contact our team today!
URL:https://jck2026.com/event/world-processing-tomato-congress-2026/
CATEGORIES:Agriculture - Agricultural Machinery,Food Processing Industries
END:VEVENT
BEGIN:VEVENT
DTSTART;TZID=UTC:20260608T090000
DTEND;TZID=UTC:20260612T235959
DTSTAMP:20260420T210252
CREATED:20251026T214328Z
LAST-MODIFIED:20251026T214328Z
UID:26338-1780909200-1781308799@jck2026.com
SUMMARY:AIAA AVIATION AND AERONAUTICS FORUM 2026
DESCRIPTION:AIAA AVIATION AND AERONAUTICS FORUM 2026 booth rental — Ultimate Guide\nAbout AIAA AVIATION AND AERONAUTICS FORUM 2026\nVenue & Location\nSan Diego CA: Our Services\nCustom Booth Models\nFAQ\nAIAA AVIATION AND AERONAUTICS FORUM 2026 — Exhibitor Guide & Custom Booth Options\nThe AIAA AVIATION AND AERONAUTICS FORUM 2026 booth rental offers a strategic advantage for exhibitors looking to make an impact in the aeronautics industry. This premier forum\, held from Dec 7–10\, 2026\, at the San Diego Convention Center\, will connect industry professionals\, engineers\, and researchers with the latest innovations and solutions in the field. \nJoin us for invaluable B2B networking opportunities\, discover cutting-edge aircraft designs\, and engage in discussions on new technologies and engineering solutions. Don’t miss out on the chance to showcase your business alongside leading organizations within the sectors of Aeronautics – Space\, Sciences for Engineers – Research & Development\, Defense – Armament\, Subcontracting\, Suppliers & Partners. \nKey Details:\nDate: Dec 7–10\, 2026 (9:00 AM–5:00 PM)\nLocation: San Diego Convention Center\, 111 W. Harbor Drive\, San Diego\, CA 92101\, USA\nWebsite: AIAA Event Page \nVenue & Location\nThe San Diego Convention Center is an ideal venue for the AIAA AVIATION AND AERONAUTICS FORUM 2026. Located at 111 W. Harbor Drive\, it offers convenient logistics for exhibitors\, including smooth move-in windows and dock access for easy setup of your booth. \nSan Diego CA: Our Services\nWe DESIGN\, PRODUCE\, INSTALL & DISMANTLE turnkey booth rentals in San Diego\, CA. Our comprehensive service includes concept and design\, modular frames\, branded SEG graphics\, reception and storage solutions\, TV mounts\, and on-site installation and dismantling. Our goal is to ensure your booth stands out at the AIAA AVIATION AND AERONAUTICS FORUM 2026\, capturing the attention of attendees and maximizing your impact. \nCustom Booth Models\nOur popular booth footprints\, such as 10×10\, 10×20\, and 20×20\, are crafted to cater to the diverse needs of exhibitors across the aviation sectors. Each model is designed to optimize visitor engagement\, ensuring your message is delivered effectively. For stunning examples\, explore our Snap Exhibitions Custom Booth Models. \nAdditionally\, we provide full-service exhibit support to streamline the planning and execution of your trade show experience. Our expert team is here to help you achieve an impactful presence. \nFAQ\nWhat is the AIAA AVIATION AND AERONAUTICS FORUM 2026 booth rental?\nThe AIAA AVIATION AND AERONAUTICS FORUM 2026 booth rental provides a dedicated space for exhibitors to showcase their innovations and network with industry leaders in the aeronautics field. \nWhat are the event hours and dates?\nThe forum will take place from Dec 7–10\, 2026\, with event hours from 9:00 AM to 5:00 PM. \nWhat booth sizes are recommended for the aeronautics categories?\nWe recommend booth sizes of 10×20 or 20×20 for exhibitors focusing on comprehensive displays\, while 10×10 booths are suitable for startups or smaller organizations aiming for a concise presentation. \nWhy is an aluminum booth better than wood?\nAluminum booths offer durability and lightweight advantages over wooden constructions\, ensuring easier transport and assembly while providing modern aesthetics that attract potential clients. \nWhat are some highlights of San Diego?\nSan Diego is renowned for its beautiful coastlines and vibrant culture\, making it an ideal setting for business and networking events like AIAA AVIATION AND AERONAUTICS FORUM 2026. \nHow can SNAP EXHIBITIONS help make everything perfect for my booth?\nWe specialize in delivering tailored solutions that create standout booths\, ensuring your brand resonates while optimizing your space’s functionality and aesthetic appeal. Contact our team for assistance! \nDon’t miss this opportunity! AIAA AVIATION AND AERONAUTICS FORUM 2026 booth rental is your path to success. Secure your presence and contact our team today!
URL:https://jck2026.com/event/aiaa-aviation-and-aeronautics-forum-2026/
CATEGORIES:Aeronautics - Space,Defense - Armament,Sciences for Engineers - Research & Development,Subcontracting,Suppliers & Partners
END:VEVENT
BEGIN:VEVENT
DTSTART;TZID=UTC:20260609T090000
DTEND;TZID=UTC:20260610T235959
DTSTAMP:20260420T210252
CREATED:20251024T094704Z
LAST-MODIFIED:20251024T094704Z
UID:25928-1780995600-1781135999@jck2026.com
SUMMARY:BCB - BAR CONVENT BROOKLYN 2026
DESCRIPTION:BCB – BAR CONVENT BROOKLYN 2026 booth rental — Premium Exhibitor Guide & Custom Booth Options\nAbout BCB – BAR CONVENT BROOKLYN 2026\nBCB – BAR CONVENT BROOKLYN 2026 booth rental is essential for professionals in the beverage industry. This event draws bar and beverage professionals together to network and learn about new trends\, techniques\, and products in both domestic and international markets. Attendees will gain valuable insights that can enhance their business and position within the dynamic beverage landscape. \n\nKey Details:\nDates: Dec 6–7\, 10:00 AM–6:00 PM\nVenue: Industry City\, 220 36th St 2A\, Brooklyn\, NY\, United States\n\nIndustries & Audience: Catering & Hospitality Industries\, Wine & Spirits – Viticulture & Enology – Beer\, Retail & Shop Fitting Equipment & Service\, Decoration\, Home & Office Design\, Furniture\, Lighting\, Marketing & Selling. \nVenue & Location\nIndustry City is conveniently located in Brooklyn\, NY\, offering easy access and ample space for exhibitors. It provides good logistics for move-in and dock access\, ensuring an efficient setup for your booth. \nFor inquiries\, please call: {Phone}. \nBrooklyn NY: Our Services\nIn Brooklyn NY\, we DESIGN\, PRODUCE\, INSTALL & DISMANTLE turnkey booth rentals. Our services include concept design\, modular frames\, branded SEG graphics\, reception/storage areas\, and TV mounts\, all tailored to meet your specific needs for the BCB – BAR CONVENT BROOKLYN 2026 booth rental. \nCustom Booth Models\nWe offer various popular booth footprints\, including: \n\n10×10 – perfect for those entering the market.\n10×20 – allows for greater visibility and a more engaging layout.\n20×20 – ideal for bigger brands looking to make a strong impact.\n\nDiscover our Snap Exhibitions Custom Booth Models that fit perfectly with the needs of attendees in your sectors. Additionally\, we provide full-service exhibit support\, ensuring a seamless experience from concept to execution. If you’re interested in elevating your presence at this event\, contact our team today! \nFAQ\nQ1: What is BCB – BAR CONVENT BROOKLYN 2026 booth rental?A1: BCB – BAR CONVENT BROOKLYN 2026 booth rental allows exhibitors to showcase their products and services in a vibrant environment filled with industry professionals. \nQ2: When does the event take place?A2: The event is scheduled for December 6–7\, 2026\, from 10:00 AM to 6:00 PM daily. \nQ3: What booth sizes are recommended for the Catering & Hospitality Industries?A3: We recommend utilizing at least a 10×10 booth size for individual exhibitors\, with opportunities for larger spaces such as 10×20 or 20×20 for greater brand visibility. \nQ4: Why is an aluminum booth better than wood?A4: Aluminum booths are more durable\, lightweight\, and easier to transport than wood\, making them a preferred choice for many exhibitors. \nQ5: What can you tell me about Brooklyn?A5: Brooklyn is a vibrant area known for its diverse culture and thriving business scene\, making it an ideal location for events like BCB – BAR CONVENT BROOKLYN. \nQ6: What is the significance of BCB – BAR CONVENT 2026?A6: This event is significant as it offers a unique platform for industry professionals to connect and explore innovative solutions and trends. \nQ7: How can Snap Exhibitions help make everything perfect about my booth?A7: Snap Exhibitions specializes in turnkey booth rentals\, ensuring that every detail from design to installation is handled efficiently for a standout presence. \nIn conclusion\, the BCB – BAR CONVENT BROOKLYN 2026 booth rental offers an exceptional opportunity for showcasing your brand in a meaningful way. Don’t miss out on this essential experience—contact us today at https://snapexhibitions.com/contact-snap-exhibitions/!
URL:https://jck2026.com/event/bcb-bar-convent-brooklyn-2026/
CATEGORIES:Catering & Hospitality Industries,Decoration,Furniture,Home & Office Design,Lighting,Marketing & Selling,Retail & Shop Fitting Equipment & Service,Wine & Spirits - Viticulture & Enology - Beer
END:VEVENT
BEGIN:VEVENT
DTSTART;TZID=UTC:20260609T090000
DTEND;TZID=UTC:20260612T235959
DTSTAMP:20260420T210252
CREATED:20251024T092450Z
LAST-MODIFIED:20251024T092450Z
UID:25894-1780995600-1781308799@jck2026.com
SUMMARY:ITS AMERICA CONFERENCE & EXPO 2026
DESCRIPTION:ITS AMERICA CONFERENCE & EXPO 2026 booth rental — Ultimate Guide & Custom Booth Options\nAbout ITS AMERICA CONFERENCE & EXPO 2026\nVenue & Location\nDetroit MI: Our Services\nCustom Booth Models\nFAQ\nITS AMERICA CONFERENCE & EXPO 2026 — A Premier Event for Transportation Solutions\nITS AMERICA CONFERENCE & EXPO 2026 booth rental is your gateway to showcasing innovations in the intelligent transportation community. This event is designed for professionals in Automotive Engineering – Systems & Components\, Logistics & Transportation Engineering\, and more. Attendees can expect thought-provoking education\, networking opportunities\, and live demonstrations that delve into future technologies and solutions. \nKey Details: April 3–5\, 2026\, Huntington Place Convention Center\, 1 Washington Boulevard\, Detroit\, MI 48226\, USA. \nJoin us at this essential conference to network\, learn\, and explore the future of intelligent transportation. \nIndustries & Audience\nThis year’s conference attracts a vibrant community ranging from Sciences for Engineers to Urban Equipment & Engineering. Make sure you’re part of this important dialogue! \nVenue & Location\nWe’re pleased to host the ITS AMERICA CONFERENCE & EXPO 2026 at the Huntington Place Convention Center located at 1 Washington Boulevard\, Detroit\, MI 48226\, USA. Enjoy easy access with central proximity to local amenities and major transport routes. Being a premier venue\, it offers ideal logistics for move-in windows and dock access for exhibitors. \nContact: [Insert Phone Number] \nDetroit MI: Our Services\nWe design\, produce\, install\, & dismantle turnkey booth rentals in Detroit MI. Our comprehensive service includes concept and design\, modular frames\, branded SEG graphics\, storage\, TV mounts\, and on-site installation and dismantling\, ensuring that you succeed at the conference. \nCustom Booth Models\nExplore our Snap Exhibitions Custom Booth Models to find the perfect fit for your needs. Popular footprints\, including 10×10\, 10×20\, and 20×20\, cater to a variety of presentation styles and audience engagement\, making them ideal for the diverse sectors represented at the conference. \nWe provide full-service exhibit support\, handling every detail so that you can focus on making connections and showcasing your innovations. \nReady to make an impact? Contact our team for expert assistance and let us ensure your experience is seamless. \nFAQ\nWhat is the ITS AMERICA CONFERENCE & EXPO 2026 booth rental opportunity?\nYour booth rental gives you a platform to connect with key industry players and explore insights on intelligent transportation technologies. \nWhat are the event hours and dates for ITS AMERICA CONFERENCE & EXPO 2026?\nThe event takes place from April 3–5\, 2026\, with specific hours to be announced closer to the date. \nWhat booth sizes are recommended for the Automotive Engineering sector?\nWe recommend a 10×10 or 10×20 booth to optimally present your offerings and engage attendees. \nWhy is an aluminum booth better than wood?\nAluminum provides a lighter\, more durable structure\, allowing for a more dynamic design while being less susceptible to warping. \nWhat local attractions should I visit during my stay in Detroit?\nDon’t miss the Detroit Institute of Arts and the Henry Ford Museum to enrich your visit! \nHow can SNAP EXHIBITIONS make everything perfect about my booth?\nWe customize each booth to reflect your brand’s identity\, ensuring every detail is executed flawlessly to attract and engage attendees. \nFinal Call to Action\nSecure your spot at ITS AMERICA CONFERENCE & EXPO 2026 booth rental for a significant impact on your business! Contact us today!
URL:https://jck2026.com/event/its-america-conference-expo-2026/
CATEGORIES:Automotive Engineering - Systems & Components,Bridges & Tunnels,Knowledge Based Systems & Artificial Intelligence,Logistics & Transportation Engineering - Handling Operations - Storage,Real Time Systems & Embedded Systems,Roads,Sciences for Engineers - Research & Development,Trucks and Utility Vehicles,Urban Equipment & Engineering
END:VEVENT
BEGIN:VEVENT
DTSTART;TZID=UTC:20260610T090000
DTEND;TZID=UTC:20260613T235959
DTSTAMP:20260420T210252
CREATED:20251026T214301Z
LAST-MODIFIED:20251026T214301Z
UID:26337-1781082000-1781395199@jck2026.com
SUMMARY:AIA CONVENTION 2026
DESCRIPTION:AIA Convention 2026 Booth Rental — Ultimate Exhibitor Guide & Custom Booth Options\nAbout AIA Convention 2026\nAIA Convention 2026 booth rental offers an essential opportunity for exhibitors to connect with industry leaders at the San Diego Convention Center. This event is the American Institute of Architects Expo & Convention\, where top-level professionals gather to set budgets\, select vendors\, and specify the latest products\, materials\, and technologies. Attendees can expect a variety of exhibitors showcasing innovations in architecture\, building\, and construction. \n\nKey Details: May 18–20\, 2026\, 9:00 AM–5:00 PM\nLocation: San Diego Convention Center\nAddress: 111 W. Harbor Drive\, San Diego\, CA 92101\, USA\nWebsite: AIA Convention Website\n\nIndustries & Audience: The event caters to professionals in Architecture\, Building & Construction\, Urban Equipment & Engineering\, Subcontracting\, Suppliers & Partners. \nVenue & Location\nThe event will be held at the San Diego Convention Center\, located at 111 W. Harbor Drive\, San Diego\, CA\, USA. This renowned venue offers excellent logistics for exhibitors\, including convenient move-in windows and nearby dock access. For further inquiries\, feel free to reach out via phone. \nSan Diego\, CA: Our Services\nWe DESIGN\, PRODUCE\, INSTALL & DISMANTLE turnkey booth rentals in San Diego\, CA. Our service scope includes concept design\, modular frames\, branded SEG graphics\, and on-site installation and dismantle (I&D) support. We ensure everything is in place so that you can focus on networking and boosting your business at the AIA Convention. \nCustom Booth Models\nOur popular booth footprints include: \n\n10×10: Ideal for exhibiting new products or services\, this size is perfect for showcasing your brand effectively.\n10×20: This size allows for a more spacious setup while still being manageable for small teams.\n20×20: Great for larger displays. It’s ideal for impactful presentations and engaging larger audiences.\n\nTo explore our Snap Exhibitions Custom Booth Models\, and to get full-service exhibit support\, contact our team today! \nFAQ\n\nWhat is AIA Convention 2026 booth rental?This is a service offering exhibitors the chance to set up their stands at the AIA Convention 2026 in San Diego.\nWhen does AIA Convention 2026 take place?The event runs from May 18 to May 20\, 2026\, with hours from 9:00 AM to 5:00 PM each day.\nWhat booth sizes are recommended for the Architecture sector?We recommend booth sizes of 10×10\, 10×20\, or 20×20\, depending on your display needs.\nWhy is an aluminum booth better than wood?Aluminum booths are lighter\, more durable\, and easier to transport than wooden structures\, making them an excellent option for trade shows.\nWhat are the benefits of attending AIA Convention 2026?It offers exceptional networking opportunities and insights into the latest innovations in architecture and construction.\nHow can SNAP EXHIBITIONS help make everything perfect about my booth?We provide comprehensive support from design to dismantle\, ensuring your booth stands out and meets all your requirements.\nWhat can exhibitors expect in San Diego during the convention?Exhibitors can enjoy a vibrant atmosphere\, professional networking\, and valuable interactions that can lead to future projects.\n\nIn conclusion\, securing your AIA Convention 2026 booth rental is the best step towards making the most of this exceptional opportunity. Experience how we can enhance your exhibition presence by reaching out through our contact page. Don’t miss out on making a powerful impression at this important industry event!
URL:https://jck2026.com/event/aia-convention-2026/
CATEGORIES:Architecture,Building & Construction,Subcontracting,Suppliers & Partners,Urban Equipment & Engineering
END:VEVENT
END:VCALENDAR