BEGIN:VCALENDAR
VERSION:2.0
PRODID:-//JCK 2026 Las Vegas — Local Booth Builder &amp; Rentals - ECPv6.15.13.1//NONSGML v1.0//EN
CALSCALE:GREGORIAN
METHOD:PUBLISH
X-WR-CALNAME:JCK 2026 Las Vegas — Local Booth Builder &amp; Rentals
X-ORIGINAL-URL:https://jck2026.com
X-WR-CALDESC:Events for JCK 2026 Las Vegas — Local Booth Builder &amp; Rentals
REFRESH-INTERVAL;VALUE=DURATION:PT1H
X-Robots-Tag:noindex
X-PUBLISHED-TTL:PT1H
BEGIN:VTIMEZONE
TZID:UTC
BEGIN:STANDARD
TZOFFSETFROM:+0000
TZOFFSETTO:+0000
TZNAME:UTC
DTSTART:20250101T000000
END:STANDARD
END:VTIMEZONE
BEGIN:VEVENT
DTSTART;TZID=UTC:20260619T090000
DTEND;TZID=UTC:20260621T235959
DTSTAMP:20260420T210309
CREATED:20251025T172604Z
LAST-MODIFIED:20251025T172604Z
UID:26158-1781859600-1782086399@jck2026.com
SUMMARY:THE WOODENBOAT SHOW CONNECTICUT 2026
DESCRIPTION:THE WOODENBOAT SHOW CONNECTICUT 2026 Booth Rental — Premium Opportunities\nAbout THE WOODENBOAT SHOW CONNECTICUT 2026\nVenue & Location\nMystic CT: Our Services\nCustom Booth Models\nFAQ\nAbout THE WOODENBOAT SHOW CONNECTICUT 2026\nWelcome to **THE WOODENBOAT SHOW CONNECTICUT 2026 Booth Rental**. This is a premier event for boating\, sailing\, and water sports enthusiasts. The show features a wide array of boat industry products and sailing-related items crafted from aluminum\, wood\, and PVC\, brought to you by leading marine vendors. Visitors gain invaluable insights and access to the latest advancements in marine activity\, ensuring a fantastic experience for all. Join us at Mystic Seaport from Oct 19–21\, 2026\, 9:00 AM–5:00 PM at Mystic Seaport\, 75 Greenmanville Ave\, Mystic\, CT\, United States. For more information\, visit our website. \nIndustries & Audience: This show caters to professionals and enthusiasts in the boating\, sailing\, and water sports sectors. \nVenue & Location\nJoin us at the iconic Mystic Seaport\, located at 75 Greenmanville Ave\, Mystic\, CT\, United States. The venue is known for its accessibility and ample space\, ideal for exhibiting. Attendees can easily access the venue\, with standard move-in windows and dock access available for exhibitors. \nFor inquiries\, feel free to call us at +1 (207) 359-7751. \nMystic CT: Our Services\nWe DESIGN\, PRODUCE\, INSTALL\, & DISMANTLE turnkey **booth rentals** in Mystic\, CT. Our services encompass the entire process from concept and design to modular frames and on-site installation. Our solutions include branded SEG graphics\, reception/storage areas\, and TV mounts to showcase your offerings effectively. \nCustom Booth Models\nExplore our **popular booth footprints** that cater to a variety of needs:  \n\n10×10 booths—perfect for small brands making a big impact in the boating industry.\n10×20 booths—ideal for showcasing a wider range of products for medium-sized enterprises.\n20×20 booths—designed for larger exhibitors who want to dominate the show floor.\n\nFor detailed options\, view our Snap Exhibitions Custom Booth Models and take advantage of our full-service exhibit support. Don’t hesitate to contact our team for personalized assistance. \nFAQ\nQ1: What is THE WOODENBOAT SHOW CONNECTICUT 2026? It’s a premier event showcasing products and services in the boating industry. \nQ2: What are the dates and hours for the event? The event runs from Oct 19–21\, 2026\, 9:00 AM–5:00 PM. \nQ3: What booth sizes do you recommend for boating and water sports sectors? We recommend starting with a 10×10 booth for newcomers and a 20×20 footprint for more established exhibitors. \nQ4: Why is an aluminum booth better than wood? Aluminum is more durable\, lighter\, and easier to transport than wood\, making it a practical choice for events. \nQ5: What services does Snap Exhibitions provide in Mystic? We offer comprehensive booth rental services along with design and installation support. \nQ6: How can SNAP EXHIBITIONS help make everything perfect about their booth? We ensure seamless operation and provide custom solutions to meet every exhibitor’s unique needs. \nQ7: What can attendees expect at THE WOODENBOAT SHOW CONNECTICUT 2026? Attendees will discover the latest products and innovations in the boating industry. \nTo make the most of your experience\, consider booking a **THE WOODENBOAT SHOW CONNECTICUT 2026 booth rental** with us. Get in touch with our team at Snap Exhibitions for all your exhibition needs.
URL:https://jck2026.com/event/the-woodenboat-show-connecticut-2026/
CATEGORIES:Boating,Sailing & Water Sports,Sports,Wood Working Industries
END:VEVENT
BEGIN:VEVENT
DTSTART;TZID=UTC:20260621T090000
DTEND;TZID=UTC:20260624T235959
DTSTAMP:20260420T210309
CREATED:20251024T172248Z
LAST-MODIFIED:20251024T172248Z
UID:25974-1782032400-1782345599@jck2026.com
SUMMARY:A&WMA CONFERENCE & EXHIBITION 2026
DESCRIPTION:Austin booth rental for A&WMA CONFERENCE & EXHIBITION 2026 — Premium Experience\nAbout A&WMA CONFERENCE & EXHIBITION 2026\nAustin booth rental for A&WMA CONFERENCE & EXHIBITION 2026 is an essential opportunity for environmental professionals. This premier event hosted by the Air & Waste Management Association (A&WMA) boasts remarkable educational sessions\, exceptional networking possibilities\, and solutions tailored to today’s pressing environmental challenges. Attendees will enhance their knowledge and connect with fellow professionals from around the globe. \nKey Details:\nDate: Feb 20–22\, 2026\, 9:00 AM–5:00 PM\nLocation: JW Marriott\, Austin\nAddress: 110 E 2nd St\, Austin\, TX 78701\, United States\nMore Info: Visit Event Website \nIndustries & Audience: Water Management and Treatment\, Waste Management – Recycling\, Environmental Protection\, Clean Energies – Renewable Energies \nVenue & Location\nThe event will take place at JW Marriott in Austin\, perfectly located to accommodate attendees. Although specific logistics like move-in windows and dock access are not specified\, you can expect a convenient and professional setup. If you have any questions\, feel free to reach out at {Phone} for more assistance. \nAustin TX: Our Services\nWe DESIGN\, PRODUCE\, INSTALL & DISMANTLE turnkey booth rentals in Austin\, TX. Our comprehensive services include concept/design\, modular frames\, branded SEG graphics\, reception/storage areas\, TV mounts\, and on-site installation and dismantling\, ensuring a seamless experience for you at the A&WMA CONFERENCE & EXHIBITION 2026. \nCustom Booth Models\nAt Snap Exhibitions\, we offer a range of Snap Exhibitions Custom Booth Models ideal for any exhibitor. Popular booth footprints include: \n\n10×10: Perfect for engaging with attendees in Water Management and Treatment sectors.\n10×20: A great choice for brands looking to showcase larger displays while maintaining intimacy in connection.\n20×20: Ideal for substantial brand visibility and interaction in Environmental Protection and Renewable Energies.\n\nEach option is designed to enhance your presence at the event\, while our full-service exhibit support ensures that everything meets your unique needs. \nFAQ\n\nWhat is Austin booth rental for A&WMA CONFERENCE & EXHIBITION 2026?\nAustin booth rental for A&WMA CONFERENCE & EXHIBITION 2026 allows exhibitors to present their services and products effectively at this crucial environmental industry event.\nWhat are the event hours for A&WMA CONFERENCE & EXHIBITION?\nThe event hours are from Feb 20–22\, 2026\, from 9:00 AM to 5:00 PM.\nWhat booth sizes are recommended for the Environmental Protection sector?\nWe recommend 10×20 or larger for maximum visibility and impact in the Environmental Protection sector.\nWhy is an aluminum booth better than wood?\nAn aluminum booth is typically lighter\, more durable\, and easier to assemble\, making it a popular choice for exhibitions.\nWhat can I expect from attending the A&WMA CONFERENCE & EXHIBITION in Austin?\nYou can anticipate valuable networking opportunities\, insightful sessions\, and the chance to connect with leading professionals in the environmental industry.\nHow can Snap Exhibitions help me ensure my booth is perfect?\nWe provide comprehensive support\, from design to installation\, ensuring your booth meets all your expectations for A&WMA CONFERENCE & EXHIBITION 2026. Don’t hesitate to contact our team for a personalized experience!
URL:https://jck2026.com/event/awma-conference-exhibition-2026/
CATEGORIES:Clean Energies - Renewable Energies,Environmental Protection,Waste Management - Recycling,Water Management and Treatment
END:VEVENT
END:VCALENDAR