BEGIN:VCALENDAR
VERSION:2.0
PRODID:-//JCK 2026 Las Vegas — Local Booth Builder &amp; Rentals - ECPv6.15.13.1//NONSGML v1.0//EN
CALSCALE:GREGORIAN
METHOD:PUBLISH
X-ORIGINAL-URL:https://jck2026.com
X-WR-CALDESC:Events for JCK 2026 Las Vegas — Local Booth Builder &amp; Rentals
REFRESH-INTERVAL;VALUE=DURATION:PT1H
X-Robots-Tag:noindex
X-PUBLISHED-TTL:PT1H
BEGIN:VTIMEZONE
TZID:UTC
BEGIN:STANDARD
TZOFFSETFROM:+0000
TZOFFSETTO:+0000
TZNAME:UTC
DTSTART:20250101T000000
END:STANDARD
END:VTIMEZONE
BEGIN:VEVENT
DTSTART;TZID=UTC:20260622T090000
DTEND;TZID=UTC:20260625T235959
DTSTAMP:20260420T210855
CREATED:20251024T080154Z
LAST-MODIFIED:20251024T080154Z
UID:25701-1782118800-1782431999@jck2026.com
SUMMARY:CUSTOMER CONTACT WEEK 2026
DESCRIPTION:CUSTOMER CONTACT WEEK 2026 booth rental — Impactful Exhibitor Guide & Custom Booth Options\nAbout CUSTOMER CONTACT WEEK 2026\nCUSTOMER CONTACT WEEK 2026 booth rental is an excellent solution for exhibitors in Las Vegas\, NV. This event showcases the latest tools\, technology\, and techniques in the customer contact industry\, making it an essential gathering for professionals aiming to drive their business endeavors to new heights. \nThe event will be held at Caesars Palace from June 19–23\, 2026\, 9:00 AM–5:00 PM daily. Here are the key details: \n\nDate: June 19–23\, 2026\nLocation: Caesars Palace\nAddress: 3570 Las Vegas Boulevard South\, Las Vegas\, NV 89109\, USA\nWebsite: customercontactweek.com\n\nIndustries & Audience: This event caters to those in Marketing & Selling\, Decision Helping Tools & Management Services\, Public Relations & Advertising\, Data Computing Services\, Internet & Intranet. \nVenue & Location\nCaesars Palace is a prime venue located at 3570 Las Vegas Boulevard South\, Las Vegas\, NV 89109\, USA. The space offers ample logistics for incoming exhibitors\, including central access and accommodating move-in windows. \nLas Vegas NV: Our Services\nWe DESIGN\, PRODUCE\, INSTALL & DISMANTLE turnkey booth rentals in Las Vegas NV. Our full-service solutions encompass concept and design\, modular frames\, branded SEG graphics\, reception/storage areas\, TV mounts\, and on-site installation and dismantling. \nCustom Booth Models\nExplore our Snap Exhibitions Custom Booth Models\, perfect for various footprints. Our popular options include 10×10\, 10×20\, and 20×20 booths\, ideal for enhancing your presence in the Marketing & Selling sectors. \nWe also provide full-service exhibit support to ensure your presence is unforgettable. For more information\, contact our team today. \nFAQ\n\nWhat is the CUSTOMER CONTACT WEEK 2026 booth rental?The CUSTOMER CONTACT WEEK 2026 booth rental provides a seamless solution for exhibitors looking to make an impact at this premier event.\nWhen is CUSTOMER CONTACT WEEK 2026?The event takes place from June 19 to June 23\, 2026\, from 9:00 AM to 5:00 PM.\nWhat are the recommended booth sizes for the Marketing & Selling sectors?We suggest starting with a 10×10 space to build your brand’s presence effectively.\nWhy is an aluminum booth better than wood?Aluminum booths offer better durability and flexibility while remaining lightweight and easy to transport.\nWhat can I expect at CUSTOMER CONTACT WEEK 2026?You can expect a diverse range of exhibitors and attendees focused on enhancing customer contact methodologies.\nHow does the Las Vegas venue support trade shows?The Caesars Palace venue is well-equipped with all essential services for smooth event operations and comfort.\nHow can SNAP EXHIBITIONS help perfect my booth?We provide end-to-end support for your booth from design to installation\, ensuring it stands out at CUSTOMER CONTACT WEEK 2026.\n\nIn conclusion\, CUSTOMER CONTACT WEEK 2026 booth rental is a pivotal opportunity for businesses looking to engage effectively in the customer contact sphere. For more details or to secure your booth\, don’t hesitate to contact our team today!
URL:https://jck2026.com/event/customer-contact-week-2026/
CATEGORIES:Data Computing Services,Decision Helping Tools & Management Services,Internet & Intranet,Marketing & Selling,Public Relations & Advertising
END:VEVENT
BEGIN:VEVENT
DTSTART;TZID=UTC:20260622T090000
DTEND;TZID=UTC:20260625T235959
DTSTAMP:20260420T210855
CREATED:20251024T080834Z
LAST-MODIFIED:20251024T080834Z
UID:25716-1782118800-1782431999@jck2026.com
SUMMARY:AUTOMATE SHOW 2026
DESCRIPTION:AUTOMATE SHOW 2026 booth rental — Premium Exhibitor Guide & Custom Booth Options\nAbout AUTOMATE SHOW 2026\nVenue & Location\nChicago IL: Our Services\nCustom Booth Models\nFAQ\nAbout AUTOMATE SHOW 2026\nAUTOMATE SHOW 2026 booth rental provides an excellent opportunity for exhibitors to connect with key audiences in the industrial automation sector. This trade show will showcase the latest innovations in Industrial Controllers\, Robotics\, Applied Computer & Industrial Engineering\, enhancing your visibility in this competitive field. \nFrom April 22–25\, 2026\, visitors will congregate at the Chicago\, IL venue\, where you can engage with potential clients and partners. The event offers a platform to highlight your solutions and network with industry leaders. Key Details:  \n\nEvent Dates: April 22–25\, 2026\nLocation: Chicago\, IL\nCountry: United States\nMore Details Here\n\nVenue & Location\nThe event will take place in Chicago\, IL\, an ideal venue with central access for exhibitors and attendees. Chicago offers a robust infrastructure facilitating both logistics and planning for seamless move-in and display setup. We recommend planning ahead to ensure smooth operations during your exhibition. \nChicago IL: Our Services\nWe DESIGN\, PRODUCE\, INSTALL & DISMANTLE turnkey booth rentals in Chicago IL. Our scope includes concept design\, modular frames\, branded SEG graphics\, reception/storage\, TV mounts\, and on-site installation and dismantling (I&D). Our team ensures your exhibition booth stands out while providing a hassle-free experience for you. \nCustom Booth Models\nExplore our Snap Exhibitions Custom Booth Models designed to cater to the dynamic needs of the industrial sector. We offer popular footprints such as 10×10\, 10×20\, and 20×20 configurations\, enabling exhibitors to create engaging spaces that draw in audiences. \nEach model is tailored to fit within the designated spaces\, ensuring fitting solutions for various industries. Paired with our full-service exhibit support\, we work diligently to enhance your presentation. \nTo elevate your experience\, contact our team for assistance in selecting the best booth size and model that complements your exhibitor goals and audience engagement strategies. \nFAQ\nQ: What is AUTOMATE SHOW 2026 booth rental?AUTOMATE SHOW 2026 booth rental offers exhibitors a platform to showcase their innovations in industrial automation while enhancing network opportunities. \nQ: What are the dates and hours of the event?The event will be held from April 22–25\, 2026. \nQ: What booth sizes are recommended for the industrial sector?Popular sizes include 10×10 and 10×20\, which provide adequate space for product displays and customer engagement. \nQ: Why is an aluminum booth better than wood?Aluminum booths are lighter\, more durable\, and easier to transport and set up compared to traditional wooden displays. \nQ: What can SNAP EXHIBITIONS do for my booth?We are committed to making your exhibition experience seamless with custom booth rentals and end-to-end support. \nQ: How can I contact you for a reliable booth rental?For more inquiries\, please contact us directly. \nJoin us at AUTOMATE SHOW 2026 booth rental to seize this incredible opportunity for growth and engagement. Don’t hesitate\, reach out today at contact our team for all your exhibition needs!
URL:https://jck2026.com/event/automate-show-2026/
CATEGORIES:Applied Computer & Industrial Engineering,Industrial Controllers,Robotics
END:VEVENT
BEGIN:VEVENT
DTSTART;TZID=UTC:20260622T090000
DTEND;TZID=UTC:20260625T235959
DTSTAMP:20260420T210855
CREATED:20251026T214232Z
LAST-MODIFIED:20251026T214232Z
UID:26336-1782118800-1782431999@jck2026.com
SUMMARY:BIO '2026
DESCRIPTION:BIO ‘2026 booth rental — Exhibitor Guide & Premium Options\nAbout BIO ‘2026\nBIO ‘2026 booth rental provides a unique opportunity for exhibitors to showcase their innovations in a premier setting. This event attracts decision makers in the industries of Biotechnology\, Pharmaceuticals & Cosmetology\, Health Professionals. Attending this exhibition allows participants to form partnerships and evaluate emerging technologies while reaching high-level executives and influential leaders. \nKey Details:Dates: Jul 20–23\, 2026\, 9:00 AM–5:00 PMLocation: San Diego Convention Center\, 111 W. Harbor Drive\, San Diego\, CA 92101 USAFor more information\, visit BIO ‘2026 event website. \nVenue & Location\nThe San Diego Convention Center\, located at 111 W. Harbor Drive\, San Diego\, CA\, USA\, serves as a central hub for the BIO ‘2026 exhibition. The venue allows easy access for attendees\, with convenient loading dock access and move-in windows for seamless booth setup.  \nFor additional inquiries\, you may contact the venue directly. \nSan Diego CA: Our Services\nIn San Diego\, we DESIGN\, PRODUCE\, INSTALL & DISMANTLE turnkey booth rentals. Our services encompass concept/design\, modular frames\, branded SEG graphics\, and on-site installation & dismantling. This city offers extensive opportunities for exhibitors to create a memorable impact in the biotechnology sector. \nCustom Booth Models\nWe provide various popular booth footprints to fit the needs of attendees in the Biotechnology\, Pharmaceuticals & Cosmetology\, and Health Professionals sectors: \n\n10×10 Booths: A compact option great for networking opportunities.\n10×20 Booths: Offers more space to showcase innovations effectively.\n20×20 Booths: Ideal for companies looking to make a significant impact.\n\nFor a deeper look at our offerings\, check out our Snap Exhibitions Custom Booth Models or our full-service exhibit support. To discuss your specific needs\, contact our team. \nFAQ\n1. What is the focus of BIO ‘2026 booth rental?Our booth rental primarily targets professionals in the biotechnology\, pharmaceuticals\, and health sectors. \n2. When is BIO ‘2026?The event is scheduled from July 20–23\, 2026\, with hours from 9:00 AM to 5:00 PM. \n3. What booth sizes do you recommend for the Biotechnology industry?We suggest exploring either the 10×20 or 20×20 booths for optimal exposure at industry events. \n4. Why is an aluminum booth better than wood?Aluminum booths are lighter\, more durable\, and offer a sleek look\, making them ideal for modern exhibitions. \n5. What should I know about San Diego for exhibit planning?San Diego offers a vibrant atmosphere and access to a large pool of industry professionals attending the BIO ‘2026 event. \n6. How can I make my booth stand out at BIO ‘2026?With our turnkey booth rentals\, we ensure your exhibit is designed to attract attention and convey your brand message effectively. \nIn conclusion\, if you’re looking for a savvy option\, our BIO ‘2026 booth rental combines all the necessary elements for an impactful presence at this pivotal industry event. For more details on booth options\, contact our team today.
URL:https://jck2026.com/event/bio-2026/
CATEGORIES:Biotechnology,Health Professionals,Pharmaceuticals & Cosmetology
END:VEVENT
BEGIN:VEVENT
DTSTART;TZID=UTC:20260623T090000
DTEND;TZID=UTC:20260625T235959
DTSTAMP:20260420T210855
CREATED:20251025T174115Z
LAST-MODIFIED:20251025T174115Z
UID:26189-1782205200-1782431999@jck2026.com
SUMMARY:COMMERCENEXT 2026
DESCRIPTION:COMMERCENEXT 2026 booth rental — Premium Exhibitor Guide & Custom Booth Options\nAbout COMMERCENEXT 2026\nCOMMERCENEXT 2026 booth rental offers an unparalleled opportunity for exhibitors in New York. This premier event focuses on Marketing & Selling\, Internet & Intranet\, Retail & Shop Fitting Equipment\, and more. Gain valuable insights from industry leaders through in-person and virtual content\, fostering meaningful peer-to-peer networking that drives success. \n\nKey Details: April 20–22\, 2026\, 9:00 AM–5:00 PM\nLocation: New York Hilton Midtown\nAddress: 1335 Avenue of the Americas\, New York\, NY 10019\, United States\nMore Information\n\nIndustries & Audience: Marketing & Selling\, Internet & Intranet\, Retail & Shop Fitting Equipment\, Logistics & Transportation Engineering\, Public Relations & Advertising. \nVenue & Location\nJoin us at the New York Hilton Midtown\, located at 1335 Avenue of the Americas\, New York\, NY 10019\, United States. This central venue provides excellent logistics for move-in and dock access\, ensuring a smooth experience for all exhibitors. \nNew York NY: Our Services\nWe DESIGN\, PRODUCE\, INSTALL & DISMANTLE turnkey booth rentals in New York NY. Our comprehensive approach covers concept/design\, modular frames\, branded SEG graphics\, reception/storage\, TV mounts\, and on-site installation & dismantling services\, making your participation stress-free. \nCustom Booth Models\nExplore our popular booth sizes ideal for attendees in various sectors\, such as: \n\n10×10 Booths: Perfect for startups and smaller brands aiming to make a significant impact.\n10×20 Booths: Ideal for mid-sized companies looking to attract more foot traffic while retaining a manageable space.\n20×20 Booths: Best for larger brands that need to showcase extensive products and engage with more attendees\, fitting seamlessly into the event’s dynamic atmosphere.\n\nFor more options\, check out Snap Exhibitions Custom Booth Models and visit our full-service exhibit support. To start planning your booth\, contact our team today! \nFAQ\n\nWhat is included in the COMMERCENEXT 2026 booth rental?\nWhat are the event hours and dates for COMMERCENEXT 2026? The event takes place from April 20–22\, 2026\, from 9:00 AM to 5:00 PM.\nWhat booth sizes are recommended for Marketing & Selling sectors? Popular choices include 10×10\, 10×20\, and 20×20 sizes\, each catering to different brand sizes and goals.\nWhy is an aluminum booth better than wood? Aluminum booths are lighter\, more durable\, and easier to transport\, providing a modern look and flexibility for custom designs.\nWhat can you tell me about New York City? New York is a vibrant metropolis known for its diverse culture\, making it an ideal location for events like COMMERCENEXT.\nHow can SNAP EXHIBITIONS help ensure everything is perfect for our booth? We manage every aspect\, from design to execution\, ensuring a seamless experience.\n\nFor the best experience at COMMERCENEXT 2026\, consider a COMMERCENEXT 2026 booth rental! Contact us today and let us help you achieve your exhibition goals. Visit our team for assistance.
URL:https://jck2026.com/event/commercenext-2026/
CATEGORIES:Decision Helping Tools & Management Services,Internet & Intranet,Logistics & Transportation Engineering - Handling Operations - Storage,Marketing & Selling,Public Relations & Advertising,Retail & Shop Fitting Equipment & Service
END:VEVENT
END:VCALENDAR