BEGIN:VCALENDAR
VERSION:2.0
PRODID:-//JCK 2026 Las Vegas — Local Booth Builder &amp; Rentals - ECPv6.15.13.1//NONSGML v1.0//EN
CALSCALE:GREGORIAN
METHOD:PUBLISH
X-ORIGINAL-URL:https://jck2026.com
X-WR-CALDESC:Events for JCK 2026 Las Vegas — Local Booth Builder &amp; Rentals
REFRESH-INTERVAL;VALUE=DURATION:PT1H
X-Robots-Tag:noindex
X-PUBLISHED-TTL:PT1H
BEGIN:VTIMEZONE
TZID:UTC
BEGIN:STANDARD
TZOFFSETFROM:+0000
TZOFFSETTO:+0000
TZNAME:UTC
DTSTART:20250101T000000
END:STANDARD
END:VTIMEZONE
BEGIN:VEVENT
DTSTART;TZID=UTC:20260708T090000
DTEND;TZID=UTC:20260712T235959
DTSTAMP:20260420T223859
CREATED:20251025T191420Z
LAST-MODIFIED:20251025T191420Z
UID:26259-1783501200-1783900799@jck2026.com
SUMMARY:ANNUAL ART FESTIVAL 2026
DESCRIPTION:ANNUAL ART FESTIVAL 2026 Booth Rental — Premium Exhibitor Guide & Custom Booth Options\nAbout ANNUAL ART FESTIVAL 2026\nVenue & Location\nPenn State University Campus: Our Services\nCustom Booth Models\nFAQ\nAbout ANNUAL ART FESTIVAL 2026\nANNUAL ART FESTIVAL 2026 booth rental gives exhibitors the chance to showcase their artistry at a premier event in Penn State University Campus. Join us to connect with an enthusiastic audience that encompasses a variety of sectors\, including Handicraft Products\, Art and Antiques\, Music\, Decoration\, Home & Office Design\, and Furniture. Visitors can expect an engaging experience filled with fine arts\, paintings\, sculptures\, literary crafts\, and unique jewelry. Expect live music\, fun games\, and thrilling art competitions during this vibrant festival. \n\nKey Details: Apr 4–6\, 2026\, 10:00 AM–6:00 PM\nLocation: Penn State University Campus\, Old Main State College\, PA 16801\, United States\nWebsite: Visit the Festival\n\nThe festival draws a diverse crowd interested in art and culture\, ensuring exhibitors have a meaningful impact. It’s an opportunity to engage with patrons and share your creativity. \nVenue & Location\nThe ANNUAL ART FESTIVAL takes place at Penn State University Campus\, located at Old Main State College\, PA 16801. This venue is equipped to accommodate various setups and offers ample accessibility for all visitors. While specifics about move-in windows and dock access are not provided\, we anticipate a smooth experience for our exhibitors. \nPenn State University Campus: Our Services\nWe DESIGN\, PRODUCE\, INSTALL & DISMANTLE turnkey booth rentals in Pennsylvania. Our offerings include concept and design services\, modular frame setups\, and branded SEG graphics\, ensuring your exhibit stands out. Additional features like reception/storage areas and TV mounts can be incorporated to meet your unique needs. \nCustom Booth Models\nOur popular footprints\, such as 10×10\, 10×20\, and 20×20 booth rentals\, are versatile solutions catering to diverse exhibitors in the art and handicraft sectors. The 10×10 model is an efficient space for showcasing a focused display\, while the 10×20 and 20×20 options allow for more elaborate setups\, ideal for showcasing larger works or multiple artists. Explore our Snap Exhibitions Custom Booth Models for innovative designs. \nWe provide full-service exhibit support\, ensuring every detail is attended to and our clients experience seamless execution throughout the festival. \nFor personalized assistance and to secure your exhibit space\, contact our team today! \nFAQ\n\nWhat is the ANNUAL ART FESTIVAL 2026 booth rental?\nThe ANNUAL ART FESTIVAL 2026 booth rental enables exhibitors to showcase their art and craft in a premium venue at Penn State University Campus.\nWhen does the festival take place?\nThe festival runs from April 4–6\, 2026\, with hours from 10:00 AM to 6:00 PM.\nWhat booth sizes are recommended for art and craft displays?\nWe recommend booth sizes of 10×10 or 10×20 for artisans showcasing smaller works\, while a 20×20 booth is ideal for larger installations or multiple works.\nWhy choose aluminum booths over wood?\nAluminum booths are lighter\, more sustainable\, and provide a modern aesthetic compared to traditional wood booths\, allowing for more creative designs.\nWhat can I expect at the ANNUAL ART FESTIVAL 2026?\nExpect an engaging environment featuring live music\, competitive art displays\, and a chance to network with fellow artists and buyers.\nWhy should I exhibit at Penn State University Campus?\nThe campus attracts a large and diverse audience\, making it a prime location for reaching art lovers and potential customers.\nHow can SNAP EXHIBITIONS assist in making my booth perfect?\nWe offer comprehensive support to ensure your booth is designed\, built\, and executed flawlessly. Our turnkey solutions simplify the exhibitor experience.\n\nIn conclusion\, securing your ANNUAL ART FESTIVAL 2026 booth rental ensures you make a lasting impression at this vibrant event. Don’t miss this opportunity—contact our team now to get started!
URL:https://jck2026.com/event/annual-art-festival-2026/
CATEGORIES:Art and Antiques,Collectors - Hobby,Decoration,Furniture,Handicraft Products,Home & Office Design,Lighting,Music
END:VEVENT
END:VCALENDAR