BEGIN:VCALENDAR
VERSION:2.0
PRODID:-//JCK 2026 Las Vegas — Local Booth Builder &amp; Rentals - ECPv6.15.13.1//NONSGML v1.0//EN
CALSCALE:GREGORIAN
METHOD:PUBLISH
X-WR-CALNAME:JCK 2026 Las Vegas — Local Booth Builder &amp; Rentals
X-ORIGINAL-URL:https://jck2026.com
X-WR-CALDESC:Events for JCK 2026 Las Vegas — Local Booth Builder &amp; Rentals
REFRESH-INTERVAL;VALUE=DURATION:PT1H
X-Robots-Tag:noindex
X-PUBLISHED-TTL:PT1H
BEGIN:VTIMEZONE
TZID:UTC
BEGIN:STANDARD
TZOFFSETFROM:+0000
TZOFFSETTO:+0000
TZNAME:UTC
DTSTART:20250101T000000
END:STANDARD
END:VTIMEZONE
BEGIN:VEVENT
DTSTART;TZID=UTC:20260714T090000
DTEND;TZID=UTC:20260717T235959
DTSTAMP:20260420T224356
CREATED:20251025T181409Z
LAST-MODIFIED:20251025T181409Z
UID:26222-1784019600-1784332799@jck2026.com
SUMMARY:ICAST 2026
DESCRIPTION:ICAST 2026 booth rental — Impactful Exhibitor Guide & Custom Booth Options\nAbout ICAST 2026\nVenue & Location\nOrlando FL: Our Services\nCustom Booth Models\nFAQ\nICAST 2026: The Ultimate Destination for Anglers\nICAST 2026 booth rental is your gateway to maximizing visibility at this premier event focused on the hunting and fishing industry. This unique gathering attracts manufacturers and dealers who target anglers\, making it ideal for showcasing innovative products. Visitors can expect to see cutting-edge gear\, learn from industry experts\, and network with key players in the outdoor sports market. \nKey Details: \n\nDate: Jan 24–26\, 2026\, 9:00 AM–5:00 PM\nLocation: Orange County Convention Center\nAddress: 9800 International Drive\, Orlando\, FL 32819-8199\nCountry: United States\n\nExplore more about the event at ICAST official website. Industries & Audience: Hunting & Fishing\, Sports. \nVenue & Location\nJoin us at the Orange County Convention Center located at 9800 International Drive\, Orlando\, FL 32819-8199\, United States. The venue offers excellent access for exhibitors with logistics to facilitate easy move-in and dock access. \nOrlando FL: Our Services\nWe DESIGN\, PRODUCE\, INSTALL & DISMANTLE turnkey booth rentals in Orlando FL. Our services include concept and design\, modular frames\, branded SEG graphics\, reception and storage areas\, TV mounts\, and on-site installation and dismantling. We ensure that your booth is ready\, allowing you to focus on engaging with your audience. \nPopular Booth Models\nOur Snap Exhibitions Custom Booth Models are available in various popular footprints: \n\n10×10: Perfect for newcomers wanting to create a buzz without overwhelming costs.\n10×20: Ideal for brands seeking more space for products while maintaining an inviting presence.\n20×20: Best suited for established companies looking to showcase a wider array of offerings.\n\nEach model fits savvily within the hunting and fishing sectors\, ensuring you attract the right audience at ICAST 2026. \nFor more information about comprehensive support\, visit our full-service exhibit support. \nIf you’re ready to make a statement at ICAST 2026\, contact our team today! \nFAQ\n\nWhat is ICAST 2026 booth rental?\nA: ICAST 2026 booth rental allows companies to showcase their products at the leading trade show in the hunting and fishing industry.\nWhat are the dates and hours for ICAST 2026?\nA: ICAST 2026 runs from January 24 to 26\, 2026\, with hours from 9:00 AM to 5:00 PM.\nWhat booth sizes are recommended for the hunting and fishing sectors?\nA: Popular options include 10×10 for newcomers\, 10×20 for brands with more display needs\, and 20×20 for well-established companies.\nWhy is an aluminum booth better than wood?\nA: Aluminum booths are lightweight\, durable\, and offer a modern appearance\, making them easier to install and more cost-effective in the long run.\nWhat should I expect at ICAST in Orlando?\nA: Attendees can expect to see new product launches\, network with industry leaders\, and gain valuable insights into the latest trends.\nHow can SNAP EXHIBITIONS help me make everything perfect about my booth?\nA: We provide turnkey solutions\, handling everything from design to installation\, ensuring your focus is solely on attracting visitors.\n\nIn conclusion\, ICAST 2026 booth rental opens doors for exceptional visibility at the event. For a seamless experience\, contact our team today.
URL:https://jck2026.com/event/icast-2026/
CATEGORIES:Hunting & Fishing,Sports
END:VEVENT
BEGIN:VEVENT
DTSTART;TZID=UTC:20260716T090000
DTEND;TZID=UTC:20260718T235959
DTSTAMP:20260420T224356
CREATED:20251024T085048Z
LAST-MODIFIED:20251024T085048Z
UID:25824-1784192400-1784419199@jck2026.com
SUMMARY:RDH UNDER ONE ROOF 2026
DESCRIPTION:RDH UNDER ONE ROOF 2026 booth rental — Ultimate Exhibitor Guide & Custom Booth Options\nAbout RDH UNDER ONE ROOF 2026\nVenue & Location\nNational Harbor MD: Our Services\nCustom Booth Models\nFAQ\nAbout RDH UNDER ONE ROOF 2026\nRDH UNDER ONE ROOF 2026 booth rental is designed for exhibitors targeting the dental hygiene market. This event is ideally located at the Gaylord National Resort and Convention Center\, paving the way for face-to-face interactions that nurture business relationships. The expo is crucial for professionals looking to engage their audiences effectively and display cutting-edge products. Visitors will gain insights into industry trends and innovations. \nKey Details:May 20–22\, 2026\, 9:00 AM–5:00 PMGaylord National Resort and Convention Center201 Waterfront Street\, National Harbor\, MD 20745\, United StatesVisit Event Website \nThe event caters to sectors including Stomatology – Dentistry\, Health Professionals\, Equipments & Technologies for Medical and Surgery\, Laboratory Equipment & Technologies. \nVenue & Location\nThe Gaylord National Resort and Convention Center in National Harbor\, MD provides excellent amenities for exhibitors. The venue offers convenient logistics with ample space for move-in and setup\, ensuring optimal access for all exhibitors. Event organizers have ensured a well-structured layout for seamless navigation and interaction. \nNational Harbor MD: Our Services\nIn National Harbor MD\, we DESIGN\, PRODUCE\, INSTALL & DISMANTLE turnkey booth rentals. Our scope includes concept/design\, modular frames\, branded SEG graphics\, reception/storage\, and TV mount solutions. We ensure your booth stands out and meets your specific needs. \nCustom Booth Models\nExplore our Snap Exhibitions Custom Booth Models. Popular booth sizes like 10×10\, 10×20\, and 20×20 are available\, tailored for exhibitors in the health sectors. Each model accommodates the necessary space for professional presentations while guaranteeing an impactful visitor experience. \nWe provide full-service exhibit support to optimize your exhibition efforts. \nFAQ\nWhat is the RDH UNDER ONE ROOF 2026 booth rental?\nRDH UNDER ONE ROOF 2026 booth rental provides exhibitors with a complete setup for engaging participants in the dental hygiene sector. \nWhat are the event hours and dates for RDH UNDER ONE ROOF 2026?\nThe event runs from May 20 to 22\, 2026\, from 9:00 AM to 5:00 PM. \nWhat booth sizes are recommended for the dental hygiene sector?\nSizes like 10×10 and 10×20 are often recommended for smaller spaces\, while 20×20 works well for larger exhibits where more engagement is desired. \nWhy is an aluminum booth better than wood?\nAluminum booths offer lighter weight\, easier transport\, and flexible designs compared to wood\, resulting in a more efficient installation experience. \nWhat services can I expect in National Harbor MD?\nNational Harbor MD features a wide array of services for exhibitors\, including logistics support and a dedicated team to help with setups. \nWhat is the best way to make everything perfect about my booth?\nWe offer comprehensive solutions to ensure your booth is perfectly tailored; contact our team to discuss your specific requirements. \nTo ensure a successful presence at the RDH UNDER ONE ROOF 2026 booth rental event\, reach out to us. We are here to assist you in maximizing your exhibition impact. Contact our team for personalized assistance today!
URL:https://jck2026.com/event/rdh-under-one-roof-2026/
CATEGORIES:Equipments & Technologies for Medical and Surgery,Health Professionals,Laboratory Equipment & Technologies,Stomatology - Dentistry
END:VEVENT
END:VCALENDAR