BEGIN:VCALENDAR
VERSION:2.0
PRODID:-//JCK 2026 Las Vegas — Local Booth Builder &amp; Rentals - ECPv6.15.13.1//NONSGML v1.0//EN
CALSCALE:GREGORIAN
METHOD:PUBLISH
X-WR-CALNAME:JCK 2026 Las Vegas — Local Booth Builder &amp; Rentals
X-ORIGINAL-URL:https://jck2026.com
X-WR-CALDESC:Events for JCK 2026 Las Vegas — Local Booth Builder &amp; Rentals
REFRESH-INTERVAL;VALUE=DURATION:PT1H
X-Robots-Tag:noindex
X-PUBLISHED-TTL:PT1H
BEGIN:VTIMEZONE
TZID:UTC
BEGIN:STANDARD
TZOFFSETFROM:+0000
TZOFFSETTO:+0000
TZNAME:UTC
DTSTART:20250101T000000
END:STANDARD
END:VTIMEZONE
BEGIN:VEVENT
DTSTART;TZID=UTC:20260721T090000
DTEND;TZID=UTC:20260723T235959
DTSTAMP:20260420T223215
CREATED:20251025T162718Z
LAST-MODIFIED:20251025T162718Z
UID:26078-1784624400-1784851199@jck2026.com
SUMMARY:ASI SHOW CHICAGO 2026
DESCRIPTION:ASI SHOW CHICAGO 2026 booth rental — Ultimate Exhibitor Guide & Custom Booth Options\n#show\n#venue\n#city-services\n#booth-models\n#faq\n\nASI SHOW CHICAGO 2026 — About the Event\nASI SHOW CHICAGO 2026 booth rental is essential for exhibitors looking to maximize their outreach in the advertising sector. This regional networking event and exhibition caters to industry professionals\, suppliers\, decorators\, and distributors. Attendees will benefit from unparalleled networking opportunities and a chance to showcase their products to a focused audience. \nJoin us at McCormick Place Convention Center from Mar 12–14\, 2026\, 9:00 AM–5:00 PM\, Chicago\, Illinois\, United States. For more details\, visit the official website. \n\nKey Details:\nDate: Mar 12–14\, 2026\nLocation: McCormick Place Convention Center\nAddress: 2301 S. Lake Shore Drive\, Chicago\, Illinois 60616\, USA\n\nIndustries & Audience: Public Relations & Advertising\, Marketing & Selling \n\n\nVenue & Location\nThe event will be held at McCormick Place Convention Center\, 2301 S. Lake Shore Drive\, Chicago\, Illinois\, United States. The venue offers convenient access and ample logistics support for exhibitors\, including move-in windows and dock access. \n\n\nASI SHOW CHICAGO 2026 booth rental: Our Services\nIn Chicago\, we DESIGN\, PRODUCE\, INSTALL & DISMANTLE turnkey booth rentals. Our services encompass concept design\, modular frames\, branded SEG graphics\, storage solutions\, and on-site installation and dismantling. Our focus is to ensure your participation is seamless and impactful. \n\n\nPopular Booth Models for ASI SHOW CHICAGO 2026\nOur popular booth footprints include: \n\n10×10: Ideal for small exhibitors looking to maximize impact in limited space.\n10×20: Recommended for mid-sized businesses with more display space needs.\n20×20: Perfect for larger companies aiming to make a significant statement.\n\nThese options cater specifically to the Public Relations & Advertising\, Marketing & Selling sectors\, providing a balance of visibility and engagement. \nExplore our Snap Exhibitions Custom Booth Models for tailored solutions. \nFor comprehensive support\, our assets are backed by full-service exhibit support. \nContact our team for more information. \n\n\nFrequently Asked Questions\nWhat is ASI SHOW CHICAGO 2026 booth rental?\nASI SHOW CHICAGO 2026 booth rental refers to the process of securing space for exhibiting at the ASI SHOW\, allowing brands to showcase their offerings. \nWhen is the ASI SHOW CHICAGO 2026?\nThe event is scheduled from Mar 12–14\, 2026\, 9:00 AM–5:00 PM. \nWhat are the recommended booth sizes for marketing professionals?\nTypically\, we suggest 10×10 for startups\, 10×20 for medium firms\, and 20×20 for larger brands. \nWhy is an aluminum booth better than wood?\nAluminum offers greater durability\, lower weight\, and enhanced design flexibility compared to traditional wood structures. \nWhat services does Chicago offer for exhibitors?\nIn Chicago\, the logistics are well-structured with easy access to suppliers\, making it conducive for exhibitor success. \nHow can SNAP EXHIBITIONS help me make everything perfect about my booth?\nWe provide end-to-end solutions for your booth\, ensuring a successful and impactful exhibition experience. \n\nStay ahead in the advertising industry. Secure your ASI SHOW CHICAGO 2026 booth rental today and let us help you create an unforgettable presence. Contact us now!
URL:https://jck2026.com/event/asi-show-chicago-2026/
CATEGORIES:Marketing & Selling,Public Relations & Advertising
END:VEVENT
END:VCALENDAR